{"text_format":"1","workbook":"xlsx","n_sheets":2,"sheets":["Option Profit Calculator","Lists"],"not_rendered":{"charts":1,"images":1,"macros":1,"external_links":0,"defined_names":21,"comments":2,"pivot_tables":0},"unopened":[],"bounds":{"document_bytes":16777216,"sheet_cells":100000,"rows_first":2000,"rows_last":500,"rows_between":2000,"halvings":0,"cell_chars":16384,"cell_head_chars":4096},"cells_cut":0,"cells_raw":0,"read":"whole","date_system":"1900"}

{"sheet":"Option Profit Calculator","index":0,"n_rows":3486,"n_cols":52,"rows_kept":1125,"cut":true,"hidden":false,"merged":[[1,8,3,17],[18,9,18,10]],"bounds":{"rows_first":500,"rows_last":125,"rows_between":500,"halvings":2}}
[]
[null,null,null,null,null,null,null,null,"Option Strategy Template"]
[]
[]
[]
[]
[null,null,null,null,null,"Enter symbol here >> ",null,"MSFT"]
[null,null,null,null,null,"Current Price >>",null,{"$f":"_xll.Last(symbol)","v":137.79},"* Use =qm_StreamLast for Real Time Streaming Prices"]
[null,null,null,null,null,null,null,null,null,null,"last","ask","bid",null,"contractvolume",null,null,"delta","gamma","theta","rho"]
[null,null,null,null,"Legs","Expiry Date","Strike","Direction","Position","Instrument","Last","Ask","Bid","Limit Order Price","Spread","Volume","Units*","Investment",null,"Amount Invested","Expected Direction","Value at Expiry","Profit/Loss","Option Excercised?"]
[null,"Pre-defined Strategies",null,null,null,null,null,null,"Buy","Stock",{"$f":"_xll.Last(symbol)","v":137.79},{"$f":"_xll.Ask(symbol)","v":137.6},{"$f":"_xll.Bid(symbol)","v":137.56},null,{"$f":"IFERROR(L11-M11,\"\")","v":3.9999999999992042E-2},{"$f":"_xll.Volume(symbol)","v":23713561},null,{"$f":"IF($N11=\"\",IF(I11=\"Buy\",-1*L11*Q11*1,IF(I11=\"Sell\",M11*1*Q11*1,0)),S11)","v":0},{"$f":"IF(I11=\"Buy\",-1*N11*Q11*1,IF(I11=\"Sell\",N11*1*Q11*1,0))","v":0},{"$f":"IF(R11<0,R11,R11*-1)","v":0},{"$f":"IFERROR(VLOOKUP(H11&I11,Lists!$S$6:$T$9,2,0),\"\")","v":""},{"$f":"IF(IF(X11=FALSE,0,$K$20-$G11)<0,IF(X11=FALSE,0,$K$20-$G11)*-1,IF(X11=FALSE,0,$K$20-$G11))*$Q11","v":0},{"$f":"V11+T11","v":0},{"$f":"IF(AND(U11=\"Long\",$K$20>$G11),TRUE,IF(AND(U11=\"Short\",$K$20<=$G11),TRUE,FALSE))","v":false},{"$f":"setChartAxis(\"Option Profit Calculator\",\"Chart 9\",\"Min\",\"X\",\"Primary\",MIN($AY$26:$AY$5000))","v":"X Primary Min: 125"}]
[null,"Type","Bullish",null,1,null,null,null,"Buy",{"$f":"\"@\"&LEFT(symbol&\"      \",6)&RIGHT(YEAR(F12),2)&IF(LEN(MONTH(F12))=1,\"0\"&MONTH(F12),MONTH(F12))&     IF(LEN(DAY(F12))=1,\"0\"&DAY(F12),DAY(F12))      &LEFT(H12,1)&LEFT(\"00\"&INT(G12),5)&IF(G12-INT(G12)=0,\"000\",LEFT(RIGHT(G12-INT(G12)&\"00\",6)*1000000,3))","v":"@MSFT  000100000000"},{"$f":"IFERROR(VLOOKUP($J12,Table1[[#All],[symbolstring]:[vega]],MATCH(K$9,Table1[#Headers],0)-1,0),\"\")","v":""},{"$f":"IFERROR(VLOOKUP($J12,Table1[[#All],[symbolstring]:[vega]],MATCH(L$9,Table1[#Headers],0)-1,0),\"\")","v":""},{"$f":"IFERROR(VLOOKUP($J12,Table1[[#All],[symbolstring]:[vega]],MATCH(M$9,Table1[#Headers],0)-1,0),\"\")","v":""},null,"",{"$f":"IFERROR(VLOOKUP($J12,Table1[[#All],[symbolstring]:[vega]],MATCH(O$9,Table1[#Headers],0)-1,0),\"\")","v":""},null,{"$f":"IFERROR(IF($N12=\"\",IF(I12=\"Buy\",-1*L12*Q12*100,IF(I12=\"Sell\",M12*1*Q12*100,0)),S12),\"\")","v":""},{"$f":"IF(I12=\"Buy\",-1*N12*Q12*100,IF(I12=\"Sell\",N12*1*Q12*100,0))","v":0},{"$error":"#VALUE!"},{"$f":"IFERROR(VLOOKUP(H12&I12,Lists!$S$6:$T$9,2,0),\"\")","v":""},{"$f":"IF(IF(X12=FALSE,0,$K$20-$G12)<0,IF(X12=FALSE,0,$K$20-$G12)*-1,IF(X12=FALSE,0,$K$20-$G12))*100*$Q12","v":0},{"$f":"V12+T12","v":{"$error":"#VALUE!"}},false,{"$f":"setChartAxis(\"Option Profit Calculator\",\"Chart 9\",\"Min\",\"Value\",\"Y\",MIN($AZ$25:$AZ$5000))","v":"Value Y Min: 0"}]
[null,"Strategy","Long Call",null,2,null,null,null,"Sell","@MSFT  000100000000",{"$f":"IFERROR(VLOOKUP($J13,Table1[[#All],[symbolstring]:[vega]],MATCH(K$9,Table1[#Headers],0)-1,0),\"\")","v":""},{"$f":"IFERROR(VLOOKUP($J13,Table1[[#All],[symbolstring]:[vega]],MATCH(L$9,Table1[#Headers],0)-1,0),\"\")","v":""},{"$f":"IFERROR(VLOOKUP($J13,Table1[[#All],[symbolstring]:[vega]],MATCH(M$9,Table1[#Headers],0)-1,0),\"\")","v":""},null,"",{"$f":"IFERROR(VLOOKUP($J13,Table1[[#All],[symbolstring]:[vega]],MATCH(O$9,Table1[#Headers],0)-1,0),\"\")","v":""},null,{"$f":"IFERROR(IF($N13=\"\",IF(I13=\"Buy\",-1*L13*Q13*100,IF(I13=\"Sell\",M13*1*Q13*100,0)),S13),\"\")","v":""},{"$f":"IF(I13=\"Buy\",-1*N13*Q13*100,IF(I13=\"Sell\",N13*1*Q13*100,0))","v":0},{"$error":"#VALUE!"},{"$f":"IFERROR(VLOOKUP(H13&I13,Lists!$S$6:$T$9,2,0),\"\")","v":""},0,{"$f":"V13+T13","v":{"$error":"#VALUE!"}},false,{"$f":"setChartAxis(\"Option Profit Calculator\",\"Chart 9\",\"Max\",\"X\",\"Primary\",MAX($AY$26:$AY$5000))","v":"X Primary Max: 150"}]
[null,"Strikes",5,null,3,null,null,null,null,"@MSFT  000100000000",{"$f":"IFERROR(VLOOKUP($J14,Table1[[#All],[symbolstring]:[vega]],MATCH(K$9,Table1[#Headers],0)-1,0),\"\")","v":""},{"$f":"IFERROR(VLOOKUP($J14,Table1[[#All],[symbolstring]:[vega]],MATCH(L$9,Table1[#Headers],0)-1,0),\"\")","v":""},{"$f":"IFERROR(VLOOKUP($J14,Table1[[#All],[symbolstring]:[vega]],MATCH(M$9,Table1[#Headers],0)-1,0),\"\")","v":""},null,"",{"$f":"IFERROR(VLOOKUP($J14,Table1[[#All],[symbolstring]:[vega]],MATCH(O$9,Table1[#Headers],0)-1,0),\"\")","v":""},null,0,{"$f":"IF(I14=\"Buy\",-1*N14*Q14*100,IF(I14=\"Sell\",N14*1*Q14*100,0))","v":0},0,{"$f":"IFERROR(VLOOKUP(H14&I14,Lists!$S$6:$T$9,2,0),\"\")","v":""},0,0,false,{"$f":"setChartAxis(\"Option Profit Calculator\",\"Chart 9\",\"Max\",\"Value\",\"Y\",MAX($AZ$25:$AZ$5000))","v":"Value Y Max: 0"}]
[null,"Legs",1,null,4,null,null,null,null,"@MSFT  000100000000",{"$f":"IFERROR(VLOOKUP($J15,Table1[[#All],[symbolstring]:[vega]],MATCH(K$9,Table1[#Headers],0)-1,0),\"\")","v":""},{"$f":"IFERROR(VLOOKUP($J15,Table1[[#All],[symbolstring]:[vega]],MATCH(L$9,Table1[#Headers],0)-1,0),\"\")","v":""},{"$f":"IFERROR(VLOOKUP($J15,Table1[[#All],[symbolstring]:[vega]],MATCH(M$9,Table1[#Headers],0)-1,0),\"\")","v":""},null,"",{"$f":"IFERROR(VLOOKUP($J15,Table1[[#All],[symbolstring]:[vega]],MATCH(O$9,Table1[#Headers],0)-1,0),\"\")","v":""},null,0,0,0,{"$f":"IFERROR(VLOOKUP(H15&I15,Lists!$S$6:$T$9,2,0),\"\")","v":""},0,0,false,{"$f":"setChartRange(\"Option Profit Calculator\",\"Chart 9\")","v":"Done"}]
[null,null,null,null,5,null,null,null,null,"@MSFT  000100000000",{"$f":"IFERROR(VLOOKUP($J16,Table1[[#All],[symbolstring]:[vega]],MATCH(K$9,Table1[#Headers],0)-1,0),\"\")","v":""},{"$f":"IFERROR(VLOOKUP($J16,Table1[[#All],[symbolstring]:[vega]],MATCH(L$9,Table1[#Headers],0)-1,0),\"\")","v":""},{"$f":"IFERROR(VLOOKUP($J16,Table1[[#All],[symbolstring]:[vega]],MATCH(M$9,Table1[#Headers],0)-1,0),\"\")","v":""},null,"",{"$f":"IFERROR(VLOOKUP($J16,Table1[[#All],[symbolstring]:[vega]],MATCH(O$9,Table1[#Headers],0)-1,0),\"\")","v":""},null,0,0,0,{"$f":"IFERROR(VLOOKUP(H16&I16,Lists!$S$6:$T$9,2,0),\"\")","v":""},0,0,false]
[null,null,null,null,6,null,null,null,null,"@MSFT  000100000000",{"$f":"IFERROR(VLOOKUP($J17,Table1[[#All],[symbolstring]:[vega]],MATCH(K$9,Table1[#Headers],0)-1,0),\"\")","v":""},{"$f":"IFERROR(VLOOKUP($J17,Table1[[#All],[symbolstring]:[vega]],MATCH(L$9,Table1[#Headers],0)-1,0),\"\")","v":""},{"$f":"IFERROR(VLOOKUP($J17,Table1[[#All],[symbolstring]:[vega]],MATCH(M$9,Table1[#Headers],0)-1,0),\"\")","v":""},null,"",{"$f":"IFERROR(VLOOKUP($J17,Table1[[#All],[symbolstring]:[vega]],MATCH(O$9,Table1[#Headers],0)-1,0),\"\")","v":""},null,0,0,0,{"$f":"IFERROR(VLOOKUP(H17&I17,Lists!$S$6:$T$9,2,0),\"\")","v":""},0,0,false]
[null,null,null,null,null,null,null,null,null,null,null,null,null,null,null,null,"Net Investment:",{"$f":"SUM(R11:R17)","v":0},null,{"$f":"_xlfn.AGGREGATE(9,6,T11:T17)","v":0},null,null,{"$f":"_xlfn.AGGREGATE(9,6,W11:W17)","v":0},null,null,null,null,null,null,null,null,null,null,null,null,null,null,null,null,"SCENARIO AT EXPIRY DATA TABLE"]
[null,"Custom Strategies",null,null,null,null,null,null,null,"Scenario Calculation",null,null,null,null,null,null,null,null,null,null,null,null,null,null,null,null,null,null,null,null,null,null,null,null,null,null,null,null,null,{"$f":"J11","v":"Stock"},{"$f":"J11","v":"Stock"},{"$f":"J12","v":"@MSFT  000100000000"},{"$f":"J13","v":"@MSFT  000100000000"},{"$f":"J14","v":"@MSFT  000100000000"},{"$f":"J15","v":"@MSFT  000100000000"},{"$f":"J16","v":"@MSFT  000100000000"},{"$f":"J17","v":"@MSFT  000100000000"}]
[null,"Type","Strikes",null,null,null,null,null,null,"Price (At Expiry)",250,null,null,null,null,null,null,null,null,null,null,null,null,null,null,null,null,null,null,null,null,null,null,null,null,null,null,null,null,{"$f":"I10","v":"Position"},{"$f":"IF(I11=\"\",\"n/a\",I11)","v":"Buy"},{"$f":"IF(I12=\"\",\"n/a\",I12)","v":"Buy"},{"$f":"IF(I13=\"\",\"n/a\",I13)","v":"Sell"},{"$f":"IF(I14=\"\",\"n/a\",I14)","v":"n/a"},{"$f":"IF(I15=\"\",\"n/a\",I15)","v":"n/a"},{"$f":"IF(I16=\"\",\"n/a\",I16)","v":"n/a"},{"$f":"IF(I17=\"\",\"n/a\",I17)","v":"n/a"}]
[null,"Bearish",11,null,null,null,null,null,null,"Profit/Loss",{"$f":"W18","v":0},null,null,null,null,null,null,null,null,null,null,null,null,null,null,null,null,null,null,null,null,null,null,null,null,null,null,null,null,"Initial Stock Price or Option Strike",{"$f":"K11","v":137.79},{"$f":"G12","v":0},{"$f":"G13","v":0},{"$f":"G14","v":0},{"$f":"G15","v":0},{"$f":"G16","v":0},{"$f":"G17","v":0}]
[null,"Strategy",null,null,null,null,null,null,null,null,null,null,null,null,null,null,null,null,null,null,null,null,null,null,null,null,null,null,null,null,null,null,null,null,null,null,null,null,null,"Units Traded",{"$f":"Q11","v":0},{"$f":"Q12*100","v":0},{"$f":"Q13*100","v":0},{"$f":"Q14*100","v":0},{"$f":"Q15*100","v":0},{"$f":"Q16*100","v":0},{"$f":"Q17*100","v":0}]
[null,"Short + Caller"]
[null,null,null,null," ","symbolstring","datetime","last","change","changepercent","tick","open","high","low","prevclose","bid","ask","bidsize","asksize","contractvolume","lasttradedatetime","callput","expirydate","strike","openinterest","contracthigh","contractlow","type","delta","gamma","theta","rho","vega","impvol","Column30","Column31","Column32",null,null,"Stock Price at Option Expiry","Cash Flow at Expiry","Cash Flow at Expiry","Cash Flow at Expiry","Cash Flow at Expiry","Cash Flow at Expiry","Cash Flow at Expiry","Cash Flow at Expiry","Total Cash Flow at Expiry","Position Profit / (Loss) at Expiry",null,"Stock Price At Expiry","Position Profit"]
[{"$f":"N25","v":0.04},null,null,null,null,"@MSFT  190906P00125000","2019-09-01T14:41:38-04:00",0.09,0.02,28.571400000000001,1,0.04,0.1,0.04,7.0000000000000007E-2,0.04,0.08,1,18,148,"2019-08-30T15:59:15","Put","2019-09-06",125,764,2.5,3.9999999000000001E-2,"WEEK",-1.521E-2,5.7600000000000004E-3,-2.112E-2,-3.8000000000000002E-4,1.1270000000000001E-2,0.36412,null,null,null,null,null,{"$f":"VALUE(Table1[[#This Row],[strike]])","v":125},{"$f":"IF(AO$20=\"n/a\",0,IF(AO$20=\"Buy\",AN25*Q$11,AN25*-Q$11))","v":0},{"$f":"IF(AP$20=\"n/a\",0,IF(AP$20=\"Buy\",MAX(0,$AN25-AP$21),MIN(0,AP$21-$AN25)))*AP$22","v":0},0,0,0,0,0,{"$f":"_xlfn.AGGREGATE(9,6,AO25:AU25)","v":0},{"$f":"AV25+R$18","v":0},null,0,{"$f":"IFERROR(VLOOKUP(AY25,AN23:AW2504,10,0),\"\")","v":0}]
[{"$f":"N26","v":12.16},null,null,null,null,"@MSFT  190906C00125000","2019-09-01T14:41:38-04:00",12.25,1.3,11.8721,1,14.29,14.29,12.16,10.95,10.8,14.25,3,14,11,"2019-08-30T12:36:38","Call","2019-09-06",125,72,15.2399997,8.8699998799999999,"WEEK",0.99978,0,-6.7049999999999998E-2,2.332E-2,0,1.0659999999999999E-2,null,null,null,null,null,{"$f":"VALUE(Table1[[#This Row],[strike]])","v":125},0,0,0,0,0,0,0,0,0,null,{"$f":"IF(Lists!Q4=0,\"\",Lists!Q4)","v":125},0]
[0.09,null,null,null,null,"@MSFT  190906P00126000","2019-09-01T14:41:38-04:00",0.09,0.01,12.5,0,0.09,0.1,0.09,0.08,0.05,0.1,1,1,28,"2019-08-30T15:19:54","Put","2019-09-06",126,698,2.7999999500000001,7.9999998000000003E-2,"WEEK",-2.1780000000000001E-2,7.9000000000000008E-3,-2.6630000000000001E-2,-5.1999999999999995E-4,1.763E-2,0.35399999999999998,null,null,null,null,null,{"$f":"VALUE(Table1[[#This Row],[strike]])","v":126},0,0,0,0,0,0,0,0,0,null,{"$f":"IF(Lists!Q5=0,\"\",Lists!Q5)","v":126},0]
[0.06,null,null,null,null,"@MSFT  190906P00127000","2019-09-01T14:41:38-04:00",0.1,0,0,-1,0.06,0.12,0.06,0.1,0.08,0.12,1,12,38,"2019-08-30T14:32:56","Put","2019-09-06",127,327,2.5699999299999998,5.9999997999999999E-2,"WEEK",-3.8920000000000003E-2,1.2529999999999999E-2,-4.283E-2,-9.7000000000000005E-4,1.7940000000000001E-2,0.34577000000000002,null,null,null,null,null,{"$f":"VALUE(Table1[[#This Row],[strike]])","v":127},0,0,0,0,0,0,0,0,0,null,{"$f":"IF(Lists!Q6=0,\"\",Lists!Q6)","v":127},0]
[10.4,null,null,null,null,"@MSFT  190906C00127000","2019-09-01T14:41:38-04:00",10.4,-0.65,-5.8823999999999996,-1,10.4,10.4,10.4,11.05,8.8000000000000007,12.7,12,21,36,"2019-08-30T15:54:00","Call","2019-09-06",127,110,14.520000400000001,7.3899998599999996,"WEEK",0.99978,0,-6.8210000000000007E-2,2.3699999999999999E-2,0,7.2139999999999996E-2,null,null,null,null,null,{"$f":"VALUE(Table1[[#This Row],[strike]])","v":127},0,0,0,0,0,0,0,0,0,null,{"$f":"IF(Lists!Q7=0,\"\",Lists!Q7)","v":128},0]
[0.08,null,null,null,null,"@MSFT  190906P00128000","2019-09-01T14:41:38-04:00",0.1,-0.02,-16.666699999999999,0,0.09,0.17,0.08,0.12,0.05,0.14000000000000001,5,18,518,"2019-08-30T15:56:02","Put","2019-09-06",128,1479,3.5,7.9999998000000003E-2,"WEEK",-3.8039999999999997E-2,1.366E-2,-3.7560000000000003E-2,-9.5E-4,1.7780000000000001E-2,0.31125999999999998,null,null,null,null,null,{"$f":"VALUE(Table1[[#This Row],[strike]])","v":128},0,0,0,0,0,0,0,0,0,null,{"$f":"IF(Lists!Q8=0,\"\",Lists!Q8)","v":129},0]
[0.09,null,null,null,null,"@MSFT  190906P00129000","2019-09-01T14:41:38-04:00",0.13,0,0,-1,0.09,0.24,0.09,0.13,0.1,0.17,4,2,73,"2019-08-30T15:56:44","Put","2019-09-06",129,2337,3.4600000299999998,9.0000002999999995E-2,"WEEK",-6.1710000000000001E-2,1.9900000000000001E-2,-6.0220000000000003E-2,-1.57E-3,1.8270000000000002E-2,0.32745999999999997,null,null,null,null,null,{"$f":"VALUE(Table1[[#This Row],[strike]])","v":129},0,0,0,0,0,0,0,0,0,null,{"$f":"IF(Lists!Q9=0,\"\",Lists!Q9)","v":130},0]
[7.72,null,null,null,null,"@MSFT  190906C00129000","2019-09-01T14:41:38-04:00",7.72,-1.43,-15.628399999999999,-1,9.84,9.9499999999999993,7.72,9.15,7,10.9,47,7,111,"2019-08-30T11:25:44","Call","2019-09-06",129,127,9.9499998000000005,5.8000001900000004,"WEEK",0.99978,0,-6.9370000000000001E-2,2.4070000000000001E-2,0,0.10781,null,null,null,null,null,{"$f":"VALUE(Table1[[#This Row],[strike]])","v":129},0,0,0,0,0,0,0,0,0,null,{"$f":"IF(Lists!Q10=0,\"\",Lists!Q10)","v":131},0]
[0.12,null,null,null,null,"@MSFT  190906P00130000","2019-09-01T14:41:38-04:00",0.16,-0.01,-5.8823999999999996,-1,0.13,0.31,0.12,0.17,0.1,0.19,32,51,723,"2019-08-30T15:56:44","Put","2019-09-06",130,1769,4.25,0.119999997,"WEEK",-6.8309999999999996E-2,2.3519999999999999E-2,-6.1120000000000001E-2,-1.7099999999999999E-3,1.8800000000000001E-2,0.3427,null,null,null,null,null,{"$f":"VALUE(Table1[[#This Row],[strike]])","v":130},0,0,0,0,0,0,0,0,0,null,{"$f":"IF(Lists!Q11=0,\"\",Lists!Q11)","v":132},0]
[6.99,null,null,null,null,"@MSFT  190906C00130000","2019-09-01T14:41:38-04:00",7.96,-0.19,-2.3313000000000001,1,7.15,7.96,6.99,8.15,7.65,9,45,41,33,"2019-08-30T15:57:28","Call","2019-09-06",130,212,11.149999599999999,4.9499997999999996,"WEEK",0.9405,2.1950000000000001E-2,-0.12014,2.2710000000000001E-2,1.805E-2,0.35835,null,null,null,null,null,{"$f":"Table1[[#This Row],[strike]]","v":130},0,0,0,0,0,0,0,0,0,null,{"$f":"IF(Lists!Q12=0,\"\",Lists!Q12)","v":133},0]
[0.15,null,null,null,null,"@MSFT  190906P00131000","2019-09-01T14:41:38-04:00",0.21,0.02,10.526300000000001,0,0.15,0.39,0.15,0.19,0.2,0.27,1,39,1020,"2019-08-30T15:55:41","Put","2019-09-06",131,1045,4.6500000899999998,0.15000000499999999,"WEEK",-8.1460000000000005E-2,2.8979999999999999E-2,-6.5320000000000003E-2,-1.8400000000000001E-3,4.2909999999999997E-2,0.32522000000000001,null,null,null,null,null,{"$f":"Table1[[#This Row],[strike]]","v":131},0,{"$f":"IF(AP$20=\"n/a\",0,IF(AP$20=\"Buy\",MAX(0,$AN35-AP$21),MIN(0,AP$21-$AN35)))*AP$22","v":0},0,0,0,0,0,0,0,null,{"$f":"IF(Lists!Q13=0,\"\",Lists!Q13)","v":134},0]
[6,null,null,null,null,"@MSFT  190906C00131000","2019-09-01T14:41:38-04:00",6.45,-0.95,-12.8378,-1,7.09,7.09,6,7.4,6.7,7.45,1,9,66,"2019-08-30T15:54:00","Call","2019-09-06",131,185,10.199999800000001,4.1999997999999996,"WEEK",0.99907999999999997,9.3999999999999997E-4,-7.0949999999999999E-2,2.4420000000000001E-2,3.5E-4,0.12512999999999999,null,null,null,null,null,{"$f":"Table1[[#This Row],[strike]]","v":131},0,0,0,0,0,0,0,0,0,null,{"$f":"IF(Lists!Q14=0,\"\",Lists!Q14)","v":135},0]
[0.2,null,null,null,null,"@MSFT  190906P00132000","2019-09-01T14:41:38-04:00",0.27,-0.03,-10,0,0.2,0.51,0.2,0.3,0.25,0.34,4,39,516,"2019-08-30T15:56:34","Put","2019-09-06",132,1215,5.0500001900000004,0.20000000200000001,"WEEK",-7.782E-2,3.3489999999999999E-2,-5.2589999999999998E-2,-1.74E-3,4.2209999999999998E-2,0.24961,null,null,null,null,null,{"$f":"Table1[[#This Row],[strike]]","v":132},0,0,0,0,0,0,0,0,0,null,{"$f":"IF(Lists!Q15=0,\"\",Lists!Q15)","v":136},0]
[4.92,null,null,null,null,"@MSFT  190906C00132000","2019-09-01T14:41:38-04:00",6.1,-0.35,-5.4264000000000001,0,7.15,7.15,4.92,6.45,6,6.4,11,12,2512,"2019-08-30T15:59:51","Call","2019-09-06",132,1170,10.149999599999999,3.5499999500000001,"WEEK",0.95967999999999998,2.383E-2,-9.3619999999999995E-2,2.359E-2,1.6750000000000001E-2,0.25368000000000002,null,null,null,null,null,{"$f":"Table1[[#This Row],[strike]]","v":132},0,0,0,0,0,0,0,0,0,null,{"$f":"IF(Lists!Q16=0,\"\",Lists!Q16)","v":137},0]
[0.25,null,null,null,null,"@MSFT  190906P00133000","2019-09-01T14:41:38-04:00",0.37,0,0,1,0.26,0.7,0.25,0.37,0.28999999999999998,0.38,14,3,1034,"2019-08-30T15:59:21","Put","2019-09-06",133,1324,5.05999994,0.25,"WEEK",-9.6519999999999995E-2,4.3189999999999999E-2,-5.1659999999999998E-2,-2.2300000000000002E-3,4.2099999999999999E-2,0.24997,null,null,null,null,null,{"$f":"Table1[[#This Row],[strike]]","v":133},0,0,0,0,0,0,0,0,0,null,{"$f":"IF(Lists!Q17=0,\"\",Lists!Q17)","v":138},0]
[4.0999999999999996,null,null,null,null,"@MSFT  190906C00133000","2019-09-01T14:41:38-04:00",5.09,-0.31,-5.7407000000000004,1,6,6,4.0999999999999996,5.4,5.0999999999999996,5.45,12,15,88,"2019-08-30T15:59:10","Call","2019-09-06",133,540,9.1999998000000005,2.9000000899999998,"WEEK",0.93240000000000001,3.7400000000000003E-2,-0.10798000000000001,2.307E-2,2.9760000000000002E-2,0.22806000000000001,null,null,null,null,null,{"$f":"Table1[[#This Row],[strike]]","v":133},0,0,0,0,0,0,0,0,0,null,{"$f":"IF(Lists!Q18=0,\"\",Lists!Q18)","v":139},0]
[0.33,null,null,null,null,"@MSFT  190906P00134000","2019-09-01T14:41:38-04:00",0.47,-0.04,-7.8430999999999997,0,0.35,0.93,0.33,0.51,0.42,0.54,9,11,1447,"2019-08-30T15:59:28","Put","2019-09-06",134,1073,5.5,0.33000001299999998,"WEEK",-0.15353,5.96E-2,-6.9720000000000004E-2,-3.6700000000000001E-3,4.3529999999999999E-2,0.21872,null,null,null,null,null,{"$f":"Table1[[#This Row],[strike]]","v":134},0,0,0,0,0,0,0,0,0,null,{"$f":"IF(Lists!Q19=0,\"\",Lists!Q19)","v":140},0]
[3.3,null,null,null,null,"@MSFT  190906C00134000","2019-09-01T14:41:38-04:00",4.3,-0.35,-7.5269000000000004,1,5.49,5.49,3.3,4.6500000000000004,3.95,4.6500000000000004,8,11,168,"2019-08-30T15:55:46","Call","2019-09-06",134,1087,8.0500001900000004,2.3299999200000001,"WEEK",0.91979,4.9599999999999998E-2,-0.10519000000000001,2.2929999999999999E-2,4.0239999999999998E-2,0.18085000000000001,null,null,null,null,null,{"$f":"Table1[[#This Row],[strike]]","v":134},0,0,0,0,0,0,0,0,0,null,{"$f":"IF(Lists!Q20=0,\"\",Lists!Q20)","v":141},0]
[0.4,null,null,null,null,"@MSFT  190906P00135000","2019-09-01T14:41:38-04:00",0.65,0.02,3.1745999999999999,0,0.4,1.2,0.4,0.63,0.6,0.7,17,5,1560,"2019-08-30T15:59:23","Put","2019-09-06",135,1163,5.5,0.40000000499999999,"WEEK",-0.24421000000000001,7.1849999999999997E-2,-0.10956,-5.3099999999999996E-3,6.837E-2,0.21872,null,null,null,null,null,{"$f":"Table1[[#This Row],[strike]]","v":135},0,0,0,0,0,0,0,0,0,null,{"$f":"IF(Lists!Q21=0,\"\",Lists!Q21)","v":142},0]
[2.58,null,null,null,null,"@MSFT  190906C00135000","2019-09-01T14:41:38-04:00",3.41,-0.3,-8.0862999999999996,0,4.5,4.62,2.58,3.71,3.25,3.65,1,10,566,"2019-08-30T15:57:52","Call","2019-09-06",135,1388,7.30999994,1.7999999499999999,"WEEK",0.79898000000000002,7.5439999999999993E-2,-0.15312999999999999,1.9949999999999999E-2,4.4420000000000001E-2,0.21371000000000001,null,null,null,null,null,{"$f":"Table1[[#This Row],[strike]]","v":135},0,0,0,0,0,0,0,0,0,null,{"$f":"IF(Lists!Q22=0,\"\",Lists!Q22)","v":143},0]
[0.64,null,null,null,null,"@MSFT  190906P00136000","2019-09-01T14:41:38-04:00",0.85,0,0,-1,0.66,1.56,0.64,0.85,0.77,0.94,10,16,2004,"2019-08-30T15:59:59","Put","2019-09-06",136,1800,6.9699997900000001,0.63999998499999999,"WEEK",-0.32423000000000002,8.0449999999999994E-2,-0.11766,-7.2899999999999996E-3,7.0059999999999997E-2,0.20269999999999999,null,null,null,null,null,{"$f":"Table1[[#This Row],[strike]]","v":136},0,{"$f":"IF(AP$20=\"n/a\",0,IF(AP$20=\"Buy\",MAX(0,$AN45-AP$21),MIN(0,AP$21-$AN45)))*AP$22","v":0},0,0,0,0,0,0,0,null,{"$f":"IF(Lists!Q23=0,\"\",Lists!Q23)","v":144},0]
[1.92,null,null,null,null,"@MSFT  190906C00136000","2019-09-01T14:41:38-04:00",2.57,-0.41,-13.7584,-1,3.72,3.72,1.92,2.98,2.63,2.84,1,7,2262,"2019-08-30T15:58:18","Call","2019-09-06",136,1493,6.5500001900000004,1.37999999,"WEEK",0.73185,9.4289999999999999E-2,-0.15234,1.8380000000000001E-2,6.8110000000000004E-2,0.20652999999999999,null,null,null,null,null,{"$f":"Table1[[#This Row],[strike]]","v":136},0,0,0,0,0,0,0,0,0,null,{"$f":"IF(Lists!Q24=0,\"\",Lists!Q24)","v":145},0]
[0.76,null,null,null,null,"@MSFT  190906P00137000","2019-09-01T14:41:38-04:00",1.18,0.02,1.7241,1,0.76,2.0099999999999998,0.76,1.1599999999999999,1.08,1.24,1,3,1750,"2019-08-30T15:59:43","Put","2019-09-06",137,951,7.75,0.75999998999999996,"WEEK",-0.38823000000000002,0.10831,-9.7570000000000004E-2,-8.3999999999999995E-3,7.1190000000000003E-2,0.23064999999999999,null,null,null,null,null,{"$f":"Table1[[#This Row],[strike]]","v":137},0,0,0,0,0,0,0,0,0,null,{"$f":"IF(Lists!Q25=0,\"\",Lists!Q25)","v":146},0]
[1.39,null,null,null,null,"@MSFT  190906C00137000","2019-09-01T14:41:38-04:00",2.02,-0.21,-9.4169999999999998,-1,2.88,2.88,1.39,2.23,1.94,2.11,1,8,4007,"2019-08-30T15:59:53","Call","2019-09-06",137,1453,5.8899998599999996,1,"WEEK",0.64988999999999997,0.12493,-0.14163999999999999,1.644E-2,6.9879999999999998E-2,0.17560000000000001,null,null,null,null,null,{"$f":"Table1[[#This Row],[strike]]","v":137},0,0,0,0,0,0,0,0,0,null,{"$f":"IF(Lists!Q26=0,\"\",Lists!Q26)","v":147},0]
[1.08,null,null,null,null,"@MSFT  190906P00138000","2019-09-01T14:41:38-04:00",1.64,0.1,6.4935,-1,1.08,2.5299999999999998,1.08,1.54,1.51,1.66,1,2,1620,"2019-08-30T15:58:53","Put","2019-09-06",138,859,8.7399997700000007,1.0800000400000001,"WEEK",-0.49722,0.11497,-0.10249999999999999,-9.3100000000000006E-3,7.3200000000000001E-2,0.20252000000000001,null,null,null,null,null,{"$f":"Table1[[#This Row],[strike]]","v":138},0,0,0,0,0,0,0,0,0,null,{"$f":"IF(Lists!Q27=0,\"\",Lists!Q27)","v":148},0]
[0.93,null,null,null,null,"@MSFT  190906C00138000","2019-09-01T14:41:38-04:00",1.45,-0.21,-12.650600000000001,0,2.0699999999999998,2.13,0.93,1.66,1.33,1.5,1,5,6114,"2019-08-30T15:59:59","Call","2019-09-06",138,2344,4.8000001900000004,0.70999997800000003,"WEEK",0.52644000000000002,0.13406999999999999,-0.14474999999999999,1.336E-2,7.3440000000000005E-2,0.16489000000000001,null,null,null,null,null,{"$f":"Table1[[#This Row],[strike]]","v":138},0,0,0,0,0,0,0,0,0,null,{"$f":"IF(Lists!Q28=0,\"\",Lists!Q28)","v":150},0]
[1.57,null,null,null,null,"@MSFT  190906P00139000","2019-09-01T14:41:38-04:00",2.5099999999999998,0.48,23.645299999999999,1,1.57,3.1,1.57,2.0299999999999998,1.97,2.16,8,1,771,"2019-08-30T15:54:00","Put","2019-09-06",139,610,7.5100002200000002,1.57000005,"WEEK",-0.60363,0.11101999999999999,-9.1490000000000002E-2,-1.0800000000000001E-2,7.4480000000000005E-2,0.20671,null,null,null,null,null,{"$f":"Table1[[#This Row],[strike]]","v":139},0,0,0,0,0,0,0,0,0,null,{"$f":"IF(Lists!Q29=0,\"\",Lists!Q29)","v":149},0]
[0.6,null,null,null,null,"@MSFT  190906C00139000","2019-09-01T14:41:38-04:00",0.94,-0.19,-16.8142,0,1.64,1.64,0.6,1.1299999999999999,0.87,1.05,1,10,10645,"2019-08-30T15:59:52","Call","2019-09-06",139,2432,4.5,0.47999998900000002,"WEEK",0.40686,0.1176,-0.13789999999999999,1.034E-2,7.6579999999999995E-2,0.21007000000000001,null,null,null,null,null,{"$f":"Table1[[#This Row],[strike]]","v":139},0,0,0,0,0,0,0,0,0,null,{"$f":"IF(Lists!Q30=0,\"\",Lists!Q30)","v":""},""]
[2.1,null,null,null,null,"@MSFT  190906P00140000","2019-09-01T14:41:38-04:00",2.72,0.2,7.9364999999999997,1,2.16,4,2.1,2.52,2.58,2.83,1,1,655,"2019-08-30T15:57:44","Put","2019-09-06",140,1254,9.2600002200000002,2.0999998999999998,"WEEK",-0.69311,9.7439999999999999E-2,-9.1399999999999995E-2,-1.1440000000000001E-2,7.1190000000000003E-2,0.17063,null,null,null,null,null,{"$f":"Table1[[#This Row],[strike]]","v":140},0,0,0,0,0,0,0,0,0,null,{"$f":"IF(Lists!Q31=0,\"\",Lists!Q31)","v":""},""]
[0.35,null,null,null,null,"@MSFT  190906C00140000","2019-09-01T14:41:38-04:00",0.6,-0.15,-20,1,0.98,1.61,0.35,0.75,0.52,0.68,24,1,5705,"2019-08-30T15:59:59","Call","2019-09-06",140,4227,3.9700000200000001,0.33000001299999998,"WEEK",0.31187999999999999,0.10009999999999999,-0.13705000000000001,7.9299999999999995E-3,7.8609999999999999E-2,0.18972,null,null,null,null,null,{"$f":"Table1[[#This Row],[strike]]","v":140},0,0,0,0,0,0,0,0,0,null,{"$f":"IF(Lists!Q32=0,\"\",Lists!Q32)","v":""},""]
[2.84,null,null,null,null,"@MSFT  190906P00141000","2019-09-01T14:41:38-04:00",3.55,0.2,5.9701000000000004,-1,2.92,4.0999999999999996,2.84,3.35,3.35,3.7,6,15,40,"2019-08-30T15:58:46","Put","2019-09-06",141,497,10.3000001,2.83999991,"WEEK",-0.80940000000000001,9.6979999999999997E-2,-5.5289999999999999E-2,-1.072E-2,5.0299999999999997E-2,0.17063,null,null,null,null,null,{"$f":"Table1[[#This Row],[strike]]","v":141},0,{"$f":"IF(AP$20=\"n/a\",0,IF(AP$20=\"Buy\",MAX(0,$AN55-AP$21),MIN(0,AP$21-$AN55)))*AP$22","v":0},0,0,0,0,0,0,0,null,{"$f":"IF(Lists!Q33=0,\"\",Lists!Q33)","v":""},""]
[0.2,null,null,null,null,"@MSFT  190906C00141000","2019-09-01T14:41:38-04:00",0.33,-0.1,-23.255800000000001,0,0.6,1.41,0.2,0.43,0.28000000000000003,0.38,38,1,5996,"2019-08-30T15:59:43","Call","2019-09-06",141,2335,3.3800001100000001,0.20000000200000001,"WEEK",0.22419,8.4190000000000001E-2,-0.10586,5.7200000000000003E-3,5.4620000000000002E-2,0.14734,null,null,null,null,null,{"$f":"Table1[[#This Row],[strike]]","v":141},0,0,0,0,0,0,0,0,0,null,{"$f":"IF(Lists!Q34=0,\"\",Lists!Q34)","v":""},""]
[3.65,null,null,null,null,"@MSFT  190906P00142000","2019-09-01T14:41:38-04:00",4.3,0.32,8.0402000000000005,-1,3.65,5.7,3.65,3.98,4.05,4.45,16,12,21,"2019-08-30T15:59:59","Put","2019-09-06",142,306,11,3.4000000899999998,"WEEK",-1,0,0,0,0,0.13250000000000001,null,null,null,null,null,{"$f":"Table1[[#This Row],[strike]]","v":142},0,0,0,0,0,0,0,0,0,null,{"$f":"IF(Lists!Q35=0,\"\",Lists!Q35)","v":""},{"$f":"IFERROR(VLOOKUP(AY57,AN55:AW2536,10,0),\"\")","v":""}]
[0.1,null,null,null,null,"@MSFT  190906C00142000","2019-09-01T14:41:38-04:00",0.2,-7.0000000000000007E-2,-25.925899999999999,1,0.34,1.1499999999999999,0.1,0.27,0.17,0.2,1,10,806,"2019-08-30T15:59:56","Call","2019-09-06",142,2435,2.8299999200000001,0.10000000100000001,"WEEK",0.11677,6.2449999999999999E-2,-6.4490000000000006E-2,2.99E-3,5.7979999999999997E-2,0.17741000000000001,null,null,null,null,null,{"$f":"Table1[[#This Row],[strike]]","v":142},0,0,0,0,0,0,0,0,0,null,{"$f":"IF(Lists!Q36=0,\"\",Lists!Q36)","v":""},""]
[4.45,null,null,null,null,"@MSFT  190906P00143000","2019-09-01T14:41:38-04:00",6.25,1.01,19.274799999999999,0,4.6500000000000004,6.25,4.45,5.24,4.75,5.55,21,31,14,"2019-08-30T15:10:02","Put","2019-09-06",143,103,9.4499998000000005,4,"WEEK",-1,0,0,0,0,0.13250000000000001,null,null,null,null,null,{"$f":"Table1[[#This Row],[strike]]","v":143},0,0,0,0,0,0,0,0,0,null,{"$f":"IF(Lists!Q37=0,\"\",Lists!Q37)","v":""},""]
[7.0000000000000007E-2,null,null,null,null,"@MSFT  190906C00143000","2019-09-01T14:41:38-04:00",0.11,-0.02,-15.384600000000001,1,0.15,0.18,7.0000000000000007E-2,0.13,0.05,0.14000000000000001,39,39,207,"2019-08-30T15:55:23","Call","2019-09-06",143,2221,2.27999997,7.0000000000000007E-2,"WEEK",7.3580000000000007E-2,4.233E-2,-4.2450000000000002E-2,1.89E-3,2.6040000000000001E-2,0.16883000000000001,null,null,null,null,null,{"$f":"Table1[[#This Row],[strike]]","v":143},0,0,0,0,0,0,0,0,0,null,{"$f":"IF(Lists!Q38=0,\"\",Lists!Q38)","v":""},""]
[6.3,null,null,null,null,"@MSFT  190906P00144000","2019-09-01T14:41:38-04:00",6.85,1.05,18.103400000000001,1,6.3,6.85,6.3,5.8,6,6.5,14,12,12,"2019-08-30T15:37:26","Put","2019-09-06",144,32,12.6599998,4.7199997900000001,"WEEK",-1,0,0,0,0,0.13250000000000001,null,null,null,null,null,{"$f":"Table1[[#This Row],[strike]]","v":144},0,0,0,0,0,0,0,0,0,null,{"$f":"IF(Lists!Q39=0,\"\",Lists!Q39)","v":""},""]
[0.04,null,null,null,null,"@MSFT  190906C00144000","2019-09-01T14:41:38-04:00",0.04,-0.03,-42.857100000000003,-1,0.09,0.09,0.04,7.0000000000000007E-2,0.04,0.06,38,4,336,"2019-08-30T15:55:02","Call","2019-09-06",144,1412,1.77999997,3.9999999000000001E-2,"WEEK",2.7550000000000002E-2,2.0330000000000001E-2,-1.9109999999999999E-2,7.1000000000000002E-4,2.7400000000000001E-2,0.16486999999999999,null,null,null,null,null,{"$f":"Table1[[#This Row],[strike]]","v":144},0,0,0,0,0,0,0,0,0,null,{"$f":"IF(Lists!Q40=0,\"\",Lists!Q40)","v":""},""]
[8.0500000000000007,null,null,null,null,"@MSFT  190906P00145000","2019-09-01T14:41:38-04:00",8.3000000000000007,1.5,22.058800000000002,1,8.0500000000000007,8.3000000000000007,8.0500000000000007,6.8,5.55,9.35,45,21,2,"2019-08-30T15:03:16","Put","2019-09-06",145,34,13.5399999,5.3899998599999996,"WEEK",-0.90459000000000001,4.0320000000000002E-2,-5.3530000000000001E-2,-8.1099999999999992E-3,3.8690000000000002E-2,0.315,null,null,null,null,null,{"$f":"Table1[[#This Row],[strike]]","v":145},0,0,0,0,0,0,0,0,0,null,{"$f":"IF(Lists!Q41=0,\"\",Lists!Q41)","v":""},""]
[0.03,null,null,null,null,"@MSFT  190906C00145000","2019-09-01T14:41:38-04:00",0.04,0,0,0,0.05,0.05,0.03,0.04,0.03,0.06,10,39,255,"2019-08-30T15:53:14","Call","2019-09-06",145,1287,1.55999994,2.9999998999999999E-2,"WEEK",2.4459999999999999E-2,0,-1.8929999999999999E-2,6.3000000000000003E-4,1.46E-2,0.18007999999999999,null,null,null,null,null,{"$f":"Table1[[#This Row],[strike]]","v":145},0,0,0,0,0,0,0,0,0,null,{"$f":"IF(Lists!Q42=0,\"\",Lists!Q42)","v":""},""]
[0.02,null,null,null,null,"@MSFT  190906C00146000","2019-09-01T14:41:38-04:00",0.02,-0.01,-33.333300000000001,-1,0.04,0.04,0.02,0.03,null,0.03,0,30,11,"2019-08-30T11:15:20","Call","2019-09-06",146,1132,1.2200000200000001,7.0000000000000007E-2,"WEEK",1.7229999999999999E-2,0,-1.3939999999999999E-2,4.4000000000000002E-4,6.8900000000000003E-3,0.21074000000000001,null,null,null,null,null,{"$f":"Table1[[#This Row],[strike]]","v":146},0,{"$f":"IF(AP$20=\"n/a\",0,IF(AP$20=\"Buy\",MAX(0,$AN65-AP$21),MIN(0,AP$21-$AN65)))*AP$22","v":0},0,0,0,0,0,0,0,null,{"$f":"IF(Lists!Q43=0,\"\",Lists!Q43)","v":""},""]
[0.02,null,null,null,null,"@MSFT  190906C00147000","2019-09-01T14:41:38-04:00",0.02,0,0,-1,0.03,0.03,0.02,0.02,0.01,0.03,4,15,66,"2019-08-30T15:27:29","Call","2019-09-06",147,190,0.94999998799999996,1.9999999000000001E-2,"WEEK",2.4989999999999998E-2,0,-2.477E-2,6.4000000000000005E-4,2.375E-2,0.21872,null,null,null,null,null,{"$f":"Table1[[#This Row],[strike]]","v":147},0,0,0,0,0,0,0,0,0,null,{"$f":"IF(Lists!Q44=0,\"\",Lists!Q44)","v":""},""]
[9.75,null,null,null,null,"@MSFT  190906P00148000","2019-09-01T14:41:38-04:00",9.94,0.09,0.91370600000000002,1,9.75,9.94,9.75,9.85,8.5,12.55,33,5,10,"2019-08-30T10:15:13","Put","2019-09-06",148,3,10.399999599999999,9.75,"WEEK",-0.86160999999999999,2.887E-2,-0.12886,-1.3129999999999999E-2,4.922E-2,0.42469000000000001,null,null,null,null,null,{"$f":"Table1[[#This Row],[strike]]","v":148},0,0,0,0,0,0,0,0,0,null,{"$f":"IF(Lists!Q45=0,\"\",Lists!Q45)","v":""},""]
[0.01,null,null,null,null,"@MSFT  190906C00150000","2019-09-01T14:41:38-04:00",0.01,-0.01,-50,-1,0.03,0.03,0.01,0.02,0.01,0.02,3,1,24,"2019-08-30T14:01:06","Call","2019-09-06",150,510,0.41999998599999999,9.9999990000000007E-3,"WEEK",1.456E-2,0,-1.668E-2,3.6999999999999999E-4,6.5300000000000002E-3,0.26717000000000002,null,null,null,null,null,{"$f":"Table1[[#This Row],[strike]]","v":150},0,0,0,0,0,0,0,0,0,null,{"$f":"IF(Lists!Q46=0,\"\",Lists!Q46)","v":""},""]
[0.15,null,null,null,null,"@MSFT  190913P00125000","2019-09-01T14:41:38-04:00",0.23,0.02,9.5237999999999996,-1,0.15,0.28000000000000003,0.15,0.21,0.14000000000000001,0.24,38,24,64,"2019-08-30T15:58:26","Put","2019-09-13",125,3060,2.6500000899999998,0.15000000499999999,"WEEK",-5.8250000000000003E-2,1.2829999999999999E-2,-4.1329999999999999E-2,-3.0200000000000001E-3,2.478E-2,0.35366999999999998,null,null,null,null,null,{"$f":"Table1[[#This Row],[strike]]","v":125},0,0,0,0,0,0,0,0,0,null,{"$f":"IF(Lists!Q47=0,\"\",Lists!Q47)","v":""},""]
[0.23,null,null,null,null,"@MSFT  190913P00126000","2019-09-01T14:41:38-04:00",0.28000000000000003,0.01,3.7037,1,0.23,0.28000000000000003,0.23,0.27,0.21,0.28999999999999998,25,39,2,"2019-08-30T11:59:46","Put","2019-09-13",126,1927,2.4700000200000001,0.23000000400000001,"WEEK",-8.6720000000000005E-2,1.6330000000000001E-2,-6.0290000000000003E-2,-4.0899999999999999E-3,5.9240000000000001E-2,0.34581000000000001,null,null,null,null,null,{"$f":"Table1[[#This Row],[strike]]","v":126},0,0,0,0,0,0,0,0,0,null,{"$f":"IF(Lists!Q48=0,\"\",Lists!Q48)","v":""},""]
[0.27,null,null,null,null,"@MSFT  190913P00127000","2019-09-01T14:41:38-04:00",0.37,7.0000000000000007E-2,23.333300000000001,1,0.27,0.37,0.27,0.3,0.25,0.31,33,6,48,"2019-08-30T14:51:34","Put","2019-09-13",127,1912,2.30999994,0.27000001000000001,"WEEK",-7.5359999999999996E-2,1.7100000000000001E-2,-4.8140000000000002E-2,-3.46E-3,5.8259999999999999E-2,0.2928,null,null,null,null,null,{"$f":"Table1[[#This Row],[strike]]","v":127},0,0,0,0,0,0,0,0,0,null,{"$f":"IF(Lists!Q49=0,\"\",Lists!Q49)","v":""},""]
[11.21,null,null,null,null,"@MSFT  190913C00127000","2019-09-01T14:41:38-04:00",11.21,-0.51,-4.3514999999999997,-1,11.21,11.21,11.21,11.72,10.85,11.5,4,9,1,"2019-08-30T10:17:42","Call","2019-09-13",127,136,11.720000199999999,7.8499999000000003,"WEEK",0.99955000000000005,0,-6.7970000000000003E-2,4.7780000000000003E-2,0,4.9759999999999999E-2,null,null,null,null,null,{"$f":"Table1[[#This Row],[strike]]","v":127},0,0,0,0,0,0,0,0,0,null,{"$f":"IF(Lists!Q50=0,\"\",Lists!Q50)","v":""},""]
[0.25,null,null,null,null,"@MSFT  190913P00128000","2019-09-01T14:41:38-04:00",0.44,0.11,33.333300000000001,1,0.28999999999999998,0.46,0.25,0.33,0.28999999999999998,0.39,50,14,380,"2019-08-30T15:07:41","Put","2019-09-13",128,2185,3.5499999500000001,0.25,"WEEK",-6.8239999999999995E-2,1.813E-2,-3.8859999999999999E-2,-3.14E-3,4.4720000000000003E-2,0.29599999999999999,null,null,null,null,null,{"$f":"Table1[[#This Row],[strike]]","v":128},0,0,0,0,0,0,0,0,0,null,{"$f":"IF(Lists!Q51=0,\"\",Lists!Q51)","v":""},""]
[10.25,null,null,null,null,"@MSFT  190913C00128000","2019-09-01T14:41:38-04:00",10.25,-0.52,-4.8281999999999998,-1,10.25,10.25,10.25,10.77,10,10.65,10,8,1,"2019-08-30T10:17:42","Call","2019-09-13",128,35,11.6000003,7.1500000899999998,"WEEK",0.99911000000000005,4.2999999999999999E-4,-6.8729999999999999E-2,4.8129999999999999E-2,3.8000000000000002E-4,8.2809999999999995E-2,null,null,null,null,null,{"$f":"Table1[[#This Row],[strike]]","v":128},0,0,0,0,0,0,0,0,0,null,{"$f":"IF(Lists!Q52=0,\"\",Lists!Q52)","v":""},""]
[0.31,null,null,null,null,"@MSFT  190913P00129000","2019-09-01T14:41:38-04:00",0.44,0.04,10,-1,0.31,0.59,0.31,0.4,0.35,0.44,42,12,48,"2019-08-30T15:59:03","Put","2019-09-13",129,1501,3.3800001100000001,0.310000002,"WEEK",-0.11934,2.3959999999999999E-2,-6.0449999999999997E-2,-5.8300000000000001E-3,5.9670000000000001E-2,0.32081999999999999,null,null,null,null,null,{"$f":"Table1[[#This Row],[strike]]","v":129},0,{"$f":"IF(AP$20=\"n/a\",0,IF(AP$20=\"Buy\",MAX(0,$AN75-AP$21),MIN(0,AP$21-$AN75)))*AP$22","v":0},0,0,0,0,0,0,0,null,{"$f":"IF(Lists!Q53=0,\"\",Lists!Q53)","v":""},""]
[0.38,null,null,null,null,"@MSFT  190913P00130000","2019-09-01T14:41:38-04:00",0.51,0.04,8.5106000000000002,0,0.4,2.0099999999999998,0.38,0.47,0.43,0.53,13,12,243,"2019-08-30T15:58:32","Put","2019-09-13",130,1005,4.6199998799999999,0.37999999499999998,"WEEK",-0.11548,2.6839999999999999E-2,-5.0709999999999998E-2,-5.6100000000000004E-3,5.8840000000000003E-2,0.24872,null,null,null,null,null,{"$f":"Table1[[#This Row],[strike]]","v":130},0,0,0,0,0,0,0,0,0,null,{"$f":"IF(Lists!Q54=0,\"\",Lists!Q54)","v":""},""]
[7.25,null,null,null,null,"@MSFT  190913C00130000","2019-09-01T14:41:38-04:00",7.95,-0.55000000000000004,-6.4706000000000001,1,8.9,8.9,7.25,8.5,8.3000000000000007,8.6999999999999993,12,13,9,"2019-08-30T15:45:13","Call","2019-09-13",130,63,10,5.5,"WEEK",0.99955000000000005,0,-6.9699999999999998E-2,4.8910000000000002E-2,0,6.9470000000000004E-2,null,null,null,null,null,{"$f":"Table1[[#This Row],[strike]]","v":130},0,0,0,0,0,0,0,0,0,null,{"$f":"IF(Lists!Q55=0,\"\",Lists!Q55)","v":""},""]
[0.57999999999999996,null,null,null,null,"@MSFT  190913P00131000","2019-09-01T14:41:38-04:00",0.63,0.03,5,-1,0.59,0.91,0.57999999999999996,0.6,0.56999999999999995,0.64,12,2,79,"2019-08-30T15:59:03","Put","2019-09-13",131,698,4.6999997999999996,0.579999983,"WEEK",-0.14657999999999999,3.1960000000000002E-2,-5.9470000000000002E-2,-7.1599999999999997E-3,6.0229999999999999E-2,0.24729999999999999,null,null,null,null,null,{"$f":"Table1[[#This Row],[strike]]","v":131},0,0,0,0,0,0,0,0,0,null,{"$f":"IF(Lists!Q56=0,\"\",Lists!Q56)","v":""},""]
[0.56999999999999995,null,null,null,null,"@MSFT  190913P00132000","2019-09-01T14:41:38-04:00",0.92,0.24,35.2941,0,0.59,1.02,0.56999999999999995,0.68,0.67,0.81,11,19,97,"2019-08-30T14:48:48","Put","2019-09-13",132,1363,4.9299998199999999,0.56999999199999996,"WEEK",-0.15256,3.746E-2,-5.305E-2,-7.4599999999999996E-3,5.9830000000000001E-2,0.27743000000000001,null,null,null,null,null,{"$f":"Table1[[#This Row],[strike]]","v":132},0,0,0,0,0,0,0,0,0,null,{"$f":"IF(Lists!Q57=0,\"\",Lists!Q57)","v":""},""]
[5.9,null,null,null,null,"@MSFT  190913C00132000","2019-09-01T14:41:38-04:00",5.9,-1.1000000000000001,-15.7143,0,6.6,6.6,5.9,7,6.3,6.95,7,12,25,"2019-08-30T15:24:21","Call","2019-09-13",132,139,8.1499996100000001,4.1999997999999996,"WEEK",0.99536000000000002,4.7400000000000003E-3,-7.1830000000000005E-2,4.9450000000000001E-2,3.3500000000000001E-3,0.13889000000000001,null,null,null,null,null,{"$f":"Table1[[#This Row],[strike]]","v":132},0,0,0,0,0,0,0,0,0,null,{"$f":"IF(Lists!Q58=0,\"\",Lists!Q58)","v":""},""]
[0.65,null,null,null,null,"@MSFT  190913P00133000","2019-09-01T14:41:38-04:00",0.91,0.08,9.6386000000000003,1,0.68,1.63,0.65,0.83,0.86,0.93,1,1,268,"2019-08-30T15:59:59","Put","2019-09-13",133,720,5.6500000899999998,0.64999997600000003,"WEEK",-0.18748000000000001,4.4450000000000003E-2,-6.148E-2,-8.9700000000000005E-3,6.2960000000000002E-2,0.27589000000000002,null,null,null,null,null,{"$f":"Table1[[#This Row],[strike]]","v":133},0,0,0,0,0,0,0,0,0,null,{"$f":"IF(Lists!Q59=0,\"\",Lists!Q59)","v":""},""]
[5,null,null,null,null,"@MSFT  190913C00133000","2019-09-01T14:41:38-04:00",5,-1.06,-17.491700000000002,0,6.58,6.58,5,6.06,5.5,6.05,2,14,44,"2019-08-30T15:02:29","Call","2019-09-13",133,149,7.8000001900000004,3.7000000399999999,"WEEK",0.93437000000000003,3.397E-2,-8.7340000000000001E-2,4.6629999999999998E-2,5.0520000000000002E-2,0.17974000000000001,null,null,null,null,null,{"$f":"Table1[[#This Row],[strike]]","v":133},0,0,0,0,0,0,0,0,0,null,{"$f":"IF(Lists!Q60=0,\"\",Lists!Q60)","v":""},""]
[0.83,null,null,null,null,"@MSFT  190913P00134000","2019-09-01T14:41:38-04:00",1.37,0.32,30.476199999999999,0,0.86,1.6,0.83,1.05,1.06,1.1399999999999999,1,1,1457,"2019-08-30T15:21:38","Put","2019-09-13",134,394,5.8000001900000004,0.829999983,"WEEK",-0.24023,5.042E-2,-7.1110000000000007E-2,-1.0489999999999999E-2,9.4490000000000005E-2,0.27859,null,null,null,null,null,{"$f":"Table1[[#This Row],[strike]]","v":134},0,0,0,0,0,0,0,0,0,null,{"$f":"IF(Lists!Q61=0,\"\",Lists!Q61)","v":""},""]
[4.1500000000000004,null,null,null,null,"@MSFT  190913C00134000","2019-09-01T14:41:38-04:00",4.5,-0.8,-15.0943,0,5.71,5.75,4.1500000000000004,5.3,4.8,5.15,1,1,162,"2019-08-30T15:38:06","Call","2019-09-13",134,1217,6.7699999799999997,2.9200000699999999,"WEEK",0.86116000000000004,5.2819999999999999E-2,-0.1008,4.3139999999999998E-2,5.6050000000000003E-2,0.17163999999999999,null,null,null,null,null,{"$f":"Table1[[#This Row],[strike]]","v":134},0,0,0,0,0,0,0,0,0,null,{"$f":"IF(Lists!Q62=0,\"\",Lists!Q62)","v":""},""]
[0.99,null,null,null,null,"@MSFT  190913P00135000","2019-09-01T14:41:38-04:00",1.32,0.09,7.3170999999999999,0,0.99,1.92,0.99,1.23,1.27,1.38,9,3,204,"2019-08-30T15:59:41","Put","2019-09-13",135,757,6.0100002200000002,0.99000000899999996,"WEEK",-0.29620999999999997,5.4940000000000003E-2,-7.485E-2,-1.349E-2,9.6869999999999998E-2,0.24997,null,null,null,null,null,{"$f":"Table1[[#This Row],[strike]]","v":135},0,{"$f":"IF(AP$20=\"n/a\",0,IF(AP$20=\"Buy\",MAX(0,$AN85-AP$21),MIN(0,AP$21-$AN85)))*AP$22","v":0},0,0,0,0,0,0,0,null,{"$f":"IF(Lists!Q63=0,\"\",Lists!Q63)","v":""},""]
[3.4,null,null,null,null,"@MSFT  190913C00135000","2019-09-01T14:41:38-04:00",4.13,-0.33,-7.3990999999999998,-1,4.93,4.95,3.4,4.46,4.05,4.4000000000000004,1,13,500,"2019-08-30T15:58:35","Call","2019-09-13",135,610,6.0399999600000003,2.5,"WEEK",0.78742999999999996,6.4360000000000001E-2,-0.11473999999999999,3.9579999999999997E-2,9.0819999999999998E-2,0.18934999999999999,null,null,null,null,null,{"$f":"Table1[[#This Row],[strike]]","v":135},0,0,0,0,0,0,0,0,0,null,{"$f":"IF(Lists!Q64=0,\"\",Lists!Q64)","v":""},""]
[1.26,null,null,null,null,"@MSFT  190913P00136000","2019-09-01T14:41:38-04:00",1.58,0,0,0,1.37,2.3199999999999998,1.26,1.58,1.53,1.67,8,1,250,"2019-08-30T15:59:41","Put","2019-09-13",136,282,7.0999999000000003,1.2599999900000001,"WEEK",-0.33562999999999998,6.7000000000000004E-2,-6.5519999999999995E-2,-1.4970000000000001E-2,9.8159999999999997E-2,0.24997,null,null,null,null,null,{"$f":"Table1[[#This Row],[strike]]","v":136},0,0,0,0,0,0,0,0,0,null,{"$f":"IF(Lists!Q65=0,\"\",Lists!Q65)","v":""},""]
[2.8,null,null,null,null,"@MSFT  190913C00136000","2019-09-01T14:41:38-04:00",3.45,-0.3,-8,1,4.05,4.05,2.8,3.75,3.35,3.75,5,16,168,"2019-08-30T15:58:46","Call","2019-09-13",136,976,5.4499997999999996,2.05999994,"WEEK",0.70287999999999995,7.0620000000000002E-2,-0.12141,3.5400000000000001E-2,9.5699999999999993E-2,0.19420999999999999,null,null,null,null,null,{"$f":"Table1[[#This Row],[strike]]","v":136},0,0,0,0,0,0,0,0,0,null,{"$f":"IF(Lists!Q66=0,\"\",Lists!Q66)","v":""},""]
[1.46,null,null,null,null,"@MSFT  190913P00137000","2019-09-01T14:41:38-04:00",1.95,0.05,2.6316000000000002,-1,1.46,2.75,1.46,1.9,1.86,2.0299999999999998,8,1,2135,"2019-08-30T15:59:23","Put","2019-09-13",137,406,6.9099998400000002,1.46000003,"WEEK",-0.41460000000000002,6.4250000000000002E-2,-8.5999999999999993E-2,-1.763E-2,0.10174,0.25729999999999997,null,null,null,null,null,{"$f":"Table1[[#This Row],[strike]]","v":137},{"$f":"IF(AO$20=\"n/a\",0,IF(AO$20=\"Buy\",AN89*Q$11,AN89*-Q$11))","v":0},0,0,0,0,0,0,{"$f":"_xlfn.AGGREGATE(9,6,AO89:AU89)","v":0},{"$f":"AV89+R$18","v":0},null,{"$f":"IF(Lists!Q67=0,\"\",Lists!Q67)","v":""},{"$f":"IFERROR(VLOOKUP(AY89,AN87:AW2568,10,0),\"\")","v":""}]
[{"$f":"N90","v":2.19},null,null,null,null,"@MSFT  190913C00137000","2019-09-01T14:41:38-04:00",2.89,-0.11,-3.6667000000000001,1,3.53,3.53,2.19,3,2.77,2.97,10,1,989,"2019-08-30T15:59:59","Call","2019-09-13",137,1004,5,1.6499999700000001,"WEEK",0.62665999999999999,7.5840000000000005E-2,-0.12770999999999999,3.1649999999999998E-2,9.9769999999999998E-2,0.17021,null,null,null,null,null,{"$f":"Table1[[#This Row],[strike]]","v":137},0,0,0,0,0,0,0,0,0,null,{"$f":"IF(Lists!Q68=0,\"\",Lists!Q68)","v":""},""]
[1.85,null,null,null,null,"@MSFT  190913P00138000","2019-09-01T14:41:38-04:00",2.5,0.22,9.6491000000000007,-1,1.85,3.17,1.85,2.2799999999999998,2.2799999999999998,2.42,1,1,490,"2019-08-30T15:55:01","Put","2019-09-13",138,429,6.5700001700000001,1.85000002,"WEEK",-0.4773,7.9030000000000003E-2,-6.9290000000000004E-2,-1.77E-2,0.10375,0.25729999999999997,null,null,null,null,null,{"$f":"Table1[[#This Row],[strike]]","v":138},0,0,0,0,0,0,0,0,0,null,{"$f":"IF(Lists!Q69=0,\"\",Lists!Q69)","v":""},""]
[1.74,null,null,null,null,"@MSFT  190913C00138000","2019-09-01T14:41:38-04:00",2.2000000000000002,-0.21,-8.7136999999999993,-1,2.8,2.8,1.74,2.41,2.19,2.4,1,1,1590,"2019-08-30T15:59:59","Call","2019-09-13",138,712,5.0900001499999998,1.2999999499999999,"WEEK",0.56162999999999996,9.2660000000000006E-2,-0.11624,2.862E-2,0.10322000000000001,0.20419000000000001,null,null,null,null,null,{"$f":"Table1[[#This Row],[strike]]","v":138},0,0,0,0,0,0,0,0,0,null,{"$f":"IF(Lists!Q70=0,\"\",Lists!Q70)","v":""},""]
[2.2999999999999998,null,null,null,null,"@MSFT  190913P00139000","2019-09-01T14:41:38-04:00",3.18,0.53,20,-1,2.42,3.63,2.2999999999999998,2.65,2.72,2.88,1,12,64,"2019-08-30T15:43:35","Put","2019-09-13",139,330,8.5,2.2999999500000001,"WEEK",-0.55159999999999998,7.9409999999999994E-2,-6.3920000000000005E-2,-1.9640000000000001E-2,0.10567,0.20041,null,null,null,null,null,{"$f":"Table1[[#This Row],[strike]]","v":139},0,0,0,0,0,0,0,0,0,null,{"$f":"IF(Lists!Q71=0,\"\",Lists!Q71)","v":""},""]
[1.25,null,null,null,null,"@MSFT  190913C00139000","2019-09-01T14:41:38-04:00",1.75,-0.09,-4.8913000000000002,1,2.2200000000000002,2.2200000000000002,1.25,1.84,1.66,1.86,1,1,610,"2019-08-30T15:59:59","Call","2019-09-13",139,1252,4.3000001900000004,1.07000005,"WEEK",0.47458,8.6249999999999993E-2,-0.11138000000000001,2.4199999999999999E-2,0.10793999999999999,0.17277000000000001,null,null,null,null,null,{"$f":"Table1[[#This Row],[strike]]","v":139},0,0,0,0,0,0,0,0,0,null,{"$f":"IF(Lists!Q72=0,\"\",Lists!Q72)","v":""},""]
[2.9,null,null,null,null,"@MSFT  190913P00140000","2019-09-01T14:41:38-04:00",3.8,0.71,22.9773,0,2.9,4.0999999999999996,2.9,3.09,3.15,3.65,1,5,121,"2019-08-30T15:48:54","Put","2019-09-13",140,446,9.75,2.9000000899999998,"WEEK",-0.62039999999999995,7.5429999999999997E-2,-6.1589999999999999E-2,-2.12E-2,0.10692,0.20982999999999999,null,null,null,null,null,{"$f":"Table1[[#This Row],[strike]]","v":140},0,{"$f":"IF(AP$20=\"n/a\",0,IF(AP$20=\"Buy\",MAX(0,$AN95-AP$21),MIN(0,AP$21-$AN95)))*AP$22","v":0},0,0,0,0,0,0,0,null,{"$f":"IF(Lists!Q73=0,\"\",Lists!Q73)","v":""},""]
[0.9,null,null,null,null,"@MSFT  190913C00140000","2019-09-01T14:41:38-04:00",1.26,-0.19,-13.103400000000001,-1,1.88,1.88,0.9,1.45,1.23,1.35,14,1,865,"2019-08-30T15:57:52","Call","2019-09-13",140,2468,3.9500000399999999,0.80000001099999996,"WEEK",0.41173999999999999,7.0010000000000003E-2,-0.1202,2.0920000000000001E-2,0.11018,0.17229,null,null,null,null,null,{"$f":"Table1[[#This Row],[strike]]","v":140},0,0,0,0,0,0,0,0,0,null,{"$f":"IF(Lists!Q74=0,\"\",Lists!Q74)","v":""},""]
[4.05,null,null,null,null,"@MSFT  190913P00141000","2019-09-01T14:41:38-04:00",4.5,0.78,20.967700000000001,1,4.05,5.0999999999999996,4.05,3.72,3.8,4.25,1,1,30,"2019-08-30T15:54:18","Put","2019-09-13",141,84,8.6199998799999999,3.5499999500000001,"WEEK",-0.71175999999999995,7.9829999999999998E-2,-5.2810000000000003E-2,-1.9220000000000001E-2,9.8059999999999994E-2,0.23807,null,null,null,null,null,{"$f":"Table1[[#This Row],[strike]]","v":141},0,0,0,0,0,0,0,0,0,null,{"$f":"IF(Lists!Q75=0,\"\",Lists!Q75)","v":""},""]
[0.69,null,null,null,null,"@MSFT  190913C00141000","2019-09-01T14:41:38-04:00",0.89,-0.13,-12.745100000000001,-1,1.44,1.44,0.69,1.02,0.87,0.95,13,1,453,"2019-08-30T15:59:59","Call","2019-09-13",141,681,3.4000000899999998,0.579999983,"WEEK",0.30098000000000003,8.1979999999999997E-2,-8.7260000000000004E-2,1.5480000000000001E-2,7.9259999999999997E-2,0.18923999999999999,null,null,null,null,null,{"$f":"Table1[[#This Row],[strike]]","v":141},0,0,0,0,0,0,0,0,0,null,{"$f":"IF(Lists!Q76=0,\"\",Lists!Q76)","v":""},""]
[4.05,null,null,null,null,"@MSFT  190913P00142000","2019-09-01T14:41:38-04:00",4.05,-0.36,-8.1632999999999996,0,4.3,4.3,4.05,4.41,4.5,5,1,1,9,"2019-08-30T09:42:00","Put","2019-09-13",142,144,10.449999800000001,4.0500001900000004,"WEEK",-0.7823,7.5590000000000004E-2,-3.8929999999999999E-2,-1.9060000000000001E-2,7.0319999999999994E-2,0.19989000000000001,null,null,null,null,null,{"$f":"Table1[[#This Row],[strike]]","v":142},0,0,0,0,0,0,0,0,0,null,{"$f":"IF(Lists!Q77=0,\"\",Lists!Q77)","v":""},""]
[0.45,null,null,null,null,"@MSFT  190913C00142000","2019-09-01T14:41:38-04:00",0.62,-0.1,-13.8889,0,0.83,0.88,0.45,0.72,0.6,0.67,2,1,216,"2019-08-30T15:59:17","Call","2019-09-13",142,875,2.8699998799999999,0.41999998599999999,"WEEK",0.23003999999999999,6.9669999999999996E-2,-7.0919999999999997E-2,1.1860000000000001E-2,8.3479999999999999E-2,0.16431000000000001,null,null,null,null,null,{"$f":"Table1[[#This Row],[strike]]","v":142},0,0,0,0,0,0,0,0,0,null,{"$f":"IF(Lists!Q78=0,\"\",Lists!Q78)","v":""},""]
[4.6500000000000004,null,null,null,null,"@MSFT  190913P00143000","2019-09-01T14:41:38-04:00",4.6500000000000004,-0.85,-15.454499999999999,-1,4.6500000000000004,4.6500000000000004,4.6500000000000004,5.5,5.3,5.7,16,12,1,"2019-08-30T09:30:00","Put","2019-09-13",143,57,10.149999599999999,4.6500000899999998,"WEEK",-0.84879000000000004,6.54E-2,-2.6710000000000001E-2,-1.4840000000000001E-2,5.6120000000000003E-2,0.22922000000000001,null,null,null,null,null,{"$f":"Table1[[#This Row],[strike]]","v":143},0,0,0,0,0,0,0,0,0,null,{"$f":"IF(Lists!Q79=0,\"\",Lists!Q79)","v":""},""]
[0.32,null,null,null,null,"@MSFT  190913C00143000","2019-09-01T14:41:38-04:00",0.37,-0.1,-21.276599999999998,0,0.61,0.61,0.32,0.47,0.34,0.5,31,39,225,"2019-08-30T15:49:17","Call","2019-09-13",143,1814,2.4400000500000001,0.31999999200000001,"WEEK",0.16491,5.6770000000000001E-2,-5.7200000000000001E-2,8.5199999999999998E-3,8.7040000000000006E-2,0.1686,null,null,null,null,null,{"$f":"Table1[[#This Row],[strike]]","v":143},0,0,0,0,0,0,0,0,0,null,{"$f":"IF(Lists!Q80=0,\"\",Lists!Q80)","v":""},""]
[6.35,null,null,null,null,"@MSFT  190913P00144000","2019-09-01T14:41:38-04:00",6.35,-0.55000000000000004,-7.9710000000000001,-1,6.35,6.35,6.35,6.9,6.15,6.55,11,13,2,"2019-08-30T15:59:59","Put","2019-09-13",144,104,10.5500001,5.5999999000000003,"WEEK",-1,0,0,0,0,0.13250000000000001,null,null,null,null,null,{"$f":"Table1[[#This Row],[strike]]","v":144},0,0,0,0,0,0,0,0,0,null,{"$f":"IF(Lists!Q81=0,\"\",Lists!Q81)","v":""},""]
[0.22,null,null,null,null,"@MSFT  190913C00144000","2019-09-01T14:41:38-04:00",0.27,-0.03,-10,1,0.44,0.44,0.22,0.3,0.23,0.36,39,39,115,"2019-08-30T15:59:07","Call","2019-09-13",144,486,2.08999991,0.219999998,"WEEK",0.12690000000000001,4.5719999999999997E-2,-5.1740000000000001E-2,6.5599999999999999E-3,8.5940000000000003E-2,0.17107,null,null,null,null,null,{"$f":"Table1[[#This Row],[strike]]","v":144},0,0,0,0,0,0,0,0,0,null,{"$f":"IF(Lists!Q82=0,\"\",Lists!Q82)","v":""},""]
[0.14000000000000001,null,null,null,null,"@MSFT  190913C00145000","2019-09-01T14:41:38-04:00",0.17,-0.04,-19.047599999999999,-1,0.25,0.27,0.14000000000000001,0.21,0.15,0.21,12,28,253,"2019-08-30T15:59:59","Call","2019-09-13",145,943,1.6499999700000001,0.14000000000000001,"WEEK",9.8379999999999995E-2,3.6360000000000003E-2,-4.1390000000000003E-2,5.0899999999999999E-3,3.9120000000000002E-2,0.17033000000000001,null,null,null,null,null,{"$f":"Table1[[#This Row],[strike]]","v":145},0,{"$f":"IF(AP$20=\"n/a\",0,IF(AP$20=\"Buy\",MAX(0,$AN105-AP$21),MIN(0,AP$21-$AN105)))*AP$22","v":0},0,0,0,0,0,0,0,null,{"$f":"IF(Lists!Q83=0,\"\",Lists!Q83)","v":""},""]
[0.1,null,null,null,null,"@MSFT  190913C00146000","2019-09-01T14:41:38-04:00",0.11,-0.03,-21.428599999999999,0,0.1,0.11,0.1,0.14000000000000001,0.1,0.14000000000000001,8,19,53,"2019-08-30T15:43:52","Call","2019-09-13",146,762,1,0.10000000100000001,"WEEK",5.9909999999999998E-2,2.5010000000000001E-2,-2.6200000000000001E-2,3.1099999999999999E-3,4.1579999999999999E-2,0.16869999999999999,null,null,null,null,null,{"$f":"Table1[[#This Row],[strike]]","v":146},0,0,0,0,0,0,0,0,0,null,{"$f":"IF(Lists!Q84=0,\"\",Lists!Q84)","v":""},""]
[7.0000000000000007E-2,null,null,null,null,"@MSFT  190913C00147000","2019-09-01T14:41:38-04:00",7.0000000000000007E-2,-0.04,-36.363599999999998,0,0.09,0.09,7.0000000000000007E-2,0.11,0.04,0.11,39,34,74,"2019-08-30T15:45:03","Call","2019-09-13",147,77,1.02999997,7.0000000000000007E-2,"WEEK",3.1640000000000001E-2,1.553E-2,-1.6129999999999999E-2,1.65E-3,4.301E-2,0.16575000000000001,null,null,null,null,null,{"$f":"Table1[[#This Row],[strike]]","v":147},0,0,0,0,0,0,0,0,0,null,{"$f":"IF(Lists!Q85=0,\"\",Lists!Q85)","v":""},""]
[0.05,null,null,null,null,"@MSFT  190913C00148000","2019-09-01T14:41:38-04:00",0.05,-0.02,-28.571400000000001,0,0.05,0.05,0.05,7.0000000000000007E-2,0.03,0.09,29,36,9,"2019-08-30T11:11:20","Call","2019-09-13",148,622,0.60000002299999999,0.05,"WEEK",2.683E-2,0,-1.444E-2,1.4E-3,1.44E-2,0.17588000000000001,null,null,null,null,null,{"$f":"Table1[[#This Row],[strike]]","v":148},0,0,0,0,0,0,0,0,0,null,{"$f":"IF(Lists!Q86=0,\"\",Lists!Q86)","v":""},""]
[0.04,null,null,null,null,"@MSFT  190913C00149000","2019-09-01T14:41:38-04:00",0.04,-0.04,-50,0,0.04,0.04,0.04,0.08,null,0.06,0,30,2,"2019-08-30T10:21:07","Call","2019-09-13",149,150,0.5,7.9999998000000003E-2,"WEEK",2.198E-2,0,-1.2330000000000001E-2,1.14E-3,1.093E-2,0.19295999999999999,null,null,null,null,null,{"$f":"Table1[[#This Row],[strike]]","v":149},0,0,0,0,0,0,0,0,0,null,{"$f":"IF(Lists!Q87=0,\"\",Lists!Q87)","v":""},""]
[0.03,null,null,null,null,"@MSFT  190913C00150000","2019-09-01T14:41:38-04:00",0.04,0,0,1,0.03,0.04,0.03,0.04,null,0.06,0,26,9,"2019-08-30T15:36:57","Call","2019-09-13",150,145,0.56999999199999996,3.9999999000000001E-2,"WEEK",3.8219999999999997E-2,1.2919999999999999E-2,-2.3970000000000002E-2,1.97E-3,3.9669999999999997E-2,0.27093,null,null,null,null,null,{"$f":"Table1[[#This Row],[strike]]","v":150},0,0,0,0,0,0,0,0,0,null,{"$f":"IF(Lists!Q88=0,\"\",Lists!Q88)","v":""},""]
[0.28999999999999998,null,null,null,null,"@MSFT  190920P00125000","2019-09-01T14:41:38-04:00",0.42,0.02,5,1,0.28999999999999998,0.57999999999999996,0.28999999999999998,0.4,0.37,0.43,6,25,578,"2019-08-30T15:56:40","Put","2019-09-20",125,15366,11.449999800000001,0.28999999100000001,"STAN",-0.10063,1.533E-2,-4.9419999999999999E-2,-7.3800000000000003E-3,7.0610000000000006E-2,0.36559999999999998,null,null,null,null,null,{"$f":"Table1[[#This Row],[strike]]","v":125},0,0,0,0,0,0,0,0,0,null,{"$f":"IF(Lists!Q89=0,\"\",Lists!Q89)","v":""},""]
[12.25,null,null,null,null,"@MSFT  190920C00125000","2019-09-01T14:41:38-04:00",13.5,-0.23,-1.6752,1,14.4,14.4,12.25,13.73,13,13.65,1,1,49,"2019-08-30T15:59:59","Call","2019-09-20",125,33748,16.9300003,2.9000000899999998,"STAN",0.99931999999999999,0,-6.6570000000000004E-2,7.0550000000000002E-2,0,3.2349999999999997E-2,null,null,null,null,null,{"$f":"Table1[[#This Row],[strike]]","v":125},0,0,0,0,0,0,0,0,0,null,{"$f":"IF(Lists!Q90=0,\"\",Lists!Q90)","v":""},""]
[0.46,null,null,null,null,"@MSFT  190920P00126000","2019-09-01T14:41:38-04:00",0.47,0,0,0,0.46,0.65,0.46,0.47,0.41,0.54,12,1,352,"2019-08-30T15:55:46","Put","2019-09-20",126,689,1.80999994,0.46000000800000002,"STAN",-9.776E-2,1.653E-2,-4.3569999999999998E-2,-7.1199999999999996E-3,6.9870000000000002E-2,0.32446000000000003,null,null,null,null,null,{"$f":"Table1[[#This Row],[strike]]","v":126},0,0,0,0,0,0,0,0,0,null,{"$f":"IF(Lists!Q91=0,\"\",Lists!Q91)","v":""},""]
[0.44,null,null,null,null,"@MSFT  190920P00127000","2019-09-01T14:41:38-04:00",0.54,0.02,3.8462000000000001,-1,0.44,0.73,0.44,0.52,0.51,0.6,2,21,235,"2019-08-30T15:55:46","Put","2019-09-20",127,699,1.9800000099999999,0.43999999699999998,"STAN",-0.10178,1.8270000000000002E-2,-4.1029999999999997E-2,-7.43E-3,6.9580000000000003E-2,0.29481000000000002,null,null,null,null,null,{"$f":"Table1[[#This Row],[strike]]","v":127},0,0,0,0,0,0,0,0,0,null,{"$f":"IF(Lists!Q92=0,\"\",Lists!Q92)","v":""},""]
[10.55,null,null,null,null,"@MSFT  190920C00127000","2019-09-01T14:41:38-04:00",10.55,-1.25,-10.5932,-1,10.55,10.55,10.55,11.8,11.4,11.8,2,15,1,"2019-08-30T15:16:11","Call","2019-09-20",127,151,12.75,8.3999996100000001,"STAN",0.99931999999999999,0,-6.7720000000000002E-2,7.1679999999999994E-2,0,3.8739999999999997E-2,null,null,null,null,null,{"$f":"Table1[[#This Row],[strike]]","v":127},0,{"$f":"IF(AP$20=\"n/a\",0,IF(AP$20=\"Buy\",MAX(0,$AN115-AP$21),MIN(0,AP$21-$AN115)))*AP$22","v":0},0,0,0,0,0,0,0,null,{"$f":"IF(Lists!Q93=0,\"\",Lists!Q93)","v":""},""]
[0.5,null,null,null,null,"@MSFT  190920P00128000","2019-09-01T14:41:38-04:00",0.69,0.08,13.114800000000001,0,0.51,0.88,0.5,0.61,0.6,0.71,12,39,294,"2019-08-30T15:55:00","Put","2019-09-20",128,1169,2.2899999599999998,0.5,"STAN",-9.9460000000000007E-2,0.02,-3.5700000000000003E-2,-7.2300000000000003E-3,6.8599999999999994E-2,0.29835,null,null,null,null,null,{"$f":"Table1[[#This Row],[strike]]","v":128},0,0,0,0,0,0,0,0,0,null,{"$f":"IF(Lists!Q94=0,\"\",Lists!Q94)","v":""},""]
[0.59,null,null,null,null,"@MSFT  190920P00129000","2019-09-01T14:41:38-04:00",0.74,0.05,7.2464000000000004,0,0.6,0.93,0.59,0.69,0.7,0.77,12,12,272,"2019-08-30T15:59:29","Put","2019-09-20",129,440,2.5499999500000001,0.58999997299999996,"STAN",-0.11738,2.3210000000000001E-2,-3.8240000000000003E-2,-8.5299999999999994E-3,6.9629999999999997E-2,0.30417,null,null,null,null,null,{"$f":"Table1[[#This Row],[strike]]","v":129},0,0,0,0,0,0,0,0,0,null,{"$f":"IF(Lists!Q95=0,\"\",Lists!Q95)","v":""},""]
[0.64,null,null,null,null,"@MSFT  190920P00130000","2019-09-01T14:41:38-04:00",0.84,0.02,2.4390000000000001,-1,0.74,1.2,0.64,0.82,0.8,0.94,13,39,2184,"2019-08-30T15:56:40","Put","2019-09-20",130,23349,15.1000003,0.63999998499999999,"STAN",-0.16500999999999999,2.7040000000000002E-2,-5.4989999999999997E-2,-1.193E-2,7.4289999999999995E-2,0.28854999999999997,null,null,null,null,null,{"$f":"Table1[[#This Row],[strike]]","v":130},0,0,0,0,0,0,0,0,0,null,{"$f":"IF(Lists!Q96=0,\"\",Lists!Q96)","v":""},""]
[7.77,null,null,null,null,"@MSFT  190920C00130000","2019-09-01T14:41:38-04:00",8.35,-0.65,-7.2222,1,9.85,9.85,7.77,9,8.6999999999999993,9.0500000000000007,12,12,140,"2019-08-30T15:40:50","Call","2019-09-20",130,11931,12.3500003,1.7300000099999999,"STAN",0.99931999999999999,0,-6.9449999999999998E-2,7.3370000000000005E-2,0,5.1929999999999997E-2,null,null,null,null,null,{"$f":"Table1[[#This Row],[strike]]","v":130},0,0,0,0,0,0,0,0,0,null,{"$f":"IF(Lists!Q97=0,\"\",Lists!Q97)","v":""},""]
[0.72,null,null,null,null,"@MSFT  190920P00131000","2019-09-01T14:41:38-04:00",1.02,0.1,10.8696,0,0.72,1.38,0.72,0.92,0.96,1.04,19,14,243,"2019-08-30T15:59:00","Put","2019-09-20",131,591,3.2000000399999999,0.72000002799999996,"STAN",-0.16389999999999999,3.0939999999999999E-2,-4.6780000000000002E-2,-1.18E-2,7.3370000000000005E-2,0.27868999999999999,null,null,null,null,null,{"$f":"Table1[[#This Row],[strike]]","v":131},0,0,0,0,0,0,0,0,0,null,{"$f":"IF(Lists!Q98=0,\"\",Lists!Q98)","v":""},""]
[7.15,null,null,null,null,"@MSFT  190920C00131000","2019-09-01T14:41:38-04:00",7.45,-0.97,-11.520200000000001,0,7.15,7.45,7.15,8.42,7.75,8.0500000000000007,1,1,15,"2019-08-30T15:53:54","Call","2019-09-20",131,196,8.75,5.5,"STAN",0.99894000000000005,5.1999999999999995E-4,-7.0099999999999996E-2,7.3910000000000003E-2,2.4299999999999999E-3,5.0779999999999999E-2,null,null,null,null,null,{"$f":"Table1[[#This Row],[strike]]","v":131},0,0,0,0,0,0,0,0,0,null,{"$f":"IF(Lists!Q99=0,\"\",Lists!Q99)","v":""},{"$f":"IFERROR(VLOOKUP(AY121,AN119:AW2600,10,0),\"\")","v":""}]
[0.92,null,null,null,null,"@MSFT  190920P00132000","2019-09-01T14:41:38-04:00",1.28,0.19,17.4312,0,0.99,1.62,0.92,1.0900000000000001,1.1299999999999999,1.2,10,1,138,"2019-08-30T15:55:00","Put","2019-09-20",132,841,3.52999997,0.92000001600000003,"STAN",-0.21803,3.4029999999999998E-2,-6.4699999999999994E-2,-1.423E-2,0.11343,0.29278999999999999,null,null,null,null,null,{"$f":"Table1[[#This Row],[strike]]","v":132},0,0,0,0,0,0,0,0,0,null,{"$f":"IF(Lists!Q100=0,\"\",Lists!Q100)","v":""},""]
[6.45,null,null,null,null,"@MSFT  190920C00132000","2019-09-01T14:41:38-04:00",6.7,-0.6,-8.2192000000000007,1,7.9,7.9,6.45,7.3,7.1,7.3,1,1,17,"2019-08-30T15:45:28","Call","2019-09-20",132,324,8.5500001900000004,4.7699999799999997,"STAN",0.89900999999999998,3.1669999999999997E-2,-8.9840000000000003E-2,6.6540000000000002E-2,6.3500000000000001E-2,0.17788000000000001,null,null,null,null,null,{"$f":"Table1[[#This Row],[strike]]","v":132},0,0,0,0,0,0,0,0,0,null,{"$f":"IF(Lists!Q101=0,\"\",Lists!Q101)","v":""},""]
[1,null,null,null,null,"@MSFT  190920P00133000","2019-09-01T14:41:38-04:00",1.37,0.05,3.7879,-1,1,1.84,1,1.32,1.33,1.4,1,1,172,"2019-08-30T15:59:49","Put","2019-09-20",133,3195,3.9500000399999999,1,"STAN",-0.27216000000000001,3.4389999999999997E-2,-7.485E-2,-1.8710000000000001E-2,0.11698,0.28594999999999998,null,null,null,null,null,{"$f":"Table1[[#This Row],[strike]]","v":133},0,0,0,0,0,0,0,0,0,null,{"$f":"IF(Lists!Q102=0,\"\",Lists!Q102)","v":""},""]
[5.45,null,null,null,null,"@MSFT  190920C00133000","2019-09-01T14:41:38-04:00",5.6,-0.8,-12.5,-1,6.95,6.95,5.45,6.4,6.05,6.55,6,1,90,"2019-08-30T15:02:59","Call","2019-09-20",133,552,7.8800001100000001,4.05999994,"STAN",0.87975999999999999,3.9149999999999997E-2,-9.0620000000000006E-2,6.5600000000000006E-2,6.4199999999999993E-2,0.16528999999999999,null,null,null,null,null,{"$f":"Table1[[#This Row],[strike]]","v":133},0,{"$f":"IF(AP$20=\"n/a\",0,IF(AP$20=\"Buy\",MAX(0,$AN125-AP$21),MIN(0,AP$21-$AN125)))*AP$22","v":0},0,0,0,0,0,0,0,null,{"$f":"IF(Lists!Q103=0,\"\",Lists!Q103)","v":""},""]
[1.19,null,null,null,null,"@MSFT  190920P00134000","2019-09-01T14:41:38-04:00",1.75,0.11,6.7073,-1,1.19,2.13,1.19,1.64,1.54,1.66,10,6,111,"2019-08-30T15:51:35","Put","2019-09-20",134,838,4.2300000100000004,1.1900000500000001,"STAN",-0.26907999999999999,4.3290000000000002E-2,-5.5960000000000003E-2,-1.8169999999999999E-2,0.11547,0.25022,null,null,null,null,null,{"$f":"Table1[[#This Row],[strike]]","v":134},0,0,0,0,0,0,0,0,0,null,{"$f":"IF(Lists!Q104=0,\"\",Lists!Q104)","v":""},""]
[4.8,null,null,null,null,"@MSFT  190920C00134000","2019-09-01T14:41:38-04:00",5.55,-0.1,-1.7699,1,6.01,6.1,4.8,5.65,5.35,5.65,1,1,131,"2019-08-30T15:56:24","Call","2019-09-20",134,1001,6.8499999000000003,3.5999998999999998,"STAN",0.85441999999999996,4.8719999999999999E-2,-9.2160000000000006E-2,6.4170000000000005E-2,6.583E-2,0.16888,null,null,null,null,null,{"$f":"Table1[[#This Row],[strike]]","v":134},0,0,0,0,0,0,0,0,0,null,{"$f":"IF(Lists!Q105=0,\"\",Lists!Q105)","v":""},""]
[1.4,null,null,null,null,"@MSFT  190920P00135000","2019-09-01T14:41:38-04:00",1.85,0.08,4.5198,0,1.4,2.5,1.4,1.77,1.81,1.95,1,9,1074,"2019-08-30T15:56:46","Put","2019-09-20",135,28738,19.299999199999998,1.3999999700000001,"STAN",-0.31136999999999998,4.7570000000000001E-2,-5.6309999999999999E-2,-2.0910000000000002E-2,0.11812,0.27487,null,null,null,null,null,{"$f":"Table1[[#This Row],[strike]]","v":135},0,0,0,0,0,0,0,0,0,null,{"$f":"IF(Lists!Q106=0,\"\",Lists!Q106)","v":""},""]
[3.98,null,null,null,null,"@MSFT  190920C00135000","2019-09-01T14:41:38-04:00",4.7,-0.35,-6.9306999999999999,1,5.7,5.7,3.98,5.05,4.6500000000000004,4.95,7,8,877,"2019-08-30T15:58:53","Call","2019-09-20",135,21422,8.1300001099999992,0.93999999700000003,"STAN",0.74578,5.1819999999999998E-2,-0.10826,5.5840000000000001E-2,0.11260000000000001,0.18681,null,null,null,null,null,{"$f":"Table1[[#This Row],[strike]]","v":135},0,0,0,0,0,0,0,0,0]
[1.75,null,null,null,null,"@MSFT  190920P00136000","2019-09-01T14:41:38-04:00",2.14,0.09,4.3902000000000001,0,1.79,2.9,1.75,2.0499999999999998,2.11,2.23,7,1,942,"2019-08-30T15:55:59","Put","2019-09-20",136,1952,5.1999997999999996,1.75,"STAN",-0.36292000000000002,5.0569999999999997E-2,-6.173E-2,-2.2970000000000001E-2,0.12144000000000001,0.24997,null,null,null,null,null,{"$f":"Table1[[#This Row],[strike]]","v":136},0,0,0,0,0,0,0,0,0]
[3.39,null,null,null,null,"@MSFT  190920C00136000","2019-09-01T14:41:38-04:00",4.0999999999999996,-0.15,-3.5293999999999999,0,4.8,4.8,3.39,4.25,4.0999999999999996,4.3499999999999996,1,1,192,"2019-08-30T15:59:23","Call","2019-09-20",136,884,5.4499997999999996,2.6300001100000001,"STAN",0.68815000000000004,5.6520000000000001E-2,-0.11087,5.1700000000000003E-2,0.11711000000000001,0.20693,null,null,null,null,null,{"$f":"Table1[[#This Row],[strike]]","v":136},0,0,0,0,0,0,0,0,0]
[2.06,null,null,null,null,"@MSFT  190920P00137000","2019-09-01T14:41:38-04:00",2.54,0.13,5.3941999999999997,-1,2.06,3.25,2.06,2.41,2.46,2.58,7,1,3681,"2019-08-30T15:59:17","Put","2019-09-20",137,1367,5.7199997900000001,2.05999994,"STAN",-0.40429999999999999,6.2520000000000006E-2,-5.3760000000000002E-2,-2.325E-2,0.12311,0.24997,null,null,null,null,null,{"$f":"Table1[[#This Row],[strike]]","v":137},0,0,0,0,0,0,0,0,0]
[2.82,null,null,null,null,"@MSFT  190920C00137000","2019-09-01T14:41:38-04:00",3.5,-0.08,-2.2345999999999999,1,4,4.05,2.82,3.58,3.45,3.65,1,1,656,"2019-08-30T15:59:41","Call","2019-09-20",137,1387,4.9499997999999996,2.1800000599999998,"STAN",0.63512000000000002,6.2630000000000005E-2,-0.11151999999999999,4.7969999999999999E-2,0.12112000000000001,0.17047000000000001,null,null,null,null,null,{"$f":"Table1[[#This Row],[strike]]","v":137},0,0,0,0,0,0,0,0,0]
[2.33,null,null,null,null,"@MSFT  190920P00138000","2019-09-01T14:41:38-04:00",2.97,0.13,4.5774999999999997,1,2.4300000000000002,3.85,2.33,2.84,2.84,3.05,13,14,559,"2019-08-30T15:59:11","Put","2019-09-20",138,2459,6.5,2.3299999200000001,"STAN",-0.46695999999999999,6.5970000000000001E-2,-5.3519999999999998E-2,-2.513E-2,0.12569,0.24997,null,null,null,null,null,{"$f":"Table1[[#This Row],[strike]]","v":138},0,0,0,0,0,0,0,0,0]
[2.34,null,null,null,null,"@MSFT  190920C00138000","2019-09-01T14:41:38-04:00",2.9,-0.12,-3.9735,1,3.28,3.4,2.34,3.02,2.81,2.98,11,4,791,"2019-08-30T15:59:41","Call","2019-09-20",138,1837,4.3600001300000004,1.7999999499999999,"STAN",0.58640000000000003,7.6249999999999998E-2,-0.10213,4.4720000000000003E-2,0.12506,0.18515999999999999,null,null,null,null,null,{"$f":"Table1[[#This Row],[strike]]","v":138},0,{"$f":"IF(AP$20=\"n/a\",0,IF(AP$20=\"Buy\",MAX(0,$AN135-AP$21),MIN(0,AP$21-$AN135)))*AP$22","v":0},0,0,0,0,0,0,0]
[2.65,null,null,null,null,"@MSFT  190920P00139000","2019-09-01T14:41:38-04:00",3.38,0.14000000000000001,4.3209999999999997,-1,2.65,4.2,2.65,3.24,3.25,3.65,16,1,222,"2019-08-30T15:56:32","Put","2019-09-20",139,796,7.0500001900000004,2.6500000899999998,"STAN",-0.51932,5.6849999999999998E-2,-6.0409999999999998E-2,-2.9239999999999999E-2,0.12867000000000001,0.21872,null,null,null,null,null,{"$f":"Table1[[#This Row],[strike]]","v":139},0,0,0,0,0,0,0,0,0]
[1.91,null,null,null,null,"@MSFT  190920C00139000","2019-09-01T14:41:38-04:00",2.35,-0.11,-4.4714999999999998,0,2.88,2.88,1.91,2.46,2.2799999999999998,2.4300000000000002,10,5,696,"2019-08-30T15:59:41","Call","2019-09-20",139,2136,3.7000000399999999,1.46000003,"STAN",0.51378999999999997,6.2899999999999998E-2,-0.10823000000000001,3.8989999999999997E-2,0.13034000000000001,0.17169999999999999,null,null,null,null,null,{"$f":"Table1[[#This Row],[strike]]","v":139},0,0,0,0,0,0,0,0,0]
[3.1,null,null,null,null,"@MSFT  190920P00140000","2019-09-01T14:41:38-04:00",3.95,0.25,6.7568000000000001,-1,3.1,5,3.1,3.7,3.8,4.05,9,2,229,"2019-08-30T15:59:58","Put","2019-09-20",140,34783,21.100000300000001,3,"STAN",-0.59,6.6680000000000003E-2,-4.462E-2,-3.0089999999999999E-2,0.12826000000000001,0.21872,null,null,null,null,null,{"$f":"Table1[[#This Row],[strike]]","v":140},0,0,0,0,0,0,0,0,0]
[1.44,null,null,null,null,"@MSFT  190920C00140000","2019-09-01T14:41:38-04:00",1.85,-0.13,-6.5656999999999996,-1,2.36,2.41,1.44,1.98,1.81,1.91,1,74,5004,"2019-08-30T15:59:59","Call","2019-09-20",140,60997,5,0.5,"STAN",0.4536,6.0929999999999998E-2,-0.10385999999999999,3.449E-2,0.13475000000000001,0.17232,null,null,null,null,null,{"$f":"Table1[[#This Row],[strike]]","v":140},0,0,0,0,0,0,0,0,0]
[3.65,null,null,null,null,"@MSFT  190920P00141000","2019-09-01T14:41:38-04:00",4.9000000000000004,-0.1,-2,-1,3.65,5.25,3.65,5,4.3499999999999996,4.7,14,2,46,"2019-08-30T15:40:36","Put","2019-09-20",141,185,8.4499998000000005,3.6500000899999998,"STAN",-0.65100999999999998,6.5019999999999994E-2,-4.3450000000000003E-2,-2.8819999999999998E-2,0.12193,0.25729999999999997,null,null,null,null,null,{"$f":"Table1[[#This Row],[strike]]","v":141},0,0,0,0,0,0,0,0,0]
[1.1399999999999999,null,null,null,null,"@MSFT  190920C00141000","2019-09-01T14:41:38-04:00",1.45,-7.0000000000000007E-2,-4.6052999999999997,1,1.82,1.85,1.1399999999999999,1.52,1.42,1.5,1,1,446,"2019-08-30T15:57:12","Call","2019-09-20",141,862,2.5499999500000001,0.97000002799999996,"STAN",0.37251000000000001,6.9419999999999996E-2,-8.7540000000000007E-2,2.862E-2,0.14277000000000001,0.16888,null,null,null,null,null,{"$f":"Table1[[#This Row],[strike]]","v":141},0,0,0,0,0,0,0,0,0]
[5.0999999999999996,null,null,null,null,"@MSFT  190920P00142000","2019-09-01T14:41:38-04:00",5.95,1.05,21.428599999999999,1,5.0999999999999996,6.15,5.0999999999999996,4.9000000000000004,5.05,5.35,8,1,31,"2019-08-30T14:50:10","Put","2019-09-20",142,84,9.3000001900000004,4.6999997999999996,"STAN",-0.72241999999999995,6.7030000000000006E-2,-3.9629999999999999E-2,-2.962E-2,0.11463,0.24303,null,null,null,null,null,{"$f":"Table1[[#This Row],[strike]]","v":142},0,0,0,0,0,0,0,0,0]
[0.89,null,null,null,null,"@MSFT  190920C00142000","2019-09-01T14:41:38-04:00",1.1100000000000001,-7.0000000000000007E-2,-5.9321999999999999,0,1.5,1.5,0.89,1.18,1.07,1.1599999999999999,5,1,176,"2019-08-30T15:56:41","Call","2019-09-20",142,1624,2.1600000800000001,0.730000019,"STAN",0.32312999999999997,6.1699999999999998E-2,-8.6010000000000003E-2,2.4830000000000001E-2,9.7360000000000002E-2,0.16678000000000001,null,null,null,null,null,{"$f":"Table1[[#This Row],[strike]]","v":142},0,0,0,0,0,0,0,0,0]
[5.1100000000000003,null,null,null,null,"@MSFT  190920P00143000","2019-09-01T14:41:38-04:00",6.4,0.8,14.2857,0,5.1100000000000003,6.4,5.1100000000000003,5.6,5.7,5.95,11,12,207,"2019-08-30T15:54:00","Put","2019-09-20",143,61,9.8999996100000001,5.1100001300000004,"STAN",-0.78644999999999998,6.3710000000000003E-2,-2.5159999999999998E-2,-2.069E-2,8.3519999999999997E-2,0.20083000000000001,null,null,null,null,null,{"$f":"Table1[[#This Row],[strike]]","v":143},0,0,0,0,0,0,0,0,0]
[0.65,null,null,null,null,"@MSFT  190920C00143000","2019-09-01T14:41:38-04:00",0.82,-7.0000000000000007E-2,-7.8651999999999997,1,1,1.01,0.65,0.89,0.8,0.89,1,1,155,"2019-08-30T15:59:58","Call","2019-09-20",143,2963,1.7699999799999999,0.560000002,"STAN",0.2442,5.8680000000000003E-2,-6.3259999999999997E-2,1.8890000000000001E-2,0.10614999999999999,0.16577,null,null,null,null,null,{"$f":"Table1[[#This Row],[strike]]","v":143},0,{"$f":"IF(AP$20=\"n/a\",0,IF(AP$20=\"Buy\",MAX(0,$AN145-AP$21),MIN(0,AP$21-$AN145)))*AP$22","v":0},0,0,0,0,0,0,0]
[6.4,null,null,null,null,"@MSFT  190920P00144000","2019-09-01T14:41:38-04:00",7.2,0.6,9.0908999999999995,1,6.4,7.2,6.4,6.6,6.35,7,1,1,26,"2019-08-30T11:03:04","Put","2019-09-20",144,78,10.090000099999999,6.0500001900000004,"STAN",-0.85152000000000005,5.722E-2,-2.1000000000000001E-2,-2.2259999999999999E-2,7.0959999999999995E-2,0.22625000000000001,null,null,null,null,null,{"$f":"Table1[[#This Row],[strike]]","v":144},0,0,0,0,0,0,0,0,0]
[0.46,null,null,null,null,"@MSFT  190920C00144000","2019-09-01T14:41:38-04:00",0.54,-0.11,-16.923100000000002,0,0.85,0.85,0.46,0.65,0.55000000000000004,0.69,16,20,245,"2019-08-30T15:50:03","Call","2019-09-20",144,2771,1.41999995,0.43999999699999998,"STAN",0.19173999999999999,5.024E-2,-5.4309999999999997E-2,1.486E-2,0.11027000000000001,0.16789999999999999,null,null,null,null,null,{"$f":"Table1[[#This Row],[strike]]","v":144},0,0,0,0,0,0,0,0,0]
[6.49,null,null,null,null,"@MSFT  190920P00145000","2019-09-01T14:41:38-04:00",8.14,0.82,11.202199999999999,1,6.49,8.14,6.49,7.32,7.1,7.8,1,15,45,"2019-08-30T12:45:16","Put","2019-09-20",145,815,24.25,5.5999999000000003,"STAN",-1,0,0,0,0,0.13250000000000001,null,null,null,null,null,{"$f":"Table1[[#This Row],[strike]]","v":145},0,0,0,0,0,0,0,0,0]
[0.32,null,null,null,null,"@MSFT  190920C00145000","2019-09-01T14:41:38-04:00",0.39,-0.09,-18.75,0,0.53,0.61,0.32,0.48,0.37,0.5,1,200,708,"2019-08-30T15:55:02","Call","2019-09-20",145,29965,2.8900001,0.25,"STAN",0.18126999999999999,4.24E-2,-5.7860000000000002E-2,1.3990000000000001E-2,0.10804999999999999,0.15753,null,null,null,null,null,{"$f":"Table1[[#This Row],[strike]]","v":145},0,0,0,0,0,0,0,0,0]
[8.65,null,null,null,null,"@MSFT  190920P00146000","2019-09-01T14:41:38-04:00",8.65,-2.5499999999999998,-22.767900000000001,0,8.65,8.65,8.65,11.2,8.0500000000000007,8.5500000000000007,16,12,14,"2019-08-30T11:01:01","Put","2019-09-20",146,45,11.199999800000001,7.5999999000000003,"STAN",-1,0,0,0,0,0.13250000000000001,null,null,null,null,null,{"$f":"Table1[[#This Row],[strike]]","v":146},0,0,0,0,0,0,0,0,0]
[0.23,null,null,null,null,"@MSFT  190920C00146000","2019-09-01T14:41:38-04:00",0.28999999999999998,-0.03,-9.375,0,0.38,0.43,0.23,0.32,0.28999999999999998,0.33,12,1,164,"2019-08-30T15:58:55","Call","2019-09-20",146,1723,0.95999997800000003,0.23000000400000001,"STAN",0.16716,3.6670000000000001E-2,-5.9209999999999999E-2,1.2869999999999999E-2,0.10714,0.17116000000000001,null,null,null,null,null,{"$f":"Table1[[#This Row],[strike]]","v":146},0,0,0,0,0,0,0,0,0]
[9.9,null,null,null,null,"@MSFT  190920P00147000","2019-09-01T14:41:38-04:00",9.9,0.75,8.1966999999999999,1,9.9,9.9,9.9,9.15,9.0500000000000007,9.5500000000000007,12,28,2,"2019-08-30T12:45:08","Put","2019-09-20",147,2,9.8999996100000001,9.1499996100000001,"STAN",-0.92439000000000004,3.6920000000000001E-2,-1.519E-2,-1.865E-2,6.3740000000000005E-2,0.16125,null,null,null,null,null,{"$f":"Table1[[#This Row],[strike]]","v":147},0,0,0,0,0,0,0,0,0]
[0.19,null,null,null,null,"@MSFT  190920C00147000","2019-09-01T14:41:38-04:00",0.2,-0.03,-13.0435,1,0.25,0.26,0.19,0.23,0.2,0.25,23,33,461,"2019-08-30T12:37:42","Call","2019-09-20",147,1400,0.75,0.189999997,"STAN",9.7909999999999997E-2,2.9340000000000001E-2,-3.4450000000000001E-2,7.6099999999999996E-3,5.151E-2,0.16936000000000001,null,null,null,null,null,{"$f":"Table1[[#This Row],[strike]]","v":147},{"$f":"IF(AO$20=\"n/a\",0,IF(AO$20=\"Buy\",AN153*Q$11,AN153*-Q$11))","v":0},0,0,0,0,0,0,{"$f":"_xlfn.AGGREGATE(9,6,AO153:AU153)","v":0},{"$f":"AV153+R$18","v":0}]
[{"$f":"N154","v":0.13},null,null,null,null,"@MSFT  190920C00148000","2019-09-01T14:41:38-04:00",0.13,-0.06,-31.578900000000001,0,0.16,0.17,0.13,0.19,0.12,0.23,33,39,13,"2019-08-30T11:26:36","Call","2019-09-20",148,2545,0.61000001400000003,0.12999999500000001,"STAN",7.0319999999999994E-2,2.2540000000000001E-2,-2.5760000000000002E-2,5.4799999999999996E-3,5.3870000000000001E-2,0.17774000000000001,null,null,null,null,null,{"$f":"Table1[[#This Row],[strike]]","v":148},0,0,0,0,0,0,0,0,0]
[0.09,null,null,null,null,"@MSFT  190920C00149000","2019-09-01T14:41:38-04:00",0.11,-0.01,-8.3332999999999995,1,0.11,0.11,0.09,0.12,0.04,0.14000000000000001,46,12,9,"2019-08-30T15:28:35","Call","2019-09-20",149,831,0.47999998900000002,9.0000002999999995E-2,"STAN",3.3750000000000002E-2,0,-1.389E-2,2.65E-3,4.6559999999999997E-2,0.19539999999999999,null,null,null,null,null,{"$f":"Table1[[#This Row],[strike]]","v":149},0,{"$f":"IF(AP$20=\"n/a\",0,IF(AP$20=\"Buy\",MAX(0,$AN155-AP$21),MIN(0,AP$21-$AN155)))*AP$22","v":0},0,0,0,0,0,0,0]
[12.4,null,null,null,null,"@MSFT  190920P00150000","2019-09-01T14:41:38-04:00",12.4,0.7,5.9828999999999999,0,12.4,12.4,12.4,11.7,11.35,13,5,5,44,"2019-08-30T10:27:46","Put","2019-09-20",150,126,28.399999600000001,9.3500003800000009,"STAN",-1,0,0,0,0,0.13250000000000001,null,null,null,null,null,{"$f":"Table1[[#This Row],[strike]]","v":150},0,0,0,0,0,0,0,0,0]
[7.0000000000000007E-2,null,null,null,null,"@MSFT  190920C00150000","2019-09-01T14:41:38-04:00",0.08,-0.01,-11.1111,0,0.09,0.1,7.0000000000000007E-2,0.09,7.0000000000000007E-2,0.09,1,2,228,"2019-08-30T15:59:59","Call","2019-09-20",150,16861,1.5399999600000001,7.0000000000000007E-2,"STAN",3.1050000000000001E-2,0,-1.354E-2,2.4299999999999999E-3,3.0009999999999998E-2,0.17077000000000001,null,null,null,null,null,{"$f":"Table1[[#This Row],[strike]]","v":150},0,0,0,0,0,0,0,0,0]
[0.6,null,null,null,null,"@MSFT  190927P00125000","2019-09-01T14:41:38-04:00",0.65,0.06,10.169499999999999,0,0.6,0.79,0.6,0.59,0.55000000000000004,0.68,34,79,20,"2019-08-30T15:44:41","Put","2019-09-27",125,380,2.3900001,0.56999999199999996,"WEEK",-0.11822000000000001,1.5610000000000001E-2,-4.3679999999999997E-2,-1.1679999999999999E-2,8.0460000000000004E-2,0.34682000000000002,null,null,null,null,null,{"$f":"Table1[[#This Row],[strike]]","v":125},0,0,0,0,0,0,0,0,0]
[13.2,null,null,null,null,"@MSFT  190927C00125000","2019-09-01T14:41:38-04:00",13.2,-0.77,-5.5118,-1,13.2,13.2,13.2,13.97,13.25,13.9,7,12,20,"2019-08-30T14:30:59","Call","2019-09-27",125,31,15,10.25,"WEEK",0.99909000000000003,0,-6.633E-2,9.3899999999999997E-2,0,0.13250000000000001,null,null,null,null,null,{"$f":"Table1[[#This Row],[strike]]","v":125},0,0,0,0,0,0,0,0,0]
[0.51,null,null,null,null,"@MSFT  190927P00126000","2019-09-01T14:41:38-04:00",0.75,-0.51,-40.476199999999999,1,0.51,0.75,0.51,1.26,0.66,0.77,2,28,11,"2019-08-30T14:29:29","Put","2019-09-27",126,353,2.7899999599999998,0.50999998999999996,"WEEK",-0.12194000000000001,1.7069999999999998E-2,-4.1369999999999997E-2,-1.205E-2,8.0229999999999996E-2,0.29319000000000001,null,null,null,null,null,{"$f":"Table1[[#This Row],[strike]]","v":126},0,0,0,0,0,0,0,0,0]
[0.76,null,null,null,null,"@MSFT  190927P00127000","2019-09-01T14:41:38-04:00",0.79,0.02,2.5973999999999999,-1,0.76,0.93,0.76,0.77,0.73,0.84,11,12,231,"2019-08-30T15:59:41","Put","2019-09-27",127,240,2.77999997,0.75999998999999996,"WEEK",-0.11286,1.8350000000000002E-2,-3.3779999999999998E-2,-1.102E-2,7.8420000000000004E-2,0.30087000000000003,null,null,null,null,null,{"$f":"Table1[[#This Row],[strike]]","v":127},0,0,0,0,0,0,0,0,0]
[0.69,null,null,null,null,"@MSFT  190927P00128000","2019-09-01T14:41:38-04:00",1.04,0.16,18.181799999999999,-1,0.69,1.2,0.69,0.88,0.86,0.93,2,12,275,"2019-08-30T15:25:22","Put","2019-09-27",128,425,3.3800001100000001,0.68999999700000003,"WEEK",-0.12035999999999999,2.0500000000000001E-2,-3.2779999999999997E-2,-1.1809999999999999E-2,7.8409999999999994E-2,0.31587999999999999,null,null,null,null,null,{"$f":"Table1[[#This Row],[strike]]","v":128},0,0,0,0,0,0,0,0,0]
[0.83,null,null,null,null,"@MSFT  190927P00129000","2019-09-01T14:41:38-04:00",1.2,0.22,22.449000000000002,0,0.9,1.35,0.83,0.98,0.95,1.1100000000000001,30,43,80,"2019-08-30T15:09:01","Put","2019-09-27",129,463,3.2599999899999998,0.829999983,"WEEK",-0.15912000000000001,2.341E-2,-4.4150000000000002E-2,-1.5429999999999999E-2,8.3460000000000006E-2,0.30814000000000002,null,null,null,null,null,{"$f":"Table1[[#This Row],[strike]]","v":129},0,0,0,0,0,0,0,0,0]
[0.95,null,null,null,null,"@MSFT  190927P00130000","2019-09-01T14:41:38-04:00",1.29,0.19,17.2727,0,0.96,1.52,0.95,1.1000000000000001,1.1200000000000001,1.28,4,29,149,"2019-08-30T15:54:32","Put","2019-09-27",130,579,3.7999999500000001,0.94999998799999996,"WEEK",-0.17807999999999999,2.6100000000000002E-2,-4.7320000000000001E-2,-1.6060000000000001E-2,8.9560000000000001E-2,0.29305999999999999,null,null,null,null,null,{"$f":"Table1[[#This Row],[strike]]","v":130},0,0,0,0,0,0,0,0,0]
[8.35,null,null,null,null,"@MSFT  190927C00130000","2019-09-01T14:41:38-04:00",8.35,1.1000000000000001,15.1724,-1,9.1300000000000008,9.1300000000000008,8.35,7.25,9.0500000000000007,9.5,1,15,3,"2019-08-30T15:14:17","Call","2019-09-27",130,19,10.25,6.4000000899999998,"WEEK",0.99909000000000003,0,-6.9209999999999994E-2,9.7650000000000001E-2,0,4.1889999999999997E-2,null,null,null,null,null,{"$f":"Table1[[#This Row],[strike]]","v":130},0,{"$f":"IF(AP$20=\"n/a\",0,IF(AP$20=\"Buy\",MAX(0,$AN165-AP$21),MIN(0,AP$21-$AN165)))*AP$22","v":0},0,0,0,0,0,0,0]
[1.1000000000000001,null,null,null,null,"@MSFT  190927P00131000","2019-09-01T14:41:38-04:00",1.47,0.21,16.666699999999999,-1,1.1000000000000001,1.49,1.1000000000000001,1.26,1.29,1.44,12,20,13,"2019-08-30T14:09:46","Put","2019-09-27",131,189,3.9500000399999999,1.10000002,"WEEK",-0.19839000000000001,2.9360000000000001E-2,-4.9489999999999999E-2,-1.7139999999999999E-2,0.10715,0.28743999999999997,null,null,null,null,null,{"$f":"Table1[[#This Row],[strike]]","v":131},0,0,0,0,0,0,0,0,0]
[8.25,null,null,null,null,"@MSFT  190927C00131000","2019-09-01T14:41:38-04:00",8.4,-0.1,-1.1765000000000001,1,8.25,8.4,8.25,8.5,8.25,8.65,12,16,2,"2019-08-30T10:58:19","Call","2019-09-27",131,33,9.5500001900000004,5.8499999000000003,"WEEK",0.99678,2.3999999999999998E-3,-7.0059999999999997E-2,9.8169999999999993E-2,2.7000000000000001E-3,0.10671,null,null,null,null,null,{"$f":"Table1[[#This Row],[strike]]","v":131},0,0,0,0,0,0,0,0,0]
[1.19,null,null,null,null,"@MSFT  190927P00132000","2019-09-01T14:41:38-04:00",1.54,0.1,6.9443999999999999,-1,1.19,1.88,1.19,1.44,1.45,1.65,11,19,69,"2019-08-30T15:59:41","Put","2019-09-27",132,130,4.4899997699999998,1.1900000500000001,"WEEK",-0.24535999999999999,3.0280000000000001E-2,-5.6419999999999998E-2,-2.2270000000000002E-2,0.13114999999999999,0.27700000000000002,null,null,null,null,null,{"$f":"Table1[[#This Row],[strike]]","v":132},0,0,0,0,0,0,0,0,0]
[1.4,null,null,null,null,"@MSFT  190927P00133000","2019-09-01T14:41:38-04:00",1.77,0.11,6.6265000000000001,0,1.44,2.06,1.4,1.66,1.67,1.86,14,13,27,"2019-08-30T15:58:02","Put","2019-09-27",133,263,5,1.3999999700000001,"WEEK",-0.29015000000000002,3.039E-2,-6.4140000000000003E-2,-2.6169999999999999E-2,0.13511000000000001,0.27916000000000002,null,null,null,null,null,{"$f":"Table1[[#This Row],[strike]]","v":133},0,0,0,0,0,0,0,0,0]
[6.35,null,null,null,null,"@MSFT  190927C00133000","2019-09-01T14:41:38-04:00",6.35,-0.9,-12.4138,-1,6.45,6.45,6.35,7.25,6.55,7.05,22,16,22,"2019-08-30T15:39:15","Call","2019-09-27",133,156,7.8899998599999996,4.6599998400000002,"WEEK",0.86185999999999996,3.7490000000000002E-2,-8.8730000000000003E-2,8.5349999999999995E-2,7.3859999999999995E-2,0.13850000000000001,null,null,null,null,null,{"$f":"Table1[[#This Row],[strike]]","v":133},0,0,0,0,0,0,0,0,0]
[1.59,null,null,null,null,"@MSFT  190927P00134000","2019-09-01T14:41:38-04:00",2.2400000000000002,0.35,18.5185,0,1.59,2.2400000000000002,1.59,1.89,1.92,2.08,9,3,41,"2019-08-30T12:23:20","Put","2019-09-27",134,473,5.7699999799999997,1.5900000299999999,"WEEK",-0.30354999999999999,3.5430000000000003E-2,-5.525E-2,-2.7480000000000001E-2,0.13539999999999999,0.24940000000000001,null,null,null,null,null,{"$f":"Table1[[#This Row],[strike]]","v":134},0,0,0,0,0,0,0,0,0]
[5.6,null,null,null,null,"@MSFT  190927C00134000","2019-09-01T14:41:38-04:00",5.6,-0.75,-11.811,0,6.5,6.6,5.6,6.35,5.95,6.35,12,16,9,"2019-08-30T12:33:08","Call","2019-09-27",134,221,7.4499997999999996,4,"WEEK",0.81713000000000002,4.369E-2,-9.3329999999999996E-2,8.1280000000000005E-2,0.11848,0.18840999999999999,null,null,null,null,null,{"$f":"Table1[[#This Row],[strike]]","v":134},0,0,0,0,0,0,0,0,0]
[1.84,null,null,null,null,"@MSFT  190927P00135000","2019-09-01T14:41:38-04:00",2.27,0.02,0.88888900000000004,-1,1.84,2.85,1.84,2.25,2.19,2.4300000000000002,1,9,64,"2019-08-30T15:55:23","Put","2019-09-27",135,733,5.9400000500000001,1.8400000299999999,"WEEK",-0.32196999999999998,4.2520000000000002E-2,-4.725E-2,-2.8250000000000001E-2,0.13597999999999999,0.27610000000000001,null,null,null,null,null,{"$f":"Table1[[#This Row],[strike]]","v":135},0,0,0,0,0,0,0,0,0]
[4.63,null,null,null,null,"@MSFT  190927C00135000","2019-09-01T14:41:38-04:00",5.2,-0.18,-3.3456999999999999,1,6.1,6.1,4.63,5.38,5.2,5.45,8,10,163,"2019-08-30T15:55:37","Call","2019-09-27",135,479,7,3.5,"WEEK",0.73340000000000005,4.4979999999999999E-2,-0.10141,7.2770000000000001E-2,0.12953000000000001,0.15309,null,null,null,null,null,{"$f":"Table1[[#This Row],[strike]]","v":135},0,0,0,0,0,0,0,0,0]
[null,null,null,null,null,"@MSFT  190927P00136000","2019-09-01T14:41:38-04:00",2.62,0.09,3.5573000000000001,-1,2.13,3.25,2.13,2.5299999999999998,2.5,2.74,1,12,16,"2019-08-30T15:55:23","Put","2019-09-27",136,369,6.4000000899999998,2.1300001100000001,"WEEK",-0.37256,4.2619999999999998E-2,-5.5320000000000001E-2,-3.1949999999999999E-2,0.14044999999999999,0.26297999999999999,null,null,null,null,null,{"$f":"Table1[[#This Row],[strike]]","v":136},0,{"$f":"IF(AP$20=\"n/a\",0,IF(AP$20=\"Buy\",MAX(0,$AN175-AP$21),MIN(0,AP$21-$AN175)))*AP$22","v":0},0,0,0,0,0,0,0]
[null,null,null,null,null,"@MSFT  190927C00136000","2019-09-01T14:41:38-04:00",4.5999999999999996,-0.44,-8.7302,1,5.4,5.4,3.9,5.04,4.45,4.8,15,1,65,"2019-08-30T15:57:30","Call","2019-09-27",136,959,6.3000001900000004,3,"WEEK",0.72294999999999998,5.7110000000000001E-2,-9.2590000000000006E-2,7.2650000000000006E-2,0.12869,0.18612000000000001,null,null,null,null,null,{"$f":"Table1[[#This Row],[strike]]","v":136},0,0,0,0,0,0,0,0,0]
[null,null,null,null,null,"@MSFT  190927P00137000","2019-09-01T14:41:38-04:00",3.25,0.4,14.0351,0,2.54,3.65,2.54,2.85,2.85,3.05,7,12,4036,"2019-08-30T15:54:21","Put","2019-09-27",137,247,6.9499997999999996,2.5399999599999998,"WEEK",-0.41166999999999998,4.7919999999999997E-2,-5.289E-2,-3.211E-2,0.14266999999999999,0.24997,null,null,null,null,null,{"$f":"Table1[[#This Row],[strike]]","v":137},0,0,0,0,0,0,0,0,0]
[null,null,null,null,null,"@MSFT  190927C00137000","2019-09-01T14:41:38-04:00",3.8,-0.37,-8.8728999999999996,1,4.43,4.43,3.3,4.17,3.9,4.3,12,18,64,"2019-08-30T15:55:00","Call","2019-09-27",137,318,5.4499997999999996,2.6099998900000001,"WEEK",0.66241000000000005,6.1550000000000001E-2,-9.5019999999999993E-2,6.6799999999999998E-2,0.13608999999999999,0.19261,null,null,null,null,null,{"$f":"Table1[[#This Row],[strike]]","v":137},0,0,0,0,0,0,0,0,0]
[null,null,null,null,null,"@MSFT  190927P00138000","2019-09-01T14:41:38-04:00",3.8,0.53,16.207999999999998,1,2.95,3.8,2.95,3.27,3.1,3.45,26,12,21,"2019-08-30T15:28:23","Put","2019-09-27",138,290,7.1199998799999999,2.9500000399999999,"WEEK",-0.45961000000000002,5.0040000000000001E-2,-5.2810000000000003E-2,-3.3279999999999997E-2,0.14482,0.24945000000000001,null,null,null,null,null,{"$f":"Table1[[#This Row],[strike]]","v":138},0,0,0,0,0,0,0,0,0]
[null,null,null,null,null,"@MSFT  190927C00138000","2019-09-01T14:41:38-04:00",3.4,-0.15,-4.2253999999999996,1,3.86,3.88,2.81,3.55,3.2,3.6,7,15,86,"2019-08-30T15:59:33","Call","2019-09-27",138,878,5,2.2400000000000002,"WEEK",0.60977000000000003,6.8669999999999995E-2,-9.2189999999999994E-2,6.1890000000000001E-2,0.14232,0.15526999999999999,null,null,null,null,null,{"$f":"Table1[[#This Row],[strike]]","v":138},0,0,0,0,0,0,0,0,0]
[null,null,null,null,null,"@MSFT  190927P00139000","2019-09-01T14:41:38-04:00",4.37,0.67,18.1081,-1,3.4,4.4000000000000004,3.4,3.7,3.7,3.95,15,12,89,"2019-08-30T15:26:11","Put","2019-09-27",139,128,7.3899998599999996,3.3900001,"WEEK",-0.49989,4.3909999999999998E-2,-5.9119999999999999E-2,-3.7650000000000003E-2,0.14768000000000001,0.24997,null,null,null,null,null,{"$f":"Table1[[#This Row],[strike]]","v":139},0,0,0,0,0,0,0,0,0]
[null,null,null,null,null,"@MSFT  190927C00139000","2019-09-01T14:41:38-04:00",2.42,-0.63,-20.6557,-1,3.43,3.43,2.35,3.05,2.79,2.99,7,8,54,"2019-08-30T15:11:01","Call","2019-09-27",139,1026,4.5700001700000001,1.88999998,"WEEK",0.54132999999999998,6.5409999999999996E-2,-8.9599999999999999E-2,5.4969999999999998E-2,0.15018999999999999,0.16514999999999999,null,null,null,null,null,{"$f":"Table1[[#This Row],[strike]]","v":139},0,0,0,0,0,0,0,0,0]
[null,null,null,null,null,"@MSFT  190927P00140000","2019-09-01T14:41:38-04:00",4.9400000000000004,0.79,19.036100000000001,0,3.77,5.15,3.77,4.1500000000000004,4.05,4.45,16,12,98,"2019-08-30T15:25:17","Put","2019-09-27",140,237,8.1499996100000001,3.7699999800000001,"WEEK",-0.55196999999999996,5.0790000000000002E-2,-4.6559999999999997E-2,-4.052E-2,0.14993999999999999,0.21872,null,null,null,null,null,{"$f":"Table1[[#This Row],[strike]]","v":140},0,0,0,0,0,0,0,0,0]
[null,null,null,null,null,"@MSFT  190927C00140000","2019-09-01T14:41:38-04:00",2.38,-0.13,-5.1792999999999996,1,2.7,2.8,1.91,2.5099999999999998,2.29,2.48,15,17,108,"2019-08-30T15:59:41","Call","2019-09-27",140,1142,3.9100000800000001,1.5800000400000001,"WEEK",0.47576000000000002,6.6930000000000003E-2,-8.3449999999999996E-2,4.8509999999999998E-2,0.15819,0.16886999999999999,null,null,null,null,null,{"$f":"Table1[[#This Row],[strike]]","v":140},0,0,0,0,0,0,0,0,0]
[null,null,null,null,null,"@MSFT  190927P00141000","2019-09-01T14:41:38-04:00",5.47,0.81,17.382000000000001,1,5.47,5.47,5.47,4.66,4.6500000000000004,5,16,12,4,"2019-08-30T11:08:06","Put","2019-09-27",141,30,7.05999994,4.6599998400000002,"WEEK",-0.59972000000000003,5.0659999999999997E-2,-4.2419999999999999E-2,-4.1669999999999999E-2,0.14921999999999999,0.24981,null,null,null,null,null,{"$f":"Table1[[#This Row],[strike]]","v":141},0,{"$f":"IF(AP$20=\"n/a\",0,IF(AP$20=\"Buy\",MAX(0,$AN185-AP$21),MIN(0,AP$21-$AN185)))*AP$22","v":0},0,0,0,0,0,0,0]
[null,null,null,null,null,"@MSFT  190927C00141000","2019-09-01T14:41:38-04:00",1.67,-0.37,-18.1373,0,2.2400000000000002,2.2400000000000002,1.58,2.04,1.89,2.06,10,12,37,"2019-08-30T15:30:32","Call","2019-09-27",141,1096,3.7000000399999999,1.27999997,"WEEK",0.42144999999999999,5.9569999999999998E-2,-8.473E-2,4.292E-2,0.16267000000000001,0.17513000000000001,null,null,null,null,null,{"$f":"Table1[[#This Row],[strike]]","v":141},0,0,0,0,0,0,0,0,0]
[null,null,null,null,null,"@MSFT  190927P00142000","2019-09-01T14:41:38-04:00",5.6,-1.61,-22.330100000000002,-1,5.6,5.6,5.6,7.21,5.25,5.9,16,15,2,"2019-08-30T15:59:17","Put","2019-09-27",142,20,7.6799998199999999,5.5999999000000003,"WEEK",-0.65415999999999996,5.2229999999999999E-2,-4.0779999999999997E-2,-3.9149999999999997E-2,0.14205999999999999,0.28122000000000003,null,null,null,null,null,{"$f":"Table1[[#This Row],[strike]]","v":142},0,0,0,0,0,0,0,0,0]
[null,null,null,null,null,"@MSFT  190927C00142000","2019-09-01T14:41:38-04:00",1.5,-0.11,-6.8323,1,1.82,1.82,1.26,1.61,1.47,1.66,3,1,250,"2019-08-30T15:55:05","Call","2019-09-27",142,318,2.9800000099999999,1.0499999499999999,"WEEK",0.35304000000000002,6.2619999999999995E-2,-7.5429999999999997E-2,3.6229999999999998E-2,0.12997,0.16855000000000001,null,null,null,null,null,{"$f":"Table1[[#This Row],[strike]]","v":142},0,0,0,0,0,0,0,0,0]
[null,null,null,null,null,"@MSFT  190927C00143000","2019-09-01T14:41:38-04:00",1.05,-0.34,-24.4604,-1,1.39,1.44,0.99,1.39,1.18,1.34,12,9,111,"2019-08-30T15:55:01","Call","2019-09-27",143,225,2.5099999899999998,0.87000000399999999,"WEEK",0.30001,5.7250000000000002E-2,-6.6009999999999999E-2,3.0849999999999999E-2,0.12117,0.1857,null,null,null,null,null,{"$f":"Table1[[#This Row],[strike]]","v":143},0,0,0,0,0,0,0,0,0]
[null,null,null,null,null,"@MSFT  190927P00144000","2019-09-01T14:41:38-04:00",7.4,0.15,2.069,1,7.4,7.4,7.4,7.25,6.65,7.3,16,15,1,"2019-08-30T11:02:55","Put","2019-09-27",144,1,7.4000000899999998,7.25,"WEEK",-0.77602000000000004,5.3519999999999998E-2,-2.383E-2,-2.7140000000000001E-2,9.4259999999999997E-2,0.24201,null,null,null,null,null,{"$f":"Table1[[#This Row],[strike]]","v":144},0,0,0,0,0,0,0,0,0]
[null,null,null,null,null,"@MSFT  190927C00144000","2019-09-01T14:41:38-04:00",0.81,-0.21,-20.588200000000001,-1,1.06,1.06,0.81,1.02,0.92,1.06,12,19,86,"2019-08-30T15:55:01","Call","2019-09-27",144,338,2.0999998999999998,0.68999999700000003,"WEEK",0.24876000000000001,5.1229999999999998E-2,-5.7669999999999999E-2,2.563E-2,0.12709999999999999,0.19375000000000001,null,null,null,null,null,{"$f":"Table1[[#This Row],[strike]]","v":144},0,0,0,0,0,0,0,0,0]
[null,null,null,null,null,"@MSFT  190927C00145000","2019-09-01T14:41:38-04:00",0.64,-0.15,-18.987300000000001,1,0.8,0.8,0.57999999999999996,0.79,0.7,0.84,10,19,38,"2019-08-30T15:44:57","Call","2019-09-27",145,1504,1.8999999700000001,0.540000021,"WEEK",0.20236999999999999,4.5039999999999997E-2,-5.0659999999999997E-2,2.0889999999999999E-2,0.13192999999999999,0.14932000000000001,null,null,null,null,null,{"$f":"Table1[[#This Row],[strike]]","v":145},0,0,0,0,0,0,0,0,0]
[null,null,null,null,null,"@MSFT  190927C00146000","2019-09-01T14:41:38-04:00",0.49,-0.12,-19.6721,1,0.59,0.6,0.43,0.61,0.52,0.59,12,1,222,"2019-08-30T12:11:04","Call","2019-09-27",146,361,1.5199999799999999,0.43000000700000002,"WEEK",0.16621,3.9140000000000001E-2,-4.5920000000000002E-2,1.719E-2,0.13463,0.17510999999999999,null,null,null,null,null,{"$f":"Table1[[#This Row],[strike]]","v":146},0,0,0,0,0,0,0,0,0]
[null,null,null,null,null,"@MSFT  190927C00147000","2019-09-01T14:41:38-04:00",0.36,-0.1,-21.739100000000001,-1,0.39,0.39,0.36,0.46,0.33,0.49,40,38,41,"2019-08-30T15:46:10","Call","2019-09-27",147,122,1.25,0.34999999399999998,"WEEK",0.15345,3.4130000000000001E-2,-4.6670000000000003E-2,1.583E-2,0.13292000000000001,0.15989,null,null,null,null,null,{"$f":"Table1[[#This Row],[strike]]","v":147},0,0,0,0,0,0,0,0,0]
[null,null,null,null,null,"@MSFT  190927C00148000","2019-09-01T14:41:38-04:00",0.3,-0.02,-6.25,1,0.32,0.32,0.26,0.32,0.25,0.38,37,19,13,"2019-08-30T15:55:46","Call","2019-09-27",148,336,0.790000021,0.25999999000000001,"WEEK",0.11771,2.92E-2,-3.6170000000000001E-2,1.2189999999999999E-2,6.0859999999999997E-2,0.17116000000000001,null,null,null,null,null,{"$f":"Table1[[#This Row],[strike]]","v":148},0,{"$f":"IF(AP$20=\"n/a\",0,IF(AP$20=\"Buy\",MAX(0,$AN195-AP$21),MIN(0,AP$21-$AN195)))*AP$22","v":0},0,0,0,0,0,0,0]
[null,null,null,null,null,"@MSFT  190927C00149000","2019-09-01T14:41:38-04:00",0.2,-0.05,-20,-1,0.24,0.24,0.2,0.25,0.19,0.28000000000000003,12,40,205,"2019-08-30T11:08:40","Call","2019-09-27",149,70,0.60000002299999999,0.20000000200000001,"WEEK",8.6870000000000003E-2,2.342E-2,-2.7E-2,9.0200000000000002E-3,6.4939999999999998E-2,0.20313000000000001,null,null,null,null,null,{"$f":"Table1[[#This Row],[strike]]","v":149},0,0,0,0,0,0,0,0,0]
[null,null,null,null,null,"@MSFT  190927C00150000","2019-09-01T14:41:38-04:00",0.16,-0.01,-5.8823999999999996,0,0.16,0.16,0.16,0.17,0.14000000000000001,0.24,12,33,7,"2019-08-30T12:25:21","Call","2019-09-27",150,337,0.75999998999999996,0.15000000499999999,"WEEK",6.3740000000000005E-2,1.8319999999999999E-2,-2.0910000000000002E-2,6.6299999999999996E-3,6.7400000000000002E-2,0.16830999999999999,null,null,null,null,null,{"$f":"Table1[[#This Row],[strike]]","v":150},0,0,0,0,0,0,0,0,0]
[null,null,null,null,null,"@MSFT  191004P00125000","2019-09-01T14:41:38-04:00",0.92,0.17,22.666699999999999,-1,0.67,0.93,0.67,0.75,0.77,0.86,1,13,8,"2019-08-30T14:50:07","Put","2019-10-04",125,229,2.1500000899999998,0.67000001600000003,"WEEK",-9.214E-2,1.4370000000000001E-2,-2.545E-2,-1.108E-2,8.3360000000000004E-2,0.28777000000000003,null,null,null,null,null,{"$f":"Table1[[#This Row],[strike]]","v":125},0,0,0,0,0,0,0,0,0]
[null,null,null,null,null,"@MSFT  191004P00126000","2019-09-01T14:41:38-04:00",1.07,-0.57999999999999996,-35.151499999999999,1,0.8,1.07,0.77,1.65,0.87,0.96,33,12,38,"2019-08-30T15:23:34","Put","2019-10-04",126,19,2.2100000299999998,0.76999998000000003,"WEEK",-0.12617,1.686E-2,-3.4169999999999999E-2,-1.5730000000000001E-2,8.7480000000000002E-2,0.32813999999999999,null,null,null,null,null,{"$f":"Table1[[#This Row],[strike]]","v":126},0,0,0,0,0,0,0,0,0]
[null,null,null,null,null,"@MSFT  191004P00127000","2019-09-01T14:41:38-04:00",1.2,0.19,18.811900000000001,1,1.01,1.2,1,1.01,0.95,1.07,33,12,10,"2019-08-30T15:23:34","Put","2019-10-04",127,19,2.0099999899999998,1,"WEEK",-0.13986999999999999,1.8620000000000001E-2,-3.5920000000000001E-2,-1.7579999999999998E-2,8.906E-2,0.31170999999999999,null,null,null,null,null,{"$f":"Table1[[#This Row],[strike]]","v":127},0,0,0,0,0,0,0,0,0]
[null,null,null,null,null,"@MSFT  191004P00128000","2019-09-01T14:41:38-04:00",1.36,0.27,24.770600000000002,1,0.98,1.36,0.98,1.0900000000000001,1.0900000000000001,1.2,30,12,23,"2019-08-30T15:03:19","Put","2019-10-04",128,71,2.7000000399999999,0.980000019,"WEEK",-0.15814,2.0590000000000001E-2,-3.9309999999999998E-2,-1.9310000000000001E-2,9.1700000000000004E-2,0.32285000000000003,null,null,null,null,null,{"$f":"Table1[[#This Row],[strike]]","v":128},0,0,0,0,0,0,0,0,0]
[null,null,null,null,null,"@MSFT  191004C00128000","2019-09-01T14:41:38-04:00",10.75,-0.77,-6.6840000000000002,-1,11.3,11.3,10.75,11.52,10.85,11.6,16,15,3,"2019-08-30T12:24:46","Call","2019-10-04",128,3,11.520000400000001,8.5600004100000007,"WEEK",0.99885999999999997,0,-6.7809999999999995E-2,0.11987,0,8.2809999999999995E-2,null,null,null,null,null,{"$f":"Table1[[#This Row],[strike]]","v":128},0,0,0,0,0,0,0,0,0]
[null,null,null,null,null,"@MSFT  191004P00129000","2019-09-01T14:41:38-04:00",1.47,0.25,20.491800000000001,1,1.27,1.47,1.27,1.22,1.23,1.35,39,12,5,"2019-08-30T14:41:28","Put","2019-10-04",129,90,2.5399999599999998,1.21000003,"WEEK",-0.16152,2.283E-2,-3.6200000000000003E-2,-1.9259999999999999E-2,9.1939999999999994E-2,0.27655999999999997,null,null,null,null,null,{"$f":"Table1[[#This Row],[strike]]","v":129},0,0,0,0,0,0,0,0,0]
[null,null,null,null,null,"@MSFT  191004P00130000","2019-09-01T14:41:38-04:00",1.64,0.28999999999999998,21.4815,0,1.27,1.65,1.18,1.35,1.36,1.6,14,36,35,"2019-08-30T12:30:55","Put","2019-10-04",130,281,3.3499998999999998,1.1799999400000001,"WEEK",-0.20305000000000001,2.4819999999999998E-2,-4.7329999999999997E-2,-2.2280000000000001E-2,0.14094999999999999,0.33326,null,null,null,null,null,{"$f":"Table1[[#This Row],[strike]]","v":130},0,0,0,0,0,0,0,0,0]
[null,null,null,null,null,"@MSFT  191004P00131000","2019-09-01T14:41:38-04:00",1.7,7.0000000000000007E-2,4.2945000000000002,1,1.33,1.7,1.33,1.63,1.57,1.78,11,14,16,"2019-08-30T15:59:02","Put","2019-10-04",131,116,2.9400000500000001,1.3300000400000001,"WEEK",-0.22656000000000001,2.6620000000000001E-2,-4.6780000000000002E-2,-2.5530000000000001E-2,0.14294000000000001,0.32679000000000002,null,null,null,null,null,{"$f":"Table1[[#This Row],[strike]]","v":131},0,{"$f":"IF(AP$20=\"n/a\",0,IF(AP$20=\"Buy\",MAX(0,$AN205-AP$21),MIN(0,AP$21-$AN205)))*AP$22","v":0},0,0,0,0,0,0,0]
[null,null,null,null,null,"@MSFT  191004C00131000","2019-09-01T14:41:38-04:00",8,-1,-11.1111,-1,8,8,8,9,8.6,8.85,12,7,1,"2019-08-30T15:10:06","Call","2019-10-04",131,8,9,6.5500001900000004,"WEEK",0.99885999999999997,0,-6.9529999999999995E-2,0.12268,0,3.9039999999999998E-2,null,null,null,null,null,{"$f":"Table1[[#This Row],[strike]]","v":131},0,0,0,0,0,0,0,0,0]
[null,null,null,null,null,"@MSFT  191004P00132000","2019-09-01T14:41:38-04:00",2.19,0.33,17.741900000000001,1,1.54,2.19,1.54,1.86,1.81,1.93,10,5,16,"2019-08-30T15:11:58","Put","2019-10-04",132,136,4.0300001999999999,1.5399999600000001,"WEEK",-0.25263999999999998,2.8469999999999999E-2,-4.6679999999999999E-2,-2.7859999999999999E-2,0.14549999999999999,0.31594,null,null,null,null,null,{"$f":"Table1[[#This Row],[strike]]","v":132},0,0,0,0,0,0,0,0,0]
[null,null,null,null,null,"@MSFT  191004P00133000","2019-09-01T14:41:38-04:00",2.2999999999999998,0.26,12.745100000000001,-1,2.33,2.4500000000000002,2.2999999999999998,2.04,1.99,2.17,13,5,14,"2019-08-30T15:48:08","Put","2019-10-04",133,185,4.25,2.0399999599999998,"WEEK",-0.27539999999999998,3.116E-2,-4.4740000000000002E-2,-3.0880000000000001E-2,0.14727999999999999,0.31025000000000003,null,null,null,null,null,{"$f":"Table1[[#This Row],[strike]]","v":133},0,0,0,0,0,0,0,0,0]
[null,null,null,null,null,"@MSFT  191004C00133000","2019-09-01T14:41:38-04:00",7.55,0.1,1.3423,1,7.55,7.55,7.55,7.45,7.05,7.3,12,7,2,"2019-08-30T09:34:29","Call","2019-10-04",133,20,7.5500001900000004,5.0500001900000004,"WEEK",0.91756000000000004,3.107E-2,-7.6850000000000002E-2,0.11393,6.5049999999999997E-2,0.11386,null,null,null,null,null,{"$f":"Table1[[#This Row],[strike]]","v":133},0,0,0,0,0,0,0,0,0]
[null,null,null,null,null,"@MSFT  191004P00134000","2019-09-01T14:41:38-04:00",2.7,0.45,20,1,2.09,2.71,2.08,2.25,2.2400000000000002,2.4700000000000002,14,12,27,"2019-08-30T12:05:14","Put","2019-10-04",134,128,4.8299999199999997,2.0799999200000001,"WEEK",-0.31124000000000002,3.2590000000000001E-2,-4.7800000000000002E-2,-3.4430000000000002E-2,0.15084,0.24829000000000001,null,null,null,null,null,{"$f":"Table1[[#This Row],[strike]]","v":134},0,0,0,0,0,0,0,0,0]
[null,null,null,null,null,"@MSFT  191004C00134000","2019-09-01T14:41:38-04:00",6,-0.65,-9.7744,0,7,7,6,6.65,6.35,6.55,12,7,3,"2019-08-30T11:05:13","Call","2019-10-04",134,33,7,4.5,"WEEK",0.85879000000000005,4.1349999999999998E-2,-8.2960000000000006E-2,0.10702,0.11246,0.15944,null,null,null,null,null,{"$f":"Table1[[#This Row],[strike]]","v":134},0,0,0,0,0,0,0,0,0]
[null,null,null,null,null,"@MSFT  191004P00135000","2019-09-01T14:41:38-04:00",3.25,0.56999999999999995,21.268699999999999,1,2.34,3.25,2.34,2.68,2.58,2.84,1,9,24,"2019-08-30T11:18:41","Put","2019-10-04",135,510,5.3800001100000001,2.33999991,"WEEK",-0.32841999999999999,3.8890000000000001E-2,-4.1209999999999997E-2,-3.4669999999999999E-2,0.15192,0.24518000000000001,null,null,null,null,null,{"$f":"Table1[[#This Row],[strike]]","v":135},0,0,0,0,0,0,0,0,0]
[null,null,null,null,null,"@MSFT  191004C00135000","2019-09-01T14:41:38-04:00",5.4,-0.35,-6.0869999999999997,1,6.22,6.22,5,5.75,5.6,5.9,12,12,54,"2019-08-30T15:53:02","Call","2019-10-04",135,215,6.2199997900000001,4,"WEEK",0.77768000000000004,4.623E-2,-8.6849999999999997E-2,9.69E-2,0.13392999999999999,0.15004000000000001,null,null,null,null,null,{"$f":"Table1[[#This Row],[strike]]","v":135},0,0,0,0,0,0,0,0,0]
[null,null,null,null,null,"@MSFT  191004P00136000","2019-09-01T14:41:38-04:00",3.2,0.28000000000000003,9.5890000000000004,-1,2.67,3.33,2.67,2.92,2.94,3.1,9,12,17,"2019-08-30T15:55:00","Put","2019-10-04",136,60,5.4099998400000002,2.6700000699999999,"WEEK",-0.36625000000000002,4.1770000000000002E-2,-4.2439999999999999E-2,-3.7159999999999999E-2,0.15559000000000001,0.24526999999999999,null,null,null,null,null,{"$f":"Table1[[#This Row],[strike]]","v":136},0,0,0,0,0,0,0,0,0]
[null,null,null,null,null,"@MSFT  191004C00136000","2019-09-01T14:41:38-04:00",4.8,-0.51,-9.6044999999999998,1,4.75,4.8,4.55,5.31,4.95,5.2,7,7,4,"2019-08-30T15:45:59","Call","2019-10-04",136,257,5.4000000899999998,3.4500000399999999,"WEEK",0.74151,5.3949999999999998E-2,-8.5190000000000002E-2,9.3039999999999998E-2,0.13868,0.18190000000000001,null,null,null,null,null,{"$f":"Table1[[#This Row],[strike]]","v":136},0,{"$f":"IF(AP$20=\"n/a\",0,IF(AP$20=\"Buy\",MAX(0,$AN215-AP$21),MIN(0,AP$21-$AN215)))*AP$22","v":0},0,0,0,0,0,0,0]
[null,null,null,null,null,"@MSFT  191004P00137000","2019-09-01T14:41:38-04:00",3.6,0.21,6.1947000000000001,-1,3.08,4.1100000000000003,3.08,3.39,3.3,3.5,10,12,19,"2019-08-30T15:55:00","Put","2019-10-04",137,5,5.2699999799999997,3.0799999200000001,"WEEK",-0.41393999999999997,3.968E-2,-5.076E-2,-4.045E-2,0.15964,0.24041999999999999,null,null,null,null,null,{"$f":"Table1[[#This Row],[strike]]","v":137},0,0,0,0,0,0,0,0,0]
[null,null,null,null,null,"@MSFT  191004C00137000","2019-09-01T14:41:38-04:00",4.55,-0.15,-3.1915,1,4.3499999999999996,4.55,3.89,4.7,4.3499999999999996,4.5999999999999996,12,12,61,"2019-08-30T15:57:09","Call","2019-10-04",137,355,5.0500001900000004,3.0999998999999998,"WEEK",0.68018999999999996,5.7389999999999997E-2,-8.7720000000000006E-2,8.5580000000000003E-2,0.14882999999999999,0.18268999999999999,null,null,null,null,null,{"$f":"Table1[[#This Row],[strike]]","v":137},{"$f":"IF(AO$20=\"n/a\",0,IF(AO$20=\"Buy\",AN217*Q$11,AN217*-Q$11))","v":0},0,0,0,0,0,0,{"$f":"_xlfn.AGGREGATE(9,6,AO217:AU217)","v":0},{"$f":"AV217+R$18","v":0}]
[null,null,null,null,null,"@MSFT  191004P00138000","2019-09-01T14:41:38-04:00",4.3499999999999996,0.7,19.178100000000001,1,4.17,4.3499999999999996,4.17,3.65,3.7,3.9,12,12,2,"2019-08-30T15:13:32","Put","2019-10-04",138,10,5.8000001900000004,3.6400001,"WEEK",-0.45376,4.6300000000000001E-2,-4.462E-2,-4.1180000000000001E-2,0.16161,0.24501000000000001,null,null,null,null,null,{"$f":"Table1[[#This Row],[strike]]","v":138},0,0,0,0,0,0,0,0,0]
[null,null,null,null,null,"@MSFT  191004C00138000","2019-09-01T14:41:38-04:00",3.85,-0.2,-4.9382999999999999,1,4.1500000000000004,4.1500000000000004,3.35,4.05,3.75,4,7,12,248,"2019-08-30T15:58:48","Call","2019-10-04",138,154,4.8499999000000003,2.5999998999999998,"WEEK",0.64273000000000002,6.9360000000000005E-2,-8.2360000000000003E-2,8.1680000000000003E-2,0.15486,0.16919000000000001,null,null,null,null,null,{"$f":"Table1[[#This Row],[strike]]","v":138},0,0,0,0,0,0,0,0,0]
[null,null,null,null,null,"@MSFT  191004P00139000","2019-09-01T14:41:38-04:00",4.55,0.48,11.7936,1,4.3499999999999996,4.55,4.3499999999999996,4.07,4.0999999999999996,4.3499999999999996,12,12,6,"2019-08-30T15:47:53","Put","2019-10-04",139,22,6.9000000899999998,4.05999994,"WEEK",-0.49062,4.0480000000000002E-2,-5.0450000000000002E-2,-4.6210000000000001E-2,0.16489999999999999,0.24822,null,null,null,null,null,{"$f":"Table1[[#This Row],[strike]]","v":139},0,0,0,0,0,0,0,0,0]
[null,null,null,null,null,"@MSFT  191004C00139000","2019-09-01T14:41:38-04:00",3,-0.6,-16.666699999999999,0,3.75,3.75,2.8,3.6,3.25,3.45,8,11,272,"2019-08-30T15:46:07","Call","2019-10-04",139,73,3.7999999500000001,2.33999991,"WEEK",0.55979000000000001,5.1929999999999997E-2,-9.0870000000000006E-2,7.0360000000000006E-2,0.16564999999999999,0.15659000000000001,null,null,null,null,null,{"$f":"Table1[[#This Row],[strike]]","v":139},0,0,0,0,0,0,0,0,0]
[null,null,null,null,null,"@MSFT  191004C00140000","2019-09-01T14:41:38-04:00",2.63,-0.27,-9.3102999999999998,0,3.15,3.16,2.2999999999999998,2.9,2.74,2.9,16,1,77,"2019-08-30T15:55:00","Call","2019-10-04",140,782,3.4700000200000001,1.8999999700000001,"WEEK",0.50488999999999995,6.5070000000000003E-2,-7.6869999999999994E-2,6.4329999999999998E-2,0.17649999999999999,0.16678000000000001,null,null,null,null,null,{"$f":"Table1[[#This Row],[strike]]","v":140},0,0,0,0,0,0,0,0,0]
[null,null,null,null,null,"@MSFT  191004C00141000","2019-09-01T14:41:38-04:00",2.12,-0.34,-13.821099999999999,1,2.65,2.65,1.9,2.46,2.31,2.52,13,14,81,"2019-08-30T15:34:06","Call","2019-10-04",141,459,2.9300000599999998,1.6900000500000001,"WEEK",0.45406000000000002,5.4730000000000001E-2,-8.0549999999999997E-2,5.7579999999999999E-2,0.18071000000000001,0.19672000000000001,null,null,null,null,null,{"$f":"Table1[[#This Row],[strike]]","v":141},0,0,0,0,0,0,0,0,0]
[null,null,null,null,null,"@MSFT  191004C00142000","2019-09-01T14:41:38-04:00",1.73,-0.35,-16.826899999999998,1,2.08,2.08,1.72,2.08,1.91,2.13,12,18,4,"2019-08-30T14:44:07","Call","2019-10-04",142,218,2.25,1.4500000399999999,"WEEK",0.38815,6.0380000000000003E-2,-7.2139999999999996E-2,4.9700000000000001E-2,0.19244,0.16066,null,null,null,null,null,{"$f":"Table1[[#This Row],[strike]]","v":142},0,0,0,0,0,0,0,0,0]
[null,null,null,null,null,"@MSFT  191004P00143000","2019-09-01T14:41:38-04:00",7,null,null,-1,6.4,7.65,6.4,null,6.45,6.7,7,12,11,"2019-08-30T15:47:53","Put","2019-10-04",143,0,7.6500000899999998,6.4000000899999998,"WEEK",-0.65822000000000003,4.4450000000000003E-2,-3.8530000000000002E-2,-4.9860000000000002E-2,0.16017999999999999,0.28649999999999998,null,null,null,null,null,{"$f":"Table1[[#This Row],[strike]]","v":143},0,{"$f":"IF(AP$20=\"n/a\",0,IF(AP$20=\"Buy\",MAX(0,$AN225-AP$21),MIN(0,AP$21-$AN225)))*AP$22","v":0},0,0,0,0,0,0,0]
[null,null,null,null,null,"@MSFT  191004C00143000","2019-09-01T14:41:38-04:00",1.46,-0.32,-17.977499999999999,-1,1.88,1.88,1.46,1.78,1.49,1.76,46,10,21,"2019-08-30T12:56:22","Call","2019-10-04",143,308,1.91999995,1.11000001,"WEEK",0.31997999999999999,6.0440000000000001E-2,-5.8299999999999998E-2,4.1259999999999998E-2,0.14202000000000001,0.18060999999999999,null,null,null,null,null,{"$f":"Table1[[#This Row],[strike]]","v":143},0,0,0,0,0,0,0,0,0]
[null,null,null,null,null,"@MSFT  191004C00144000","2019-09-01T14:41:38-04:00",1.07,-0.3,-21.8978,-1,1.5,1.5,1.07,1.37,1.19,1.45,50,16,50,"2019-08-30T15:18:49","Call","2019-10-04",144,164,1.62,0.92000001600000003,"WEEK",0.29050999999999999,5.1200000000000002E-2,-5.8529999999999999E-2,3.7330000000000002E-2,0.14215,0.15529999999999999,null,null,null,null,null,{"$f":"Table1[[#This Row],[strike]]","v":144},0,0,0,0,0,0,0,0,0]
[null,null,null,null,null,"@MSFT  191004C00145000","2019-09-01T14:41:38-04:00",0.88,-0.24,-21.428599999999999,-1,1.24,1.24,0.88,1.1200000000000001,0.99,1.1000000000000001,12,1,52,"2019-08-30T15:21:24","Call","2019-10-04",145,143,1.52999997,0.83999997299999996,"WEEK",0.24243000000000001,4.6309999999999997E-2,-5.1529999999999999E-2,3.1230000000000001E-2,0.14923,0.15619,null,null,null,null,null,{"$f":"Table1[[#This Row],[strike]]","v":145},0,0,0,0,0,0,0,0,0]
[null,null,null,null,null,"@MSFT  191004C00146000","2019-09-01T14:41:38-04:00",0.77,-0.16,-17.2043,-1,0.88,0.88,0.77,0.93,0.78,0.94,12,12,17,"2019-08-30T14:31:50","Call","2019-10-04",146,42,0.93000000699999996,0.64999997600000003,"WEEK",0.16757,4.2200000000000001E-2,-3.8699999999999998E-2,2.18E-2,0.16384000000000001,0.15937000000000001,null,null,null,null,null,{"$f":"Table1[[#This Row],[strike]]","v":146},0,0,0,0,0,0,0,0,0]
[null,null,null,null,null,"@MSFT  191004C00147000","2019-09-01T14:41:38-04:00",0.57999999999999996,-0.11,-15.942,1,0.63,0.63,0.53,0.69,0.61,0.69,20,1,4,"2019-08-30T15:39:11","Call","2019-10-04",147,41,1.02999997,0.52999997099999996,"WEEK",0.15315000000000001,3.6459999999999999E-2,-3.7810000000000003E-2,1.9879999999999998E-2,0.10851,0.16517000000000001,null,null,null,null,null,{"$f":"Table1[[#This Row],[strike]]","v":147},0,0,0,0,0,0,0,0,0]
[null,null,null,null,null,"@MSFT  191004C00148000","2019-09-01T14:41:38-04:00",0.41,-0.11,-21.1538,-1,0.48,0.48,0.41,0.52,0.45,0.62,29,40,2,"2019-08-30T15:23:34","Call","2019-10-04",148,21,0.55000001099999996,0.40999999599999998,"WEEK",0.19883999999999999,3.1629999999999998E-2,-5.4269999999999999E-2,2.538E-2,0.14505000000000001,0.20866000000000001,null,null,null,null,null,{"$f":"Table1[[#This Row],[strike]]","v":148},0,0,0,0,0,0,0,0,0]
[null,null,null,null,null,"@MSFT  191004P00149000","2019-09-01T14:41:38-04:00",11.1,-4.5999999999999996,-29.299399999999999,-1,11.1,11.1,11.1,15.7,11.05,11.75,12,34,2,"2019-08-30T10:14:13","Put","2019-10-04",149,5,15.699999800000001,11.1000003,"WEEK",-0.84782999999999997,3.2829999999999998E-2,-2.2440000000000002E-2,-3.8469999999999997E-2,9.2780000000000001E-2,0.2525,null,null,null,null,null,{"$f":"Table1[[#This Row],[strike]]","v":149},0,0,0,0,0,0,0,0,0]
[null,null,null,null,null,"@MSFT  191004C00149000","2019-09-01T14:41:38-04:00",0.34,-7.0000000000000007E-2,-17.0732,1,0.32,0.34,0.32,0.41,0.35,0.48,39,39,2,"2019-08-30T15:39:11","Call","2019-10-04",149,25,0.560000002,0.31999999200000001,"WEEK",0.13496,2.8389999999999999E-2,-3.8039999999999997E-2,1.7420000000000001E-2,6.8640000000000007E-2,0.17427000000000001,null,null,null,null,null,{"$f":"Table1[[#This Row],[strike]]","v":149},0,0,0,0,0,0,0,0,0]
[null,null,null,null,null,"@MSFT  191004C00150000","2019-09-01T14:41:38-04:00",0.25,-0.09,-26.470600000000001,-1,0.34,0.34,0.25,0.34,0.25,0.34,80,21,31,"2019-08-30T14:51:21","Call","2019-10-04",150,49,0.34999999399999998,0.25,"WEEK",7.7380000000000004E-2,2.0879999999999999E-2,-2.094E-2,1.008E-2,8.1240000000000007E-2,0.19635,null,null,null,null,null,{"$f":"Table1[[#This Row],[strike]]","v":150},0,0,0,0,0,0,0,0,0]
[null,null,null,null,null,"@MSFT  191011P00125000","2019-09-01T14:41:38-04:00",1.2,0.24,25,1,0.85,1.2,0.85,0.96,0.92,1.1200000000000001,60,31,9,"2019-08-30T11:17:04","Put","2019-10-11",125,2,1.2000000399999999,0.85000002299999999,"WEEK",-0.10983,1.486E-2,-2.562E-2,-1.6289999999999999E-2,9.1249999999999998E-2,0.29933999999999999,null,null,null,null,null,{"$f":"Table1[[#This Row],[strike]]","v":125},0,{"$f":"IF(AP$20=\"n/a\",0,IF(AP$20=\"Buy\",MAX(0,$AN235-AP$21),MIN(0,AP$21-$AN235)))*AP$22","v":0},0,0,0,0,0,0,0]
[null,null,null,null,null,"@MSFT  191011P00126000","2019-09-01T14:41:38-04:00",1.22,null,null,-1,1.07,1.27,1.07,null,1.07,1.2,21,12,16,"2019-08-30T14:08:58","Put","2019-10-11",126,0,1.2699999799999999,1.07000005,"WEEK",-0.13975000000000001,1.6740000000000001E-2,-3.288E-2,-2.043E-2,9.7040000000000001E-2,0.27546999999999999,null,null,null,null,null,{"$f":"Table1[[#This Row],[strike]]","v":126},0,0,0,0,0,0,0,0,0]
[null,null,null,null,null,"@MSFT  191011P00127000","2019-09-01T14:41:38-04:00",1.36,null,null,-1,1.1000000000000001,1.37,1.1000000000000001,null,1.17,1.39,29,38,12,"2019-08-30T15:37:18","Put","2019-10-11",127,0,1.37,1.10000002,"WEEK",-0.15642,1.8339999999999999E-2,-3.5830000000000001E-2,-2.307E-2,9.8879999999999996E-2,0.32499,null,null,null,null,null,{"$f":"Table1[[#This Row],[strike]]","v":127},0,0,0,0,0,0,0,0,0]
[null,null,null,null,null,"@MSFT  191011P00128000","2019-09-01T14:41:38-04:00",1.62,null,null,0,1.62,1.62,1.62,null,1.31,1.46,29,12,1,"2019-08-30T15:17:39","Put","2019-10-11",128,0,1.62,1.62,"WEEK",-0.17172000000000001,2.0129999999999999E-2,-3.8019999999999998E-2,-2.35E-2,0.10609,0.29949999999999999,null,null,null,null,null,{"$f":"Table1[[#This Row],[strike]]","v":128},0,0,0,0,0,0,0,0,0]
[null,null,null,null,null,"@MSFT  191011P00129000","2019-09-01T14:41:38-04:00",1.73,0.16,10.1911,-1,1.34,1.79,1.34,1.57,1.52,1.69,10,26,132,"2019-08-30T13:05:47","Put","2019-10-11",129,3,1.7899999600000001,1.3400000299999999,"WEEK",-0.18193999999999999,2.2249999999999999E-2,-3.755E-2,-2.4930000000000001E-2,0.11849999999999999,0.30245,null,null,null,null,null,{"$f":"Table1[[#This Row],[strike]]","v":129},0,0,0,0,0,0,0,0,0]
[null,null,null,null,null,"@MSFT  191011P00130000","2019-09-01T14:41:38-04:00",1.99,0.27,15.697699999999999,1,1.68,1.99,1.68,1.72,1.69,1.88,2,13,144,"2019-08-30T14:55:16","Put","2019-10-11",130,3,1.99,1.6799999400000001,"WEEK",-0.24152999999999999,2.164E-2,-5.0270000000000002E-2,-3.3660000000000002E-2,0.15790000000000001,0.33751999999999999,null,null,null,null,null,{"$f":"Table1[[#This Row],[strike]]","v":130},0,0,0,0,0,0,0,0,0]
[null,null,null,null,null,"@MSFT  191011P00131000","2019-09-01T14:41:38-04:00",2.2200000000000002,0.3,15.625,1,2.2200000000000002,2.2200000000000002,2.2200000000000002,1.92,1.85,2.1,13,15,1,"2019-08-30T15:01:47","Put","2019-10-11",131,1,2.2200000200000001,1.91999995,"WEEK",-0.26338,2.2790000000000001E-2,-5.0549999999999998E-2,-3.5749999999999997E-2,0.16037000000000001,0.30364000000000002,null,null,null,null,null,{"$f":"Table1[[#This Row],[strike]]","v":131},0,0,0,0,0,0,0,0,0]
[null,null,null,null,null,"@MSFT  191011P00132000","2019-09-01T14:41:38-04:00",2.37,0.2,9.2165999999999997,1,2.36,2.37,2.36,2.17,2.12,2.2599999999999998,9,21,2,"2019-08-30T15:37:18","Put","2019-10-11",132,4,2.3699998799999999,2.1099998900000001,"WEEK",-0.26754,2.6069999999999999E-2,-4.317E-2,-3.6220000000000002E-2,0.15975,0.26473999999999998,null,null,null,null,null,{"$f":"Table1[[#This Row],[strike]]","v":132},0,0,0,0,0,0,0,0,0]
[null,null,null,null,null,"@MSFT  191011C00132000","2019-09-01T14:41:38-04:00",7.63,null,null,-1,7.95,7.95,7.63,null,7.95,8.6,1,11,2,"2019-08-30T15:10:52","Call","2019-10-11",132,0,7.9499997999999996,7.6300001100000001,"WEEK",0.91698999999999997,2.5600000000000001E-2,-7.6179999999999998E-2,0.13503000000000001,7.1179999999999993E-2,3.3029999999999997E-2,null,null,null,null,null,{"$f":"Table1[[#This Row],[strike]]","v":132},0,0,0,0,0,0,0,0,0]
[null,null,null,null,null,"@MSFT  191011P00133000","2019-09-01T14:41:38-04:00",2.44,0.09,3.8298000000000001,1,2.36,2.44,2.36,2.35,2.31,2.54,13,12,2,"2019-08-30T11:00:19","Put","2019-10-11",133,2,2.4400000500000001,2.3199999299999998,"WEEK",-0.27736,2.988E-2,-3.7580000000000002E-2,-3.6240000000000001E-2,0.15981999999999999,0.25983000000000001,null,null,null,null,null,{"$f":"Table1[[#This Row],[strike]]","v":133},0,0,0,0,0,0,0,0,0]
[null,null,null,null,null,"@MSFT  191011P00134000","2019-09-01T14:41:38-04:00",2.5099999999999998,-0.12,-4.5627000000000004,1,2.34,2.5099999999999998,2.34,2.63,2.59,2.83,13,17,2,"2019-08-30T10:12:20","Put","2019-10-11",134,2,2.6300001100000001,2.33999991,"WEEK",-0.31620999999999999,3.0530000000000002E-2,-4.2439999999999999E-2,-4.2360000000000002E-2,0.16469,0.26008999999999999,null,null,null,null,null,{"$f":"Table1[[#This Row],[strike]]","v":134},0,{"$f":"IF(AP$20=\"n/a\",0,IF(AP$20=\"Buy\",MAX(0,$AN245-AP$21),MIN(0,AP$21-$AN245)))*AP$22","v":0},0,0,0,0,0,0,0]
[null,null,null,null,null,"@MSFT  191011P00135000","2019-09-01T14:41:38-04:00",3.3,0.41,14.1869,0,2.73,3.65,2.73,2.89,2.96,3.15,9,12,21,"2019-08-30T13:52:55","Put","2019-10-11",135,13,3.6500000899999998,2.7300000099999999,"WEEK",-0.33345000000000002,3.5799999999999998E-2,-3.6940000000000001E-2,-4.2660000000000003E-2,0.16616,0.28038999999999997,null,null,null,null,null,{"$f":"Table1[[#This Row],[strike]]","v":135},0,0,0,0,0,0,0,0,0]
[null,null,null,null,null,"@MSFT  191011C00135000","2019-09-01T14:41:38-04:00",5.74,null,null,-1,5.63,5.8,5.63,null,6.05,6.25,12,1,8,"2019-08-30T15:37:18","Call","2019-10-11",135,0,5.8000001900000004,5.6300001100000001,"WEEK",0.75392000000000003,4.0079999999999998E-2,-8.6940000000000003E-2,0.11171,0.15049000000000001,0.15870999999999999,null,null,null,null,null,{"$f":"Table1[[#This Row],[strike]]","v":135},0,0,0,0,0,0,0,0,0]
[null,null,null,null,null,"@MSFT  191011P00136000","2019-09-01T14:41:38-04:00",3.88,null,null,0,3.34,4,3.34,null,3.25,3.7,10,14,17,"2019-08-30T15:18:57","Put","2019-10-11",136,0,4,3.33999991,"WEEK",-0.36736000000000002,3.8620000000000002E-2,-3.7269999999999998E-2,-4.478E-2,0.16930999999999999,0.24973999999999999,null,null,null,null,null,{"$f":"Table1[[#This Row],[strike]]","v":136},0,0,0,0,0,0,0,0,0]
[null,null,null,null,null,"@MSFT  191011C00136000","2019-09-01T14:41:38-04:00",5.0199999999999996,null,null,-1,5.94,5.94,5.0199999999999996,null,5.4,5.6,12,5,2,"2019-08-30T11:34:17","Call","2019-10-11",136,0,5.9400000500000001,5.0199999799999997,"WEEK",0.74934000000000001,4.965E-2,-8.1629999999999994E-2,0.11246,0.14871999999999999,0.1361,null,null,null,null,null,{"$f":"Table1[[#This Row],[strike]]","v":136},0,0,0,0,0,0,0,0,0]
[null,null,null,null,null,"@MSFT  191011P00137000","2019-09-01T14:41:38-04:00",4.25,0.6,16.438400000000001,0,3.4,4.25,3.4,3.65,3.65,3.85,10,12,24,"2019-08-30T14:51:34","Put","2019-10-11",137,51,4.25,3.4000000899999998,"WEEK",-0.41276000000000002,3.6159999999999998E-2,-4.5690000000000001E-2,-4.6050000000000001E-2,0.17302999999999999,0.24772,null,null,null,null,null,{"$f":"Table1[[#This Row],[strike]]","v":137},0,0,0,0,0,0,0,0,0]
[null,null,null,null,null,"@MSFT  191011C00137000","2019-09-01T14:41:38-04:00",4.3499999999999996,-0.65,-13,0,5.25,5.25,4.3499999999999996,5,4.75,5,12,4,31,"2019-08-30T15:10:52","Call","2019-10-11",137,10,5.25,4.3499999000000003,"WEEK",0.69440000000000002,5.323E-2,-8.3309999999999995E-2,0.10455,0.15978000000000001,0.16716,null,null,null,null,null,{"$f":"Table1[[#This Row],[strike]]","v":137},0,0,0,0,0,0,0,0,0]
[null,null,null,null,null,"@MSFT  191011P00138000","2019-09-01T14:41:38-04:00",3.9,-0.1,-2.5,0,3.65,3.9,3.65,4,4.0999999999999996,4.3,1,12,9,"2019-08-30T10:12:11","Put","2019-10-11",138,27,4.2600002200000002,3.6500000899999998,"WEEK",-0.44918000000000002,3.764E-2,-4.5839999999999999E-2,-4.9410000000000003E-2,0.17666999999999999,0.27983999999999998,null,null,null,null,null,{"$f":"Table1[[#This Row],[strike]]","v":138},0,0,0,0,0,0,0,0,0]
[null,null,null,null,null,"@MSFT  191011C00138000","2019-09-01T14:41:38-04:00",3.8,-0.68,-15.178599999999999,-1,4.6900000000000004,4.6900000000000004,3.8,4.4800000000000004,4.2,4.5999999999999996,1,31,19,"2019-08-30T15:16:05","Call","2019-10-11",138,5,4.6900000500000001,3.7999999500000001,"WEEK",0.63395999999999997,5.1909999999999998E-2,-8.616E-2,9.5460000000000003E-2,0.17080999999999999,0.15013000000000001,null,null,null,null,null,{"$f":"Table1[[#This Row],[strike]]","v":138},0,0,0,0,0,0,0,0,0]
[null,null,null,null,null,"@MSFT  191011P00139000","2019-09-01T14:41:38-04:00",4.9800000000000004,null,null,-1,4.3499999999999996,4.99,4.3499999999999996,null,4.3499999999999996,4.75,16,12,3,"2019-08-30T12:58:23","Put","2019-10-11",139,0,4.9899997699999998,4.3499999000000003,"WEEK",-0.48285,3.7690000000000001E-2,-4.4319999999999998E-2,-5.1679999999999997E-2,0.17916000000000001,0.27743000000000001,null,null,null,null,null,{"$f":"Table1[[#This Row],[strike]]","v":139},0,0,0,0,0,0,0,0,0]
[null,null,null,null,null,"@MSFT  191011C00139000","2019-09-01T14:41:38-04:00",3.5,-0.42,-10.7143,-1,3.95,3.95,3.5,3.92,3.6,3.85,10,7,5,"2019-08-30T11:50:40","Call","2019-10-11",139,4,3.9500000399999999,3.5,"WEEK",0.59087999999999996,5.9490000000000001E-2,-7.7950000000000005E-2,8.9760000000000006E-2,0.1797,0.16621,null,null,null,null,null,{"$f":"Table1[[#This Row],[strike]]","v":139},0,{"$f":"IF(AP$20=\"n/a\",0,IF(AP$20=\"Buy\",MAX(0,$AN255-AP$21),MIN(0,AP$21-$AN255)))*AP$22","v":0},0,0,0,0,0,0,0]
[null,null,null,null,null,"@MSFT  191011C00140000","2019-09-01T14:41:38-04:00",3,-0.32,-9.6386000000000003,1,3.58,3.58,2.85,3.32,3.1,3.35,12,7,183,"2019-08-30T15:42:36","Call","2019-10-11",140,226,3.5799999200000001,2.8499998999999998,"WEEK",0.53125999999999995,5.5320000000000001E-2,-7.7369999999999994E-2,8.0629999999999993E-2,0.18948000000000001,0.15926000000000001,null,null,null,null,null,{"$f":"Table1[[#This Row],[strike]]","v":140},0,0,0,0,0,0,0,0,0]
[null,null,null,null,null,"@MSFT  191011C00141000","2019-09-01T14:41:38-04:00",2.4900000000000002,-0.32,-11.3879,0,2.52,2.52,2.4900000000000002,2.81,2.7,2.95,12,18,7,"2019-08-30T13:37:04","Call","2019-10-11",141,8,3.0999998999999998,2.4900000000000002,"WEEK",0.47971999999999998,5.2449999999999997E-2,-7.6289999999999997E-2,7.2840000000000002E-2,0.19733000000000001,0.20215,null,null,null,null,null,{"$f":"Table1[[#This Row],[strike]]","v":141},0,0,0,0,0,0,0,0,0]
[null,null,null,null,null,"@MSFT  191011C00142000","2019-09-01T14:41:38-04:00",2.17,-0.37,-14.5669,1,2.5,2.5,2.0299999999999998,2.54,2.2000000000000002,2.52,31,12,17,"2019-08-30T15:53:15","Call","2019-10-11",142,204,2.55999994,2.02999997,"WEEK",0.42912,5.2319999999999998E-2,-7.324E-2,6.54E-2,0.20584,0.15820000000000001,null,null,null,null,null,{"$f":"Table1[[#This Row],[strike]]","v":142},0,0,0,0,0,0,0,0,0]
[null,null,null,null,null,"@MSFT  191011P00145000","2019-09-01T14:41:38-04:00",8.8699999999999992,null,null,0,8.8699999999999992,8.8699999999999992,8.8699999999999992,null,8.15,8.4,5,12,1,"2019-08-30T12:06:46","Put","2019-10-11",145,0,8.8699998799999999,8.8699998799999999,"WEEK",-0.75156000000000001,4.5260000000000002E-2,-2.0840000000000001E-2,-3.8789999999999998E-2,0.13125000000000001,0.28104000000000001,null,null,null,null,null,{"$f":"Table1[[#This Row],[strike]]","v":145},0,0,0,0,0,0,0,0,0]
[null,null,null,null,null,"@MSFT  191011C00145000","2019-09-01T14:41:38-04:00",1.23,-0.12,-8.8888999999999996,0,1.2,1.23,1.2,1.35,1.29,1.49,9,16,18,"2019-08-30T15:42:36","Call","2019-10-11",145,12,1.5,1.2000000399999999,"WEEK",0.31106,4.2770000000000002E-2,-6.2890000000000001E-2,4.7559999999999998E-2,0.15185000000000001,0.17269000000000001,null,null,null,null,null,{"$f":"Table1[[#This Row],[strike]]","v":145},0,0,0,0,0,0,0,0,0]
[null,null,null,null,null,"@MSFT  191011C00147000","2019-09-01T14:41:38-04:00",0.76,-0.24,-24,0,0.79,0.79,0.76,1,0.85,0.97,10,7,33,"2019-08-30T15:22:54","Call","2019-10-11",147,25,1,0.75999998999999996,"WEEK",0.21232999999999999,3.7569999999999999E-2,-4.589E-2,3.2779999999999997E-2,0.17152999999999999,0.19703000000000001,null,null,null,null,null,{"$f":"Table1[[#This Row],[strike]]","v":147},0,0,0,0,0,0,0,0,0]
[null,null,null,null,null,"@MSFT  191011C00150000","2019-09-01T14:41:38-04:00",0.44,-7.0000000000000007E-2,-13.7255,1,0.37,0.44,0.37,0.51,0.42,0.51,12,31,11,"2019-08-30T15:55:00","Call","2019-10-11",150,2,0.50999998999999996,0.37000000399999999,"WEEK",0.13907,2.7009999999999999E-2,-3.5549999999999998E-2,2.154E-2,7.8719999999999998E-2,0.17168,null,null,null,null,null,{"$f":"Table1[[#This Row],[strike]]","v":150},0,0,0,0,0,0,0,0,0]
[null,null,null,null,null,"@MSFT  191018P00125000","2019-09-01T14:41:38-04:00",1.21,0.06,5.2173999999999996,0,0.88,1.47,0.88,1.1499999999999999,1.1599999999999999,1.27,20,5,340,"2019-08-30T15:55:46","Put","2019-10-18",125,15740,18.350000300000001,0.85000002299999999,"STAN",-0.13780999999999999,1.5169999999999999E-2,-3.0130000000000001E-2,-2.3640000000000001E-2,0.10306999999999999,0.31819999999999998,null,null,null,null,null,{"$f":"Table1[[#This Row],[strike]]","v":125},0,0,0,0,0,0,0,0,0]
[null,null,null,null,null,"@MSFT  191018C00125000","2019-09-01T14:41:38-04:00",13.83,-0.63,-4.3567999999999998,1,15.05,15.2,13.45,14.46,13.95,14.6,1,16,51,"2019-08-30T15:47:13","Call","2019-10-18",125,4510,17.629999099999999,1.9099999599999999,"STAN",0.99839999999999995,0,-6.5619999999999998E-2,0.16286999999999999,0,1.004E-2,null,null,null,null,null,{"$f":"Table1[[#This Row],[strike]]","v":125},0,0,0,0,0,0,0,0,0]
[null,null,null,null,null,"@MSFT  191018P00130000","2019-09-01T14:41:38-04:00",2,0.05,2.5640999999999998,-1,1.63,2.4,1.63,1.95,1.94,2.12,9,31,300,"2019-08-30T15:59:59","Put","2019-10-18",130,22741,22.799999199999998,1.3999999700000001,"STAN",-0.24273,2.0990000000000002E-2,-4.283E-2,-3.8030000000000001E-2,0.16897999999999999,0.27986,null,null,null,null,null,{"$f":"Table1[[#This Row],[strike]]","v":130},0,{"$f":"IF(AP$20=\"n/a\",0,IF(AP$20=\"Buy\",MAX(0,$AN265-AP$21),MIN(0,AP$21-$AN265)))*AP$22","v":0},0,0,0,0,0,0,0]
[null,null,null,null,null,"@MSFT  191018C00130000","2019-09-01T14:41:38-04:00",9.75,-0.56000000000000005,-5.4316000000000004,1,11,11,9.27,10.31,10.050000000000001,10.45,12,25,163,"2019-08-30T15:44:56","Call","2019-10-18",130,13791,13.699999800000001,1.13999998,"STAN",0.95599000000000001,1.438E-2,-7.2260000000000005E-2,0.16163,6.4519999999999994E-2,1.4659999999999999E-2,null,null,null,null,null,{"$f":"Table1[[#This Row],[strike]]","v":130},0,0,0,0,0,0,0,0,0]
[null,null,null,null,null,"@MSFT  191018P00135000","2019-09-01T14:41:38-04:00",3.35,7.0000000000000007E-2,2.1341000000000001,0,2.94,3.98,2.93,3.28,3.25,3.5,11,27,927,"2019-08-30T15:57:47","Put","2019-10-18",135,12288,23.75,2.4000000899999998,"STAN",-0.34871000000000002,3.0169999999999999E-2,-3.9640000000000002E-2,-5.3080000000000002E-2,0.18140000000000001,0.24961,null,null,null,null,null,{"$f":"Table1[[#This Row],[strike]]","v":135},0,0,0,0,0,0,0,0,0]
[null,null,null,null,null,"@MSFT  191018C00135000","2019-09-01T14:41:38-04:00",6.55,-0.09,-1.3553999999999999,1,7.65,7.65,5.67,6.64,6.4,6.6,11,100,737,"2019-08-30T15:59:59","Call","2019-10-18",135,11545,9.1800002999999997,0.74000000899999996,"STAN",0.81525000000000003,4.1779999999999998E-2,-7.757E-2,0.14191000000000001,0.14204,0.13722000000000001,null,null,null,null,null,{"$f":"Table1[[#This Row],[strike]]","v":135},0,0,0,0,0,0,0,0,0]
[null,null,null,null,null,"@MSFT  191018P00140000","2019-09-01T14:41:38-04:00",5.5,0.15,2.8037000000000001,0,4.9800000000000004,6.2,4.95,5.35,5.2,5.55,10,1,6392,"2019-08-30T15:58:53","Put","2019-10-18",140,2837,21.25,4.0500001900000004,"STAN",-0.51537999999999995,4.0649999999999999E-2,-3.0620000000000001E-2,-6.0609999999999997E-2,0.193,0.24998000000000001,null,null,null,null,null,{"$f":"Table1[[#This Row],[strike]]","v":140},0,0,0,0,0,0,0,0,0]
[null,null,null,null,null,"@MSFT  191018C00140000","2019-09-01T14:41:38-04:00",3.6,-0.15,-4,0,4.16,4.3499999999999996,3.03,3.75,3.45,3.75,15,14,5233,"2019-08-30T15:59:58","Call","2019-10-18",140,23230,6,0.46000000800000002,"STAN",0.55488000000000004,5.5460000000000002E-2,-7.288E-2,9.8280000000000006E-2,0.20349999999999999,0.15234,null,null,null,null,null,{"$f":"Table1[[#This Row],[strike]]","v":140},0,0,0,0,0,0,0,0,0]
[null,null,null,null,null,"@MSFT  191018P00145000","2019-09-01T14:41:38-04:00",9.5,1.01,11.8963,1,7.78,9.5,7.65,8.49,8.3000000000000007,8.65,25,12,51,"2019-08-30T11:28:26","Put","2019-10-18",145,1035,15.6599998,6.6199998799999999,"STAN",-0.69632000000000005,4.0430000000000001E-2,-2.7959999999999999E-2,-6.368E-2,0.18212,0.26546999999999998,null,null,null,null,null,{"$f":"Table1[[#This Row],[strike]]","v":145},0,0,0,0,0,0,0,{"$f":"_xlfn.AGGREGATE(9,6,AO271:AU271)","v":0},0]
[null,null,null,null,null,"@MSFT  191018C00145000","2019-09-01T14:41:38-04:00",1.64,-0.06,-3.5293999999999999,1,1.87,2,1.36,1.7,1.55,1.7,10,6,831,"2019-08-30T15:59:13","Call","2019-10-18",145,17578,3.7000000399999999,0.28999999100000001,"STAN",0.28359000000000001,5.0509999999999999E-2,-4.6620000000000002E-2,5.1290000000000002E-2,0.19136,0.15234,null,null,null,null,null,{"$f":"Table1[[#This Row],[strike]]","v":145},0,0,0,0,0,0,0,{"$f":"_xlfn.AGGREGATE(9,6,AO272:AU272)","v":0},0]
[null,null,null,null,null,"@MSFT  191018P00150000","2019-09-01T14:41:38-04:00",13,0.46,3.6682999999999999,0,13,13,13,12.54,12.25,12.7,16,12,4,"2019-08-30T15:50:03","Put","2019-10-18",150,892,28.6900005,10,"STAN",-0.82699999999999996,3.0640000000000001E-2,-1.9769999999999999E-2,-5.1670000000000001E-2,0.11169999999999999,0.2525,null,null,null,null,null,{"$f":"Table1[[#This Row],[strike]]","v":150},0,0,0,0,0,0,0,0,0]
[null,null,null,null,null,"@MSFT  191018C00150000","2019-09-01T14:41:38-04:00",0.62,-0.04,-6.0606,1,0.79,0.79,0.51,0.66,0.56000000000000005,0.67,155,34,285,"2019-08-30T15:59:59","Call","2019-10-18",150,14623,2.2000000399999999,0.15999999600000001,"STAN",0.15942000000000001,2.8709999999999999E-2,-3.6880000000000003E-2,2.878E-2,0.11486,0.17576,null,null,null,null,null,{"$f":"Table1[[#This Row],[strike]]","v":150},0,0,0,0,0,0,0,0,0]
[null,null,null,null,null,"@MSFT  191115P00125000","2019-09-01T14:41:38-04:00",2.52,0.17,7.234,1,2.5,2.5499999999999998,2.48,2.35,2.2799999999999998,2.48,1,24,61,"2019-08-30T15:01:35","Put","2019-11-15",125,661,3.9500000399999999,2.1199998799999999,"STAN",-0.17158000000000001,1.436E-2,-2.7879999999999999E-2,-4.2160000000000003E-2,0.15332000000000001,0.35275000000000001,null,null,null,null,null,{"$f":"Table1[[#This Row],[strike]]","v":125},0,{"$f":"IF(AP$20=\"n/a\",0,IF(AP$20=\"Buy\",MAX(0,$AN275-AP$21),MIN(0,AP$21-$AN275)))*AP$22","v":0},0,0,0,0,0,0,0]
[null,null,null,null,null,"@MSFT  191115C00125000","2019-09-01T14:41:38-04:00",15.05,-0.8,-5.0472999999999999,-1,15.05,15.05,15.05,15.85,15.5,16,12,16,5,"2019-08-30T12:11:01","Call","2019-11-15",125,122,16.670000000000002,12.7399997,"STAN",0.99748000000000003,0,-6.4680000000000001E-2,0.25251000000000001,0,2.0219999999999998E-2,null,null,null,null,null,{"$f":"Table1[[#This Row],[strike]]","v":125},0,0,0,0,0,0,0,0,0]
[null,null,null,null,null,"@MSFT  191115P00130000","2019-09-01T14:41:38-04:00",3.45,0.05,1.4705999999999999,1,3.2,3.7,3.2,3.4,3.35,3.55,12,12,316,"2019-08-30T15:56:29","Put","2019-11-15",130,6851,5.5999999000000003,3.1300001100000001,"STAN",-0.25279000000000001,1.8700000000000001E-2,-2.8500000000000001E-2,-6.1769999999999999E-2,0.20660999999999999,0.31036000000000002,null,null,null,null,null,{"$f":"Table1[[#This Row],[strike]]","v":130},0,0,0,0,0,0,0,0,0]
[null,null,null,null,null,"@MSFT  191115C00130000","2019-09-01T14:41:38-04:00",11.67,-0.19,-1.6020000000000001,1,12.05,12.05,10.9,11.86,11.65,12,12,11,23,"2019-08-30T15:58:55","Call","2019-11-15",130,2200,12.8000001,9.1000003800000009,"STAN",0.99748000000000003,0,-6.7489999999999994E-2,0.26261000000000001,0,0.01,null,null,null,null,null,{"$f":"Table1[[#This Row],[strike]]","v":130},0,0,0,0,0,0,0,0,0]
[null,null,null,null,null,"@MSFT  191115P00135000","2019-09-01T14:41:38-04:00",5,0.15,3.0928,0,4.55,5.4,4.55,4.8499999999999996,4.9000000000000004,5.15,6,8,71,"2019-08-30T15:57:18","Put","2019-11-15",135,1096,7.75,4.5500001900000004,"STAN",-0.35465000000000002,2.3990000000000001E-2,-3.0509999999999999E-2,-7.281E-2,0.22414999999999999,0.32172000000000001,null,null,null,null,null,{"$f":"Table1[[#This Row],[strike]]","v":135},0,0,0,0,0,0,0,0,0]
[null,null,null,null,null,"@MSFT  191115C00135000","2019-09-01T14:41:38-04:00",7.78,-0.72,-8.4705999999999992,-1,8.9,9,7.78,8.5,8.25,8.5,12,7,20,"2019-08-30T14:50:42","Call","2019-11-15",135,841,9.3500003800000009,6.3000001900000004,"STAN",0.82394999999999996,3.252E-2,-7.2520000000000001E-2,0.22202,0.16644999999999999,0.15812000000000001,null,null,null,null,null,{"$f":"Table1[[#This Row],[strike]]","v":135},0,0,0,0,0,0,0,0,0]
[null,null,null,null,null,"@MSFT  191115P00140000","2019-09-01T14:41:38-04:00",7.45,0.5,7.1942000000000004,0,6.7,7.6,6.7,6.95,7.05,7.3,6,12,88,"2019-08-30T13:54:28","Put","2019-11-15",140,463,10.199999800000001,6.55999994,"STAN",-0.47287000000000001,2.3699999999999999E-2,-3.6229999999999998E-2,-9.6890000000000004E-2,0.24135000000000001,0.31633,null,null,null,null,null,{"$f":"Table1[[#This Row],[strike]]","v":140},{"$f":"IF(AO$20=\"n/a\",0,IF(AO$20=\"Buy\",AN281*Q$11,AN281*-Q$11))","v":0},0,0,0,0,0,0,0,{"$f":"AV281+R$18","v":0}]
[null,null,null,null,null,"@MSFT  191115C00140000","2019-09-01T14:41:38-04:00",5.45,-0.15,-2.6785999999999999,-1,6.05,6.05,4.8499999999999996,5.6,5.4,5.6,12,7,2124,"2019-08-30T15:59:03","Call","2019-11-15",140,7007,6.5999999000000003,4,"STAN",0.63038000000000005,4.5929999999999999E-2,-6.7839999999999998E-2,0.17363000000000001,0.24071999999999999,0.14058000000000001,null,null,null,null,null,{"$f":"Table1[[#This Row],[strike]]","v":140},0,0,0,0,0,0,0,0,0]
[null,null,null,null,null,"@MSFT  191115P00145000","2019-09-01T14:41:38-04:00",10.1,0.5,5.2083000000000004,1,10.45,10.45,9.9499999999999993,9.6,9.85,10.1,6,12,68,"2019-08-30T15:57:08","Put","2019-11-15",145,123,12.8500003,9.4499998000000005,"STAN",-0.61677000000000004,3.0630000000000001E-2,-2.5170000000000001E-2,-0.10392,0.24106,0.35421000000000002,null,null,null,null,null,{"$f":"Table1[[#This Row],[strike]]","v":145},0,0,0,0,0,0,0,0,0]
[null,null,null,null,null,"@MSFT  191115C00145000","2019-09-01T14:41:38-04:00",3.31,-0.03,-0.898204,1,3.6,3.65,2.88,3.34,3.25,3.4,12,3,119,"2019-08-30T15:57:52","Call","2019-11-15",145,1318,4.0999999000000003,2.3900001,"STAN",0.42680000000000001,4.0460000000000003E-2,-6.1060000000000003E-2,0.11842999999999999,0.20182,0.14793999999999999,null,null,null,null,null,{"$f":"Table1[[#This Row],[strike]]","v":145},0,0,0,0,0,0,0,0,0]
[null,null,null,null,null,"@MSFT  191115P00150000","2019-09-01T14:41:38-04:00",13.85,0.55000000000000004,4.1353,-1,12.77,14.1,12.77,13.3,13.35,13.85,7,7,27,"2019-08-30T14:30:02","Put","2019-11-15",150,588,17.549999199999998,12.770000400000001,"STAN",-0.69799999999999995,2.5510000000000001E-2,-2.7060000000000001E-2,-9.9150000000000002E-2,0.22037000000000001,0.32912999999999998,null,null,null,null,null,{"$f":"Table1[[#This Row],[strike]]","v":150},0,{"$f":"IF(AP$20=\"n/a\",0,IF(AP$20=\"Buy\",MAX(0,$AN285-AP$21),MIN(0,AP$21-$AN285)))*AP$22","v":0},0,0,0,0,0,0,0]
[null,null,null,null,null,"@MSFT  191115C00150000","2019-09-01T14:41:38-04:00",1.8,-0.04,-2.1739000000000002,1,1.9,1.93,1.59,1.84,1.76,1.97,12,20,210,"2019-08-30T15:56:39","Call","2019-11-15",150,1308,2.3199999299999998,1.2999999499999999,"STAN",0.23355999999999999,3.3489999999999999E-2,-3.85E-2,6.6110000000000002E-2,0.27290999999999999,0.16517000000000001,null,null,null,null,null,{"$f":"Table1[[#This Row],[strike]]","v":150},0,0,0,0,0,0,0,0,0]
[null,null,null,null,null,"@MSFT  191220P00125000","2019-09-01T14:41:38-04:00",3.32,0.22,7.0968,-1,3,3.4,3,3.1,3.1,3.25,20,12,28,"2019-08-30T15:53:03","Put","2019-12-20",125,7453,11.67,2.1700000699999999,"STAN",-0.19650000000000001,1.277E-2,-2.1700000000000001E-2,-6.8010000000000001E-2,0.22841,0.37391000000000002,null,null,null,null,null,{"$f":"Table1[[#This Row],[strike]]","v":125},0,0,0,0,0,0,0,0,0]
[null,null,null,null,null,"@MSFT  191220C00125000","2019-09-01T14:41:38-04:00",15.9,-0.85,-5.0746000000000002,-1,17.2,17.2,15.3,16.75,16.100000000000001,16.75,21,15,28,"2019-08-30T15:47:05","Call","2019-12-20",125,950,19,6.6500000899999998,"STAN",0.98055999999999999,4.4200000000000003E-3,-6.4399999999999999E-2,0.35408000000000001,3.6769999999999997E-2,1.0659999999999999E-2,null,null,null,null,null,{"$f":"Table1[[#This Row],[strike]]","v":125},0,0,0,0,0,0,0,0,0]
[null,null,null,null,null,"@MSFT  191220P00130000","2019-09-01T14:41:38-04:00",4.6900000000000004,0.33,7.5688000000000004,1,4.95,4.95,4.68,4.3600000000000003,4.4000000000000004,4.7,9,11,29,"2019-08-30T13:14:51","Put","2019-12-20",130,3535,14.1199998,3,"STAN",-0.27800000000000002,1.521E-2,-2.538E-2,-9.8729999999999998E-2,0.25191999999999998,0.34548000000000001,null,null,null,null,null,{"$f":"Table1[[#This Row],[strike]]","v":130},0,0,0,0,0,0,0,0,0]
[null,null,null,null,null,"@MSFT  191220C00130000","2019-09-01T14:41:38-04:00",12.56,-0.11,-0.86819299999999999,1,12.7,12.7,11.81,12.67,12.45,12.95,12,13,79,"2019-08-30T15:55:45","Call","2019-12-20",130,2227,14.949999800000001,4.5999999000000003,"STAN",0.99633000000000005,0,-6.6290000000000002E-2,0.37497000000000003,0,1.017E-2,null,null,null,null,null,{"$f":"Table1[[#This Row],[strike]]","v":130},0,0,0,0,0,0,0,0,0]
[null,null,null,null,null,"@MSFT  191220P00135000","2019-09-01T14:41:38-04:00",6.22,0.19,3.1509,-1,5.6,6.51,5.6,6.03,6.05,6.3,12,12,9,"2019-08-30T15:59:34","Put","2019-12-20",135,2880,12.8100004,4.4800000100000004,"STAN",-0.36015999999999998,1.932E-2,-2.6339999999999999E-2,-0.11026,0.26934000000000002,0.29474,null,null,null,null,null,{"$f":"Table1[[#This Row],[strike]]","v":135},0,0,0,0,0,0,0,0,0]
[null,null,null,null,null,"@MSFT  191220C00135000","2019-09-01T14:41:38-04:00",9.25,-0.15,-1.5956999999999999,1,9.9499999999999993,9.9499999999999993,8.74,9.4,9,9.65,21,1,63,"2019-08-30T15:58:06","Call","2019-12-20",135,3995,11.279999699999999,3.5999998999999998,"STAN",0.99633000000000005,0,-6.905E-2,0.38939000000000001,2.9999999999999997E-4,2.0219999999999998E-2,null,null,null,null,null,{"$f":"Table1[[#This Row],[strike]]","v":135},0,0,0,0,0,0,0,0,0]
[null,null,null,null,null,"@MSFT  191220P00140000","2019-09-01T14:41:38-04:00",7.95,-0.25,-3.0488,-1,7.95,7.95,7.95,8.1999999999999993,8.0500000000000007,8.8000000000000007,14,14,1,"2019-08-30T09:30:03","Put","2019-12-20",140,3186,13.5,6.4000000899999998,"STAN",-0.45128000000000001,1.9220000000000001E-2,-2.8979999999999999E-2,-0.13633000000000001,0.28788000000000002,0.36212,null,null,null,null,null,{"$f":"Table1[[#This Row],[strike]]","v":140},0,0,0,0,0,0,0,0,0]
[null,null,null,null,null,"@MSFT  191220C00140000","2019-09-01T14:41:38-04:00",6.55,-0.1,-1.5038,1,7,7.02,5.85,6.65,6.45,6.6,1,1,343,"2019-08-30T15:59:41","Call","2019-12-20",140,5744,8.1999998000000005,2.1700000699999999,"STAN",0.74185000000000001,4.4999999999999998E-2,-6.4310000000000006E-2,0.29674,0.25161,0.10346,null,null,null,null,null,{"$f":"Table1[[#This Row],[strike]]","v":140},0,0,0,0,0,0,0,0,0]
[null,null,null,null,null,"@MSFT  191220P00145000","2019-09-01T14:41:38-04:00",12.05,1.1000000000000001,10.0457,1,10.5,12.05,10.5,10.95,10.85,11.3,1,12,28,"2019-08-30T11:19:06","Put","2019-12-20",145,733,16.649999600000001,8.8000001900000004,"STAN",-0.53561000000000003,1.934E-2,-2.666E-2,-0.13877999999999999,0.28581000000000001,0.34217999999999998,null,null,null,null,null,{"$f":"Table1[[#This Row],[strike]]","v":145},0,{"$f":"IF(AP$20=\"n/a\",0,IF(AP$20=\"Buy\",MAX(0,$AN295-AP$21),MIN(0,AP$21-$AN295)))*AP$22","v":0},0,0,0,0,0,0,0]
[null,null,null,null,null,"@MSFT  191220C00145000","2019-09-01T14:41:38-04:00",3.89,-0.46,-10.5747,-1,4.5999999999999996,4.6500000000000004,3.85,4.3499999999999996,4.2,4.4000000000000004,12,4,169,"2019-08-30T15:18:12","Call","2019-12-20",145,7436,5.6999997999999996,1.4099999599999999,"STAN",0.51414000000000004,4.1910000000000003E-2,-5.7439999999999998E-2,0.20696999999999999,0.24464,0.15365000000000001,null,null,null,null,null,{"$f":"Table1[[#This Row],[strike]]","v":145},0,0,0,0,0,0,0,0,0]
[null,null,null,null,null,"@MSFT  191220C00150000","2019-09-01T14:41:38-04:00",2.52,-0.15,-5.6180000000000003,1,2.83,2.83,2.34,2.67,2.57,2.74,12,12,239,"2019-08-30T15:55:00","Call","2019-12-20",150,19420,3.7200000200000001,0.980000019,"STAN",0.32834999999999998,3.6749999999999998E-2,-4.1700000000000001E-2,0.13427,0.34645999999999999,0.14627000000000001,null,null,null,null,null,{"$f":"Table1[[#This Row],[strike]]","v":150},0,0,0,0,0,0,0,0,0]
[null,null,null,null,null,"@MSFT  200117P00125000","2019-09-01T14:41:38-04:00",3.85,0.15,4.0541,-1,3.69,3.95,3.69,3.7,3.7,3.85,10,62,38,"2019-08-30T15:52:37","Put","2020-01-17",125,17732,44.25,2.55999994,"STAN",-0.24067,1.056E-2,-2.5749999999999999E-2,-0.11358,0.26778999999999997,0.37672,null,null,null,null,null,{"$f":"Table1[[#This Row],[strike]]","v":125},0,0,0,0,0,0,0,0,0]
[null,null,null,null,null,"@MSFT  200117C00125000","2019-09-01T14:41:38-04:00",16.7,-0.3,-1.7646999999999999,0,17.649999999999999,17.670000000000002,16,17,16.850000000000001,17.399999999999999,12,15,99,"2019-08-30T15:55:01","Call","2020-01-17",125,18104,19.4500007,1.10000002,"STAN",0.99541999999999997,0,-6.2619999999999995E-2,0.44397999999999999,0,2.0219999999999998E-2,null,null,null,null,null,{"$f":"Table1[[#This Row],[strike]]","v":125},0,0,0,0,0,0,0,0,0]
[null,null,null,null,null,"@MSFT  200117P00130000","2019-09-01T14:41:38-04:00",5.16,0.16,3.2,-1,4.8,5.4,4.8,5,5.05,5.25,50,63,51,"2019-08-30T15:58:28","Put","2020-01-17",130,11615,44.950000699999997,3.6300001100000001,"STAN",-0.28527999999999998,1.3509999999999999E-2,-2.247E-2,-0.12175999999999999,0.28058,0.35310000000000002,null,null,null,null,null,{"$f":"Table1[[#This Row],[strike]]","v":130},0,0,0,0,0,0,0,0,0]
[null,null,null,null,null,"@MSFT  200117C00130000","2019-09-01T14:41:38-04:00",12.99,-0.44,-3.2761999999999998,-1,14.05,14.05,12.7,13.43,13.05,13.7,15,1,63,"2019-08-30T15:54:00","Call","2020-01-17",130,34833,15.5500001,1.3999999700000001,"STAN",0.99541999999999997,0,-6.5339999999999995E-2,0.46173999999999998,0,1.001E-2,null,null,null,null,null,{"$f":"Table1[[#This Row],[strike]]","v":130},0,0,0,0,0,0,0,0,0]
[null,null,null,null,null,"@MSFT  200117P00135000","2019-09-01T14:41:38-04:00",6.95,0.2,2.9630000000000001,-1,6.55,7.25,6.55,6.75,6.8,7.05,7,72,319,"2019-08-30T15:58:53","Put","2020-01-17",135,15416,51.490001599999999,5.0500001900000004,"STAN",-0.35693999999999998,1.8030000000000001E-2,-2.1850000000000001E-2,-0.13739999999999999,0.29830000000000001,0.30930999999999997,null,null,null,null,null,{"$f":"Table1[[#This Row],[strike]]","v":135},0,0,0,0,0,0,0,0,0]
[null,null,null,null,null,"@MSFT  200117C00135000","2019-09-01T14:41:38-04:00",10.25,0.02,0.19550300000000001,1,10.7,10.7,9.4,10.23,10,10.4,21,2,549,"2019-08-30T15:59:59","Call","2020-01-17",135,30013,12.0500001,1.27999997,"STAN",0.99541999999999997,0,-6.8070000000000006E-2,0.47949999999999998,1.0000000000000001E-5,1.264E-2,null,null,null,null,null,{"$f":"Table1[[#This Row],[strike]]","v":135},0,0,0,0,0,0,0,0,0]
[null,null,null,null,null,"@MSFT  200117P00140000","2019-09-01T14:41:38-04:00",9.61,0.71,7.9775,1,8.5,9.61,8.4700000000000006,8.9,8.75,9.25,14,12,1541,"2019-08-30T15:11:00","Put","2020-01-17",140,10175,47.5,7,"STAN",-0.44771,2.1399999999999999E-2,-1.7469999999999999E-2,-0.13224,0.30136000000000002,0.31607000000000002,null,null,null,null,null,{"$f":"Table1[[#This Row],[strike]]","v":140},0,0,0,0,0,0,0,0,0]
[null,null,null,null,null,"@MSFT  200117C00140000","2019-09-01T14:41:38-04:00",7.35,-0.1,-1.3423,-1,7.9,7.9,6.7,7.45,7.3,7.45,8,10,1029,"2019-08-30T15:59:58","Call","2020-01-17",140,43869,9.0100002200000002,0.87999999500000003,"STAN",0.83760999999999997,4.0250000000000001E-2,-6.5140000000000003E-2,0.41716999999999999,0.21926999999999999,0.11368,null,null,null,null,null,{"$f":"Table1[[#This Row],[strike]]","v":140},0,{"$f":"IF(AP$20=\"n/a\",0,IF(AP$20=\"Buy\",MAX(0,$AN305-AP$21),MIN(0,AP$21-$AN305)))*AP$22","v":0},0,0,0,0,0,0,0]
[null,null,null,null,null,"@MSFT  200117P00145000","2019-09-01T14:41:38-04:00",12.22,0.56999999999999995,4.8926999999999996,1,11.15,12.22,11.15,11.65,11.65,11.95,14,12,2,"2019-08-30T15:37:41","Put","2020-01-17",145,1151,46,9.3999996100000001,"STAN",-0.51658999999999999,1.7659999999999999E-2,-2.3029999999999998E-2,-0.1673,0.31748999999999999,0.31,null,null,null,null,null,{"$f":"Table1[[#This Row],[strike]]","v":145},0,0,0,0,0,0,0,0,0]
[null,null,null,null,null,"@MSFT  200117C00145000","2019-09-01T14:41:38-04:00",5.0999999999999996,-0.05,-0.97087400000000001,-1,5.42,5.42,4.55,5.15,5.05,5.25,7,10,633,"2019-08-30T15:59:17","Call","2020-01-17",145,25289,6.8000001900000004,0.62999999500000003,"STAN",0.58523999999999998,4.1959999999999997E-2,-5.7329999999999999E-2,0.29344999999999999,0.27095000000000002,0.12734000000000001,null,null,null,null,null,{"$f":"Table1[[#This Row],[strike]]","v":145},0,0,0,0,0,0,0,0,0]
[null,null,null,null,null,"@MSFT  200117P00150000","2019-09-01T14:41:38-04:00",14.3,-3.03,-17.484100000000002,-1,14.3,14.3,14.3,17.329999999999998,14.7,15.25,1,12,2,"2019-08-30T09:30:00","Put","2020-01-17",150,2499,52.5,12.4799995,"STAN",-0.64402000000000004,2.3570000000000001E-2,-1.2630000000000001E-2,-0.12565000000000001,0.30141000000000001,0.311,null,null,null,null,null,{"$f":"Table1[[#This Row],[strike]]","v":150},0,0,0,0,0,0,0,0,0]
[null,null,null,null,null,"@MSFT  200117C00150000","2019-09-01T14:41:38-04:00",3.4,0.02,0.59171600000000002,1,3.57,3.57,3,3.38,3.25,3.5,17,18,1645,"2019-08-30T15:59:59","Call","2020-01-17",150,19391,4.4099998400000002,0.40000000499999999,"STAN",0.39822000000000002,3.8580000000000003E-2,-4.4080000000000001E-2,0.20266000000000001,0.39648,0.13444,null,null,null,null,null,{"$f":"Table1[[#This Row],[strike]]","v":150},0,0,0,0,0,0,0,0,0]
[null,null,null,null,null,"@MSFT  200320C00125000","2019-09-01T14:41:38-04:00",18.399999999999999,-0.36,-1.919,1,19.2,19.2,18,18.760000000000002,18.45,19,11,15,20,"2019-08-30T15:58:09","Call","2020-03-20",125,259,19.309999399999999,14.770000400000001,"STAN",0.99336000000000002,0,-6.0609999999999997E-2,0.62217,0,3.2349999999999997E-2,null,null,null,null,null,{"$f":"Table1[[#This Row],[strike]]","v":125},0,0,0,0,0,0,0,0,0]
[null,null,null,null,null,"@MSFT  200320P00130000","2019-09-01T14:41:38-04:00",7,0.25,3.7037,0,6.61,7,6.61,6.75,6.75,7.2,7,20,11,"2019-08-30T14:25:16","Put","2020-03-20",130,1374,9.6000003800000009,6.6100001300000004,"STAN",-0.28303,1.269E-2,-1.528E-2,-0.16367000000000001,0.32618999999999998,0.32684000000000002,null,null,null,null,null,{"$f":"Table1[[#This Row],[strike]]","v":130},0,0,0,0,0,0,0,0,0]
[null,null,null,null,null,"@MSFT  200320C00130000","2019-09-01T14:41:38-04:00",14.7,-0.63,-4.1096000000000004,1,15.5,15.6,14.68,15.33,14.75,15.5,10,9,34,"2019-08-30T15:28:30","Call","2020-03-20",130,402,16.600000300000001,11.5399999,"STAN",0.99336000000000002,0,-6.3259999999999997E-2,0.64705000000000001,0,2.0219999999999998E-2,null,null,null,null,null,{"$f":"Table1[[#This Row],[strike]]","v":130},0,0,0,0,0,0,0,0,0]
[null,null,null,null,null,"@MSFT  200320P00135000","2019-09-01T14:41:38-04:00",9.1,0.45,5.2023000000000001,1,9.1,9.1,9.1,8.65,8.65,8.9499999999999993,7,11,2,"2019-08-30T14:04:39","Put","2020-03-20",135,897,12.079999900000001,8.1999998000000005,"STAN",-0.35518,1.362E-2,-1.9429999999999999E-2,-0.19366,0.35277999999999998,0.32994000000000001,null,null,null,null,null,{"$f":"Table1[[#This Row],[strike]]","v":135},0,0,0,0,0,0,0,0,0]
[null,null,null,null,null,"@MSFT  200320C00135000","2019-09-01T14:41:38-04:00",12.05,-0.2,-1.6327,1,12.7,12.7,11.35,12.25,11.85,12.45,7,12,44,"2019-08-30T15:56:57","Call","2020-03-20",135,816,13.390000300000001,8.9200000700000004,"STAN",1,1,-0.13658000000000001,3.4380899999999999,0,1.6379999999999999E-2,null,null,null,null,null,{"$f":"Table1[[#This Row],[strike]]","v":135},0,0,0,0,0,0,0,0,0]
[null,null,null,null,null,"@MSFT  200320P00140000","2019-09-01T14:41:38-04:00",11.42,0.62,5.7407000000000004,1,11.42,11.42,11.42,10.8,10.9,11.4,7,14,2,"2019-08-30T14:04:39","Put","2020-03-20",140,541,14.8000001,10.3500003,"STAN",-0.42764999999999997,1.6899999999999998E-2,-1.489E-2,-0.18518999999999999,0.3569,0.33961000000000002,null,null,null,null,null,{"$f":"Table1[[#This Row],[strike]]","v":140},0,{"$f":"IF(AP$20=\"n/a\",0,IF(AP$20=\"Buy\",MAX(0,$AN315-AP$21),MIN(0,AP$21-$AN315)))*AP$22","v":0},0,0,0,0,0,0,0]
[null,null,null,null,null,"@MSFT  200320C00140000","2019-09-01T14:41:38-04:00",9.15,-0.3,-3.1745999999999999,1,10,10,8.8699999999999992,9.4499999999999993,9.1,9.75,12,10,43,"2019-08-30T15:48:03","Call","2020-03-20",140,1110,10.6300001,6.9000000899999998,"STAN",0.91903999999999997,-1.8149999999999999E-2,-6.5759999999999999E-2,0.59379999999999999,3.8760000000000003E-2,1.042E-2,null,null,null,null,null,{"$f":"Table1[[#This Row],[strike]]","v":140},0,0,0,0,0,0,0,0,0]
[null,null,null,null,null,"@MSFT  200320C00145000","2019-09-01T14:41:38-04:00",6.9,-0.2,-2.8169,1,7.3,7.35,6.5,7.1,6.95,7.1,7,26,244,"2019-08-30T15:55:00","Call","2020-03-20",145,1087,8.1000003800000009,5.0999999000000003,"STAN",0.83306000000000002,4.9680000000000002E-2,-6.2839999999999993E-2,0.60984000000000005,0.29296,0.11128,null,null,null,null,null,{"$f":"Table1[[#This Row],[strike]]","v":145},0,0,0,0,0,0,0,0,0]
[null,null,null,null,null,"@MSFT  200320C00150000","2019-09-01T14:41:38-04:00",5.05,-0.3,-5.6074999999999999,1,5.3,5.3,4.8,5.35,5.0999999999999996,5.5,12,1,59,"2019-08-30T15:48:03","Call","2020-03-20",150,746,5.9899997699999998,3.7000000399999999,"STAN",0.55359000000000003,4.3270000000000003E-2,-4.9630000000000001E-2,0.40633000000000002,0.49192999999999998,0.14188999999999999,null,null,null,null,null,{"$f":"Table1[[#This Row],[strike]]","v":150},0,0,0,0,0,0,0,0,0]
[null,null,null,null,null,"@MSFT  200417C00125000","2019-09-01T14:41:38-04:00",18.670000000000002,1.47,8.5465,-1,19.600000000000001,19.600000000000001,18.670000000000002,17.2,18.95,19.55,12,10,31,"2019-08-30T12:30:59","Call","2020-04-17",125,32,19.600000300000001,16.239999699999998,"STAN",0.99245000000000005,0,-5.9740000000000001E-2,0.69735999999999998,0,3.2349999999999997E-2,null,null,null,null,null,{"$f":"Table1[[#This Row],[strike]]","v":125},0,0,0,0,0,0,0,0,0]
[null,null,null,null,null,"@MSFT  200417P00130000","2019-09-01T14:41:38-04:00",7.65,0.65,9.2857000000000003,1,7.08,7.65,7.08,7,7.3,7.75,7,19,3,"2019-08-30T11:41:37","Put","2020-04-17",130,7,7.6500000899999998,7,"STAN",-0.28204000000000001,1.243E-2,-1.346E-2,-0.17774000000000001,0.34531000000000001,0.34739999999999999,null,null,null,null,null,{"$f":"Table1[[#This Row],[strike]]","v":130},0,0,0,0,0,0,0,0,0]
[null,null,null,null,null,"@MSFT  200417C00135000","2019-09-01T14:41:38-04:00",12.65,-0.25,-1.9379999999999999,-1,12.95,12.95,12.65,12.9,12.6,13.15,12,13,2,"2019-08-30T10:50:30","Call","2020-04-17",135,63,12.949999800000001,10.649999599999999,"STAN",1,1,-0.26393,7.6681900000000001,0,1.6490000000000001E-2,null,null,null,null,null,{"$f":"Table1[[#This Row],[strike]]","v":135},0,0,0,0,0,0,0,0,0]
[null,null,null,null,null,"@MSFT  200417C00140000","2019-09-01T14:41:38-04:00",9.65,-0.45,-4.4554,-1,9.65,9.65,9.65,10.1,9.65,10.45,14,10,2,"2019-08-30T14:45:05","Call","2020-04-17",140,12,10.6800003,8.3999996100000001,"STAN",-1,0,0,0,0,1.04E-2,null,null,null,null,null,{"$f":"Table1[[#This Row],[strike]]","v":140},0,0,0,0,0,0,0,0,0]
[null,null,null,null,null,"@MSFT  200417C00145000","2019-09-01T14:41:38-04:00",7.35,-0.32,-4.1721000000000004,-1,7.5,7.5,7.35,7.67,7.65,8.15,12,14,8,"2019-08-30T15:10:07","Call","2020-04-17",145,47,8.1000003800000009,6.3200001700000001,"STAN",0.93752000000000002,-1.7229999999999999E-2,-6.6970000000000002E-2,0.72572999999999999,3.2770000000000001E-2,3.5970000000000002E-2,null,null,null,null,null,{"$f":"Table1[[#This Row],[strike]]","v":145},0,0,0,0,0,0,0,0,0]
[null,null,null,null,null,"@MSFT  200417C00150000","2019-09-01T14:41:38-04:00",5.53,-0.42,-7.0587999999999997,-1,5.53,5.53,5.53,5.95,5.7,6.15,12,14,2,"2019-08-30T14:45:05","Call","2020-04-17",150,39,6.1999997999999996,4.7899999600000003,"STAN",0.60611000000000004,3.3599999999999998E-2,-5.2819999999999999E-2,0.49341000000000002,0.42337999999999998,0.12545999999999999,null,null,null,null,null,{"$f":"Table1[[#This Row],[strike]]","v":150},0,0,0,0,0,0,0,0,0]
[null,null,null,null,null,"@MSFT  200619P00125000","2019-09-01T14:41:38-04:00",7.35,0.35,5,1,7.05,7.35,7.05,7,7,7.4,10,31,7,"2019-08-30T11:14:15","Put","2020-06-19",125,3843,23.780000600000001,5.4499997999999996,"STAN",-0.23718,9.0500000000000008E-3,-1.107E-2,-0.20038,0.35937999999999998,0.40175,null,null,null,null,null,{"$f":"Table1[[#This Row],[strike]]","v":125},0,{"$f":"IF(AP$20=\"n/a\",0,IF(AP$20=\"Buy\",MAX(0,$AN325-AP$21),MIN(0,AP$21-$AN325)))*AP$22","v":0},0,0,0,0,0,0,0]
[null,null,null,null,null,"@MSFT  200619C00125000","2019-09-01T14:41:38-04:00",19.809999999999999,-0.74,-3.601,-1,20.3,20.3,19.809999999999999,20.55,19.899999999999999,20.9,1,15,20,"2019-08-30T13:14:56","Call","2020-06-19",125,5219,22.469999300000001,4.5,"STAN",0.99019999999999997,1.2E-4,-5.7829999999999999E-2,0.85765999999999998,2.8E-3,1.017E-2,null,null,null,null,null,{"$f":"Table1[[#This Row],[strike]]","v":125},0,0,0,0,0,0,0,0,0]
[null,null,null,null,null,"@MSFT  200619P00130000","2019-09-01T14:41:38-04:00",8.5,-0.15,-1.7341,1,8.41,8.5,8.41,8.65,8.6999999999999993,9,10,10,18,"2019-08-30T10:06:06","Put","2020-06-19",130,4603,37.099998399999997,6.9000000899999998,"STAN",-0.28741,1.081E-2,-1.213E-2,-0.23727999999999999,0.38751000000000002,0.3911,null,null,null,null,null,{"$f":"Table1[[#This Row],[strike]]","v":130},0,0,0,0,0,0,0,0,0]
[null,null,null,null,null,"@MSFT  200619C00130000","2019-09-01T14:41:38-04:00",17.649999999999999,0.4,2.3188,1,17.649999999999999,17.649999999999999,17.649999999999999,17.25,16.649999999999999,17.7,10,15,3,"2019-08-30T09:51:09","Call","2020-06-19",130,3183,19,3.5,"STAN",0.99039999999999995,0,-6.0359999999999997E-2,0.89212999999999998,0,0.01,null,null,null,null,null,{"$f":"Table1[[#This Row],[strike]]","v":130},0,0,0,0,0,0,0,0,0]
[null,null,null,null,null,"@MSFT  200619P00135000","2019-09-01T14:41:38-04:00",11.06,0.31,2.8837000000000002,1,11.06,11.06,11.06,10.75,10.7,11.05,7,62,10,"2019-08-30T13:47:47","Put","2020-06-19",135,3169,31.790000899999999,8.8000001900000004,"STAN",-0.34600999999999998,1.0019999999999999E-2,-1.6740000000000001E-2,-0.26723000000000002,0.41832999999999998,0.39434999999999998,null,null,null,null,null,{"$f":"Table1[[#This Row],[strike]]","v":135},0,0,0,0,0,0,0,0,0]
[null,null,null,null,null,"@MSFT  200619C00135000","2019-09-01T14:41:38-04:00",13.73,-0.56999999999999995,-3.9860000000000002,-1,14.86,14.86,13.6,14.3,14.05,14.45,7,4,21,"2019-08-30T12:50:46","Call","2020-06-19",135,3482,15.8500003,2.7000000399999999,"STAN",0.71235000000000004,-3.4439999999999998E-2,-5.4339999999999999E-2,0.44427,0.30154999999999998,1.566E-2,null,null,null,null,null,{"$f":"Table1[[#This Row],[strike]]","v":135},0,0,0,0,0,0,0,0,0]
[null,null,null,null,null,"@MSFT  200619P00140000","2019-09-01T14:41:38-04:00",13.75,0.9,7.0038999999999998,1,13.1,13.75,13.05,12.85,13,13.6,8,21,8,"2019-08-30T11:14:15","Put","2020-06-19",140,2728,37.200000699999997,10.7899999,"STAN",-0.39996999999999999,1.154E-2,-1.452E-2,-0.26264999999999999,0.41859000000000002,0.38895000000000002,null,null,null,null,null,{"$f":"Table1[[#This Row],[strike]]","v":140},0,0,0,0,0,0,0,0,0]
[null,null,null,null,null,"@MSFT  200619C00140000","2019-09-01T14:41:38-04:00",11.55,-0.23,-1.9524999999999999,1,12.16,12.16,10.85,11.78,11.4,12,7,10,467,"2019-08-30T15:59:17","Call","2020-06-19",140,8355,13,2.1700000699999999,"STAN",0.98087999999999997,5.5999999999999999E-3,-6.5030000000000004E-2,0.95279999999999998,4.8009999999999997E-2,1.001E-2,null,null,null,null,null,{"$f":"Table1[[#This Row],[strike]]","v":140},0,0,0,0,0,0,0,0,0]
[null,null,null,null,null,"@MSFT  200619C00145000","2019-09-01T14:41:38-04:00",9.1,-0.35,-3.7037,1,9.41,9.41,8.85,9.4499999999999993,9.1,9.6999999999999993,12,21,484,"2019-08-30T15:55:33","Call","2020-06-19",145,4371,10.470000199999999,1.88999998,"STAN",1,0,-0.66978000000000004,10.181100000000001,0,5.8900000000000001E-2,null,null,null,null,null,{"$f":"Table1[[#This Row],[strike]]","v":145},0,0,0,0,0,0,0,0,0]
[null,null,null,null,null,"@MSFT  200619C00150000","2019-09-01T14:41:38-04:00",7.25,-0.1,-1.3605,1,7.45,7.65,6.88,7.35,6.95,7.55,50,8,529,"2019-08-30T15:58:45","Call","2020-06-19",150,3597,8.3100004100000007,1.1799999400000001,"STAN",0.78896999999999995,3.8859999999999999E-2,-5.9569999999999998E-2,0.82162000000000002,0.43915999999999999,5.2019999999999997E-2,null,null,null,null,null,{"$f":"Table1[[#This Row],[strike]]","v":150},0,0,0,0,0,0,0,0,0]
[null,null,null,null,null,"@MSFT  200918C00130000","2019-09-01T14:41:38-04:00",19,0.61,3.3170000000000002,-1,19,19.010000000000002,19,18.39,18.2,19,21,3,22,"2019-08-30T10:08:45","Call","2020-09-18",130,494,20.399999600000001,7.6999997999999996,"STAN",1,0.18926999999999999,-6.5310000000000007E-2,1.7874099999999999,0,2.0219999999999998E-2,null,null,null,null,null,{"$f":"Table1[[#This Row],[strike]]","v":130},0,{"$f":"IF(AP$20=\"n/a\",0,IF(AP$20=\"Buy\",MAX(0,$AN335-AP$21),MIN(0,AP$21-$AN335)))*AP$22","v":0},0,0,0,0,0,0,0]
[null,null,null,null,null,"@MSFT  200918P00135000","2019-09-01T14:41:38-04:00",12.75,0.47,3.8273999999999999,-1,12.84,12.84,12.75,12.28,12.35,12.7,7,12,6,"2019-08-30T14:38:49","Put","2020-09-18",135,356,15.199999800000001,10.25,"STAN",-0.33650000000000002,9.1999999999999998E-3,-1.155E-2,-0.28294999999999998,0.44439000000000001,0.42113,null,null,null,null,null,{"$f":"Table1[[#This Row],[strike]]","v":135},0,0,0,0,0,0,0,{"$f":"_xlfn.AGGREGATE(9,6,AO336:AU336)","v":0},0]
[null,null,null,null,null,"@MSFT  200918C00135000","2019-09-01T14:41:38-04:00",15.3,-0.5,-3.1646000000000001,-1,16.3,16.3,15.3,15.8,15.3,16.600000000000001,1,21,11,"2019-08-30T11:14:40","Call","2020-09-18",135,628,17.5,6.8000001900000004,"STAN",0.98989000000000005,2.5500000000000002E-3,-6.0100000000000001E-2,1.1617599999999999,0,2.904E-2,null,null,null,null,null,{"$f":"Table1[[#This Row],[strike]]","v":135},0,0,0,0,0,0,0,0,0]
[null,null,null,null,null,"@MSFT  200918C00140000","2019-09-01T14:41:38-04:00",12.9,-0.55000000000000004,-4.0891999999999999,0,12.9,12.95,12.9,13.45,13.2,14,12,20,127,"2019-08-30T14:40:25","Call","2020-09-18",140,920,14.5,5.1999997999999996,"STAN",0.98626999999999998,1.08E-3,-6.2379999999999998E-2,1.1966600000000001,1.4E-2,4.3090000000000003E-2,null,null,null,null,null,{"$f":"Table1[[#This Row],[strike]]","v":140},0,0,0,0,0,0,0,0,0]
[null,null,null,null,null,"@MSFT  200918C00145000","2019-09-01T14:41:38-04:00",10.85,-0.3,-2.6905999999999999,0,11.25,11.25,10.85,11.15,10.6,11.75,21,15,197,"2019-08-30T15:47:24","Call","2020-09-18",145,496,12.199999800000001,3.4000000899999998,"STAN",1,0,-15.94717,538.72789999999998,0,3.3149999999999999E-2,null,null,null,null,null,{"$f":"Table1[[#This Row],[strike]]","v":145},0,0,0,0,0,0,0,0,0]
[null,null,null,null,null,"@MSFT  200918C00150000","2019-09-01T14:41:38-04:00",9.1,0.05,0.55248600000000003,0,9.1,9.1,9.1,9.0500000000000007,8.85,9.5,7,36,21,"2019-08-30T10:08:45","Call","2020-09-18",150,607,9.8999996100000001,3.24,"STAN",-1,0,0,0,3.8594499999999998,4.4949999999999997E-2,null,null,null,null,null,{"$f":"Table1[[#This Row],[strike]]","v":150},0,0,0,0,0,0,0,0,0]
[null,null,null,null,null,"@MSFT  210115P00125000","2019-09-01T14:41:38-04:00",10,-0.3,-2.9125999999999999,-1,10.050000000000001,10.050000000000001,10,10.3,10.199999999999999,10.8,23,1,53,"2019-08-30T09:43:42","Put","2021-01-15",125,2244,30.5,8.6000003800000009,"STAN",-0.25002999999999997,6.8399999999999997E-3,-8.7200000000000003E-3,-0.36760999999999999,0.46222999999999997,0.39090999999999998,null,null,null,null,null,{"$f":"Table1[[#This Row],[strike]]","v":125},0,0,0,0,0,0,0,0,0]
[null,null,null,null,null,"@MSFT  210115C00125000","2019-09-01T14:41:38-04:00",23.02,-0.73,-3.0737000000000001,-1,24.05,24.05,23.02,23.75,23.1,24.95,12,1,7,"2019-08-30T11:36:26","Call","2021-01-15",125,5732,25.799999199999998,6.6999997999999996,"STAN",0.98358999999999996,0,-5.1839999999999997E-2,1.3123899999999999,1.1730000000000001E-2,1.001E-2,null,null,null,null,null,{"$f":"Table1[[#This Row],[strike]]","v":125},0,0,0,0,0,0,0,0,0]
[null,null,null,null,null,"@MSFT  210115C00130000","2019-09-01T14:41:38-04:00",20.100000000000001,-0.62,-2.9923000000000002,-1,21,21,19.899999999999999,20.72,20.05,21.55,13,1,179,"2019-08-30T15:06:30","Call","2021-01-15",130,3649,22.399999600000001,5.75,"STAN",0.98358999999999996,0,-5.4129999999999998E-2,1.3648899999999999,0,1.001E-2,null,null,null,null,null,{"$f":"Table1[[#This Row],[strike]]","v":130},0,0,0,0,0,0,0,0,0]
[null,null,null,null,null,"@MSFT  210115P00135000","2019-09-01T14:41:38-04:00",14.05,-0.27,-1.8855,1,13.95,14.05,13.95,14.32,13.75,14.9,1,12,23,"2019-08-30T09:46:23","Put","2021-01-15",135,2089,38.979999499999998,12.029999699999999,"STAN",-0.33093,8.2699999999999996E-3,-9.5399999999999999E-3,-0.37054999999999999,0.49775999999999998,0.41371999999999998,null,null,null,null,null,{"$f":"Table1[[#This Row],[strike]]","v":135},0,0,0,0,0,0,0,0,0]
[null,null,null,null,null,"@MSFT  210115C00135000","2019-09-01T14:41:38-04:00",17.510000000000002,-0.49,-2.7222,-1,17.8,17.8,17.2,18,17.3,18.399999999999999,1,1,22,"2019-08-30T11:59:37","Call","2021-01-15",135,5389,19.6200008,4.6999997999999996,"STAN",-1,-0.70321999999999996,0,0,2.7250000000000001,2.6859999999999998E-2,null,null,null,null,null,{"$f":"Table1[[#This Row],[strike]]","v":135},{"$f":"IF(AO$20=\"n/a\",0,IF(AO$20=\"Buy\",AN345*Q$11,AN345*-Q$11))","v":0},{"$f":"IF(AP$20=\"n/a\",0,IF(AP$20=\"Buy\",MAX(0,$AN345-AP$21),MIN(0,AP$21-$AN345)))*AP$22","v":0},0,0,0,0,0,0,{"$f":"AV345+R$18","v":0}]
[null,null,null,null,null,"@MSFT  210115C00140000","2019-09-01T14:41:38-04:00",15.45,0.05,0.32467499999999999,1,15.7,15.7,14.95,15.4,14.85,15.85,11,5,63,"2019-08-30T15:59:00","Call","2021-01-15",140,6378,16.9300003,3.99,"STAN",-0.30370000000000003,-0.14687,-3.81E-3,0,2.87608,4.4339999999999997E-2,null,null,null,null,null,{"$f":"Table1[[#This Row],[strike]]","v":140},0,0,0,0,0,0,0,0,0]
[null,null,null,null,null,"@MSFT  210115C00145000","2019-09-01T14:41:38-04:00",12.7,-0.65,-4.8689,-1,13.5,13.5,12.6,13.35,13.05,13.35,1,1,15,"2019-08-30T15:01:47","Call","2021-01-15",145,1806,14.3000001,3.27999997,"STAN",1,0,-106.65029,5127.4560199999996,0,1.9859999999999999E-2,null,null,null,null,null,{"$f":"Table1[[#This Row],[strike]]","v":145},0,0,0,0,0,0,0,0,0]
[null,null,null,null,null,"@MSFT  210115C00150000","2019-09-01T14:41:38-04:00",10.85,-0.45,-3.9823,1,10.7,10.85,10.5,11.3,11.1,11.6,32,5,17,"2019-08-30T15:37:20","Call","2021-01-15",150,5173,12.0500001,2.58999991,"STAN",0.98392000000000002,1.0200000000000001E-3,-6.3310000000000005E-2,1.57988,4.8799999999999998E-3,3.9039999999999998E-2,null,null,null,null,null,{"$f":"Table1[[#This Row],[strike]]","v":150},0,0,0,0,0,0,0,0,0]
[null,null,null,null,null,"@MSFT  210618C00125000","2019-09-01T14:41:38-04:00",25.62,-0.18,-0.69767400000000002,-1,25.62,25.62,25.62,25.8,25.65,27.2,1,12,4,"2019-08-30T10:11:18","Call","2021-06-18",125,567,28.399999600000001,14.8699998,"STAN",0.97863,0,-4.7820000000000001E-2,1.57592,0,1.017E-2,null,null,null,null,null,{"$f":"Table1[[#This Row],[strike]]","v":125},0,0,0,0,0,0,0,0,0]
[null,null,null,null,null,"@MSFT  210618C00135000","2019-09-01T14:41:38-04:00",20.149999999999999,-0.28000000000000003,-1.3705000000000001,1,20.7,20.7,19.95,20.43,19.05,21.8,12,1,11,"2019-08-30T14:31:21","Call","2021-06-18",135,982,23.350000300000001,11.8000001,"STAN",-1,-1,0,0,0,2.674E-2,null,null,null,null,null,{"$f":"Table1[[#This Row],[strike]]","v":135},0,0,0,0,0,0,0,0,0]
[null,null,null,null,null,"@MSFT  210618P00140000","2019-09-01T14:41:38-04:00",19.61,0.45,2.3485999999999998,1,19.27,19.61,19.27,19.16,17.8,20,12,1,5,"2019-08-30T11:25:43","Put","2021-06-18",140,322,22,16.549999199999998,"STAN",-0.35625000000000001,7.7600000000000004E-3,-8.2299999999999995E-3,-0.55020999999999998,0.58031999999999995,0.43818000000000001,null,null,null,null,null,{"$f":"Table1[[#This Row],[strike]]","v":140},0,0,0,0,0,0,0,0,0]
[null,null,null,null,null,"@MSFT  210618C00140000","2019-09-01T14:41:38-04:00",17.7,-0.3,-1.6667000000000001,0,18.45,18.45,16.75,18,15.95,19.5,21,34,11,"2019-08-30T15:57:22","Call","2021-06-18",140,1266,19.75,10,"STAN",0.97862000000000005,1.0000000000000001E-5,-5.4210000000000001E-2,1.7650300000000001,1.15E-3,4.9110000000000001E-2,null,null,null,null,null,{"$f":"Table1[[#This Row],[strike]]","v":140},0,0,0,0,0,0,0,0,0]
[null,null,null,null,null,"@MSFT  210618C00150000","2019-09-01T14:41:38-04:00",13.6,-0.13,-0.94683200000000001,1,13.78,13.78,13,13.73,12,14.4,30,6,4,"2019-08-30T15:55:06","Call","2021-06-18",150,598,16.040000899999999,6.5,"STAN",-1,0,0,0,0,5.953E-2,null,null,null,null,null,{"$f":"Table1[[#This Row],[strike]]","v":150},0,0,0,0,0,0,0,0,0]
[null,null,null,null,null,null,null,null,null,null,null,null,null,null,null,null,null,null,null,null,null,null,null,null,null,null,null,null,null,null,null,null,null,null,null,null,null,null,null,{"$f":"Table1[[#This Row],[strike]]","v":0},0,0,0,0,0,0,0,0,0]
[null,null,null,null,null,null,null,null,null,null,null,null,null,null,null,null,null,null,null,null,null,null,null,null,null,null,null,null,null,null,null,null,null,null,null,null,null,null,null,{"$f":"Table1[[#This Row],[strike]]","v":0},0,{"$f":"IF(AP$20=\"n/a\",0,IF(AP$20=\"Buy\",MAX(0,$AN355-AP$21),MIN(0,AP$21-$AN355)))*AP$22","v":0},0,0,0,0,0,0,0]
[null,null,null,null,null,null,null,null,null,null,null,null,null,null,null,null,null,null,null,null,null,null,null,null,null,null,null,null,null,null,null,null,null,null,null,null,null,null,null,{"$f":"Table1[[#This Row],[strike]]","v":0},0,0,0,0,0,0,0,0,0]
[null,null,null,null,null,null,null,null,null,null,null,null,null,null,null,null,null,null,null,null,null,null,null,null,null,null,null,null,null,null,null,null,null,null,null,null,null,null,null,{"$f":"Table1[[#This Row],[strike]]","v":0},0,0,0,0,0,0,0,0,0]
[null,null,null,null,null,null,null,null,null,null,null,null,null,null,null,null,null,null,null,null,null,null,null,null,null,null,null,null,null,null,null,null,null,null,null,null,null,null,null,{"$f":"Table1[[#This Row],[strike]]","v":0},0,0,0,0,0,0,0,0,0]
[null,null,null,null,null,null,null,null,null,null,null,null,null,null,null,null,null,null,null,null,null,null,null,null,null,null,null,null,null,null,null,null,null,null,null,null,null,null,null,{"$f":"Table1[[#This Row],[strike]]","v":0},0,0,0,0,0,0,0,0,0]
[null,null,null,null,null,null,null,null,null,null,null,null,null,null,null,null,null,null,null,null,null,null,null,null,null,null,null,null,null,null,null,null,null,null,null,null,null,null,null,{"$f":"Table1[[#This Row],[strike]]","v":0},0,0,0,0,0,0,0,0,0]
[null,null,null,null,null,null,null,null,null,null,null,null,null,null,null,null,null,null,null,null,null,null,null,null,null,null,null,null,null,null,null,null,null,null,null,null,null,null,null,{"$f":"Table1[[#This Row],[strike]]","v":0},0,0,0,0,0,0,0,0,0]
[null,null,null,null,null,null,null,null,null,null,null,null,null,null,null,null,null,null,null,null,null,null,null,null,null,null,null,null,null,null,null,null,null,null,null,null,null,null,null,{"$f":"Table1[[#This Row],[strike]]","v":0},0,0,0,0,0,0,0,0,0]
[null,null,null,null,null,null,null,null,null,null,null,null,null,null,null,null,null,null,null,null,null,null,null,null,null,null,null,null,null,null,null,null,null,null,null,null,null,null,null,{"$f":"Table1[[#This Row],[strike]]","v":0},0,0,0,0,0,0,0,0,0]
[null,null,null,null,null,null,null,null,null,null,null,null,null,null,null,null,null,null,null,null,null,null,null,null,null,null,null,null,null,null,null,null,null,null,null,null,null,null,null,{"$f":"Table1[[#This Row],[strike]]","v":0},0,0,0,0,0,0,0,0,0]
[null,null,null,null,null,null,null,null,null,null,null,null,null,null,null,null,null,null,null,null,null,null,null,null,null,null,null,null,null,null,null,null,null,null,null,null,null,null,null,{"$f":"Table1[[#This Row],[strike]]","v":0},0,{"$f":"IF(AP$20=\"n/a\",0,IF(AP$20=\"Buy\",MAX(0,$AN365-AP$21),MIN(0,AP$21-$AN365)))*AP$22","v":0},0,0,0,0,0,0,0]
[null,null,null,null,null,null,null,null,null,null,null,null,null,null,null,null,null,null,null,null,null,null,null,null,null,null,null,null,null,null,null,null,null,null,null,null,null,null,null,{"$f":"Table1[[#This Row],[strike]]","v":0},0,0,0,0,0,0,0,0,0]
[null,null,null,null,null,null,null,null,null,null,null,null,null,null,null,null,null,null,null,null,null,null,null,null,null,null,null,null,null,null,null,null,null,null,null,null,null,null,null,{"$f":"Table1[[#This Row],[strike]]","v":0},0,0,0,0,0,0,0,0,0]
[null,null,null,null,null,null,null,null,null,null,null,null,null,null,null,null,null,null,null,null,null,null,null,null,null,null,null,null,null,null,null,null,null,null,null,null,null,null,null,{"$f":"Table1[[#This Row],[strike]]","v":0},0,0,0,0,0,0,0,0,0]
[null,null,null,null,null,null,null,null,null,null,null,null,null,null,null,null,null,null,null,null,null,null,null,null,null,null,null,null,null,null,null,null,null,null,null,null,null,null,null,{"$f":"Table1[[#This Row],[strike]]","v":0},0,0,0,0,0,0,0,0,0]
[null,null,null,null,null,null,null,null,null,null,null,null,null,null,null,null,null,null,null,null,null,null,null,null,null,null,null,null,null,null,null,null,null,null,null,null,null,null,null,{"$f":"Table1[[#This Row],[strike]]","v":0},0,0,0,0,0,0,0,0,0]
[null,null,null,null,null,null,null,null,null,null,null,null,null,null,null,null,null,null,null,null,null,null,null,null,null,null,null,null,null,null,null,null,null,null,null,null,null,null,null,{"$f":"Table1[[#This Row],[strike]]","v":0},0,0,0,0,0,0,0,0,0]
[null,null,null,null,null,null,null,null,null,null,null,null,null,null,null,null,null,null,null,null,null,null,null,null,null,null,null,null,null,null,null,null,null,null,null,null,null,null,null,{"$f":"Table1[[#This Row],[strike]]","v":0},0,0,0,0,0,0,0,0,0]
[null,null,null,null,null,null,null,null,null,null,null,null,null,null,null,null,null,null,null,null,null,null,null,null,null,null,null,null,null,null,null,null,null,null,null,null,null,null,null,{"$f":"Table1[[#This Row],[strike]]","v":0},0,0,0,0,0,0,0,0,0]
[null,null,null,null,null,null,null,null,null,null,null,null,null,null,null,null,null,null,null,null,null,null,null,null,null,null,null,null,null,null,null,null,null,null,null,null,null,null,null,{"$f":"Table1[[#This Row],[strike]]","v":0},0,0,0,0,0,0,0,0,0]
[null,null,null,null,null,null,null,null,null,null,null,null,null,null,null,null,null,null,null,null,null,null,null,null,null,null,null,null,null,null,null,null,null,null,null,null,null,null,null,{"$f":"Table1[[#This Row],[strike]]","v":0},0,{"$f":"IF(AP$20=\"n/a\",0,IF(AP$20=\"Buy\",MAX(0,$AN375-AP$21),MIN(0,AP$21-$AN375)))*AP$22","v":0},0,0,0,0,0,0,0]
[null,null,null,null,null,null,null,null,null,null,null,null,null,null,null,null,null,null,null,null,null,null,null,null,null,null,null,null,null,null,null,null,null,null,null,null,null,null,null,{"$f":"Table1[[#This Row],[strike]]","v":0},0,0,0,0,0,0,0,0,0]
[null,null,null,null,null,null,null,null,null,null,null,null,null,null,null,null,null,null,null,null,null,null,null,null,null,null,null,null,null,null,null,null,null,null,null,null,null,null,null,{"$f":"Table1[[#This Row],[strike]]","v":0},0,0,0,0,0,0,0,0,0]
[null,null,null,null,null,null,null,null,null,null,null,null,null,null,null,null,null,null,null,null,null,null,null,null,null,null,null,null,null,null,null,null,null,null,null,null,null,null,null,{"$f":"Table1[[#This Row],[strike]]","v":0},0,0,0,0,0,0,0,0,0]
[null,null,null,null,null,null,null,null,null,null,null,null,null,null,null,null,null,null,null,null,null,null,null,null,null,null,null,null,null,null,null,null,null,null,null,null,null,null,null,{"$f":"Table1[[#This Row],[strike]]","v":0},0,0,0,0,0,0,0,0,0]
[null,null,null,null,null,null,null,null,null,null,null,null,null,null,null,null,null,null,null,null,null,null,null,null,null,null,null,null,null,null,null,null,null,null,null,null,null,null,null,{"$f":"Table1[[#This Row],[strike]]","v":0},0,0,0,0,0,0,0,0,0]
[null,null,null,null,null,null,null,null,null,null,null,null,null,null,null,null,null,null,null,null,null,null,null,null,null,null,null,null,null,null,null,null,null,null,null,null,null,null,null,{"$f":"Table1[[#This Row],[strike]]","v":0},0,0,0,0,0,0,0,0,0]
[null,null,null,null,null,null,null,null,null,null,null,null,null,null,null,null,null,null,null,null,null,null,null,null,null,null,null,null,null,null,null,null,null,null,null,null,null,null,null,{"$f":"Table1[[#This Row],[strike]]","v":0},0,0,0,0,0,0,0,0,0]
[null,null,null,null,null,null,null,null,null,null,null,null,null,null,null,null,null,null,null,null,null,null,null,null,null,null,null,null,null,null,null,null,null,null,null,null,null,null,null,{"$f":"Table1[[#This Row],[strike]]","v":0},0,0,0,0,0,0,0,0,0]
[null,null,null,null,null,null,null,null,null,null,null,null,null,null,null,null,null,null,null,null,null,null,null,null,null,null,null,null,null,null,null,null,null,null,null,null,null,null,null,{"$f":"Table1[[#This Row],[strike]]","v":0},0,0,0,0,0,0,0,0,0]
[null,null,null,null,null,null,null,null,null,null,null,null,null,null,null,null,null,null,null,null,null,null,null,null,null,null,null,null,null,null,null,null,null,null,null,null,null,null,null,{"$f":"Table1[[#This Row],[strike]]","v":0},0,{"$f":"IF(AP$20=\"n/a\",0,IF(AP$20=\"Buy\",MAX(0,$AN385-AP$21),MIN(0,AP$21-$AN385)))*AP$22","v":0},0,0,0,0,0,0,0]
[null,null,null,null,null,null,null,null,null,null,null,null,null,null,null,null,null,null,null,null,null,null,null,null,null,null,null,null,null,null,null,null,null,null,null,null,null,null,null,{"$f":"Table1[[#This Row],[strike]]","v":0},0,0,0,0,0,0,0,0,0]
[null,null,null,null,null,null,null,null,null,null,null,null,null,null,null,null,null,null,null,null,null,null,null,null,null,null,null,null,null,null,null,null,null,null,null,null,null,null,null,{"$f":"Table1[[#This Row],[strike]]","v":0},0,0,0,0,0,0,0,0,0]
[null,null,null,null,null,null,null,null,null,null,null,null,null,null,null,null,null,null,null,null,null,null,null,null,null,null,null,null,null,null,null,null,null,null,null,null,null,null,null,{"$f":"Table1[[#This Row],[strike]]","v":0},0,0,0,0,0,0,0,0,0]
[null,null,null,null,null,null,null,null,null,null,null,null,null,null,null,null,null,null,null,null,null,null,null,null,null,null,null,null,null,null,null,null,null,null,null,null,null,null,null,{"$f":"Table1[[#This Row],[strike]]","v":0},0,0,0,0,0,0,0,0,0]
[null,null,null,null,null,null,null,null,null,null,null,null,null,null,null,null,null,null,null,null,null,null,null,null,null,null,null,null,null,null,null,null,null,null,null,null,null,null,null,{"$f":"Table1[[#This Row],[strike]]","v":0},0,0,0,0,0,0,0,0,0]
[null,null,null,null,null,null,null,null,null,null,null,null,null,null,null,null,null,null,null,null,null,null,null,null,null,null,null,null,null,null,null,null,null,null,null,null,null,null,null,{"$f":"Table1[[#This Row],[strike]]","v":0},0,0,0,0,0,0,0,0,0]
[null,null,null,null,null,null,null,null,null,null,null,null,null,null,null,null,null,null,null,null,null,null,null,null,null,null,null,null,null,null,null,null,null,null,null,null,null,null,null,{"$f":"Table1[[#This Row],[strike]]","v":0},0,0,0,0,0,0,0,0,0]
[null,null,null,null,null,null,null,null,null,null,null,null,null,null,null,null,null,null,null,null,null,null,null,null,null,null,null,null,null,null,null,null,null,null,null,null,null,null,null,{"$f":"Table1[[#This Row],[strike]]","v":0},0,0,0,0,0,0,0,0,0]
[null,null,null,null,null,null,null,null,null,null,null,null,null,null,null,null,null,null,null,null,null,null,null,null,null,null,null,null,null,null,null,null,null,null,null,null,null,null,null,{"$f":"Table1[[#This Row],[strike]]","v":0},0,0,0,0,0,0,0,0,0]
[null,null,null,null,null,null,null,null,null,null,null,null,null,null,null,null,null,null,null,null,null,null,null,null,null,null,null,null,null,null,null,null,null,null,null,null,null,null,null,{"$f":"Table1[[#This Row],[strike]]","v":0},0,{"$f":"IF(AP$20=\"n/a\",0,IF(AP$20=\"Buy\",MAX(0,$AN395-AP$21),MIN(0,AP$21-$AN395)))*AP$22","v":0},0,0,0,0,0,0,0]
[null,null,null,null,null,null,null,null,null,null,null,null,null,null,null,null,null,null,null,null,null,null,null,null,null,null,null,null,null,null,null,null,null,null,null,null,null,null,null,{"$f":"Table1[[#This Row],[strike]]","v":0},0,0,0,0,0,0,0,0,0]
[null,null,null,null,null,null,null,null,null,null,null,null,null,null,null,null,null,null,null,null,null,null,null,null,null,null,null,null,null,null,null,null,null,null,null,null,null,null,null,{"$f":"Table1[[#This Row],[strike]]","v":0},0,0,0,0,0,0,0,0,0]
[null,null,null,null,null,null,null,null,null,null,null,null,null,null,null,null,null,null,null,null,null,null,null,null,null,null,null,null,null,null,null,null,null,null,null,null,null,null,null,{"$f":"Table1[[#This Row],[strike]]","v":0},0,0,0,0,0,0,0,0,0]
[null,null,null,null,null,null,null,null,null,null,null,null,null,null,null,null,null,null,null,null,null,null,null,null,null,null,null,null,null,null,null,null,null,null,null,null,null,null,null,{"$f":"Table1[[#This Row],[strike]]","v":0},0,0,0,0,0,0,0,0,0]
[null,null,null,null,null,null,null,null,null,null,null,null,null,null,null,null,null,null,null,null,null,null,null,null,null,null,null,null,null,null,null,null,null,null,null,null,null,null,null,{"$f":"Table1[[#This Row],[strike]]","v":0},0,0,0,0,0,0,0,{"$f":"_xlfn.AGGREGATE(9,6,AO400:AU400)","v":0},0]
[null,null,null,null,null,null,null,null,null,null,null,null,null,null,null,null,null,null,null,null,null,null,null,null,null,null,null,null,null,null,null,null,null,null,null,null,null,null,null,{"$f":"Table1[[#This Row],[strike]]","v":0},0,0,0,0,0,0,0,0,0]
[null,null,null,null,null,null,null,null,null,null,null,null,null,null,null,null,null,null,null,null,null,null,null,null,null,null,null,null,null,null,null,null,null,null,null,null,null,null,null,{"$f":"Table1[[#This Row],[strike]]","v":0},0,0,0,0,0,0,0,0,0]
[null,null,null,null,null,null,null,null,null,null,null,null,null,null,null,null,null,null,null,null,null,null,null,null,null,null,null,null,null,null,null,null,null,null,null,null,null,null,null,{"$f":"Table1[[#This Row],[strike]]","v":0},0,0,0,0,0,0,0,0,0]
[null,null,null,null,null,null,null,null,null,null,null,null,null,null,null,null,null,null,null,null,null,null,null,null,null,null,null,null,null,null,null,null,null,null,null,null,null,null,null,{"$f":"Table1[[#This Row],[strike]]","v":0},0,0,0,0,0,0,0,0,0]
[null,null,null,null,null,null,null,null,null,null,null,null,null,null,null,null,null,null,null,null,null,null,null,null,null,null,null,null,null,null,null,null,null,null,null,null,null,null,null,{"$f":"Table1[[#This Row],[strike]]","v":0},0,{"$f":"IF(AP$20=\"n/a\",0,IF(AP$20=\"Buy\",MAX(0,$AN405-AP$21),MIN(0,AP$21-$AN405)))*AP$22","v":0},0,0,0,0,0,0,0]
[null,null,null,null,null,null,null,null,null,null,null,null,null,null,null,null,null,null,null,null,null,null,null,null,null,null,null,null,null,null,null,null,null,null,null,null,null,null,null,{"$f":"Table1[[#This Row],[strike]]","v":0},0,0,0,0,0,0,0,0,0]
[null,null,null,null,null,null,null,null,null,null,null,null,null,null,null,null,null,null,null,null,null,null,null,null,null,null,null,null,null,null,null,null,null,null,null,null,null,null,null,{"$f":"Table1[[#This Row],[strike]]","v":0},0,0,0,0,0,0,0,0,0]
[null,null,null,null,null,null,null,null,null,null,null,null,null,null,null,null,null,null,null,null,null,null,null,null,null,null,null,null,null,null,null,null,null,null,null,null,null,null,null,{"$f":"Table1[[#This Row],[strike]]","v":0},0,0,0,0,0,0,0,0,0]
[null,null,null,null,null,null,null,null,null,null,null,null,null,null,null,null,null,null,null,null,null,null,null,null,null,null,null,null,null,null,null,null,null,null,null,null,null,null,null,{"$f":"Table1[[#This Row],[strike]]","v":0},{"$f":"IF(AO$20=\"n/a\",0,IF(AO$20=\"Buy\",AN409*Q$11,AN409*-Q$11))","v":0},0,0,0,0,0,0,0,{"$f":"AV409+R$18","v":0}]
[null,null,null,null,null,null,null,null,null,null,null,null,null,null,null,null,null,null,null,null,null,null,null,null,null,null,null,null,null,null,null,null,null,null,null,null,null,null,null,{"$f":"Table1[[#This Row],[strike]]","v":0},0,0,0,0,0,0,0,0,0]
[null,null,null,null,null,null,null,null,null,null,null,null,null,null,null,null,null,null,null,null,null,null,null,null,null,null,null,null,null,null,null,null,null,null,null,null,null,null,null,{"$f":"Table1[[#This Row],[strike]]","v":0},0,0,0,0,0,0,0,0,0]
[null,null,null,null,null,null,null,null,null,null,null,null,null,null,null,null,null,null,null,null,null,null,null,null,null,null,null,null,null,null,null,null,null,null,null,null,null,null,null,{"$f":"Table1[[#This Row],[strike]]","v":0},0,0,0,0,0,0,0,0,0]
[null,null,null,null,null,null,null,null,null,null,null,null,null,null,null,null,null,null,null,null,null,null,null,null,null,null,null,null,null,null,null,null,null,null,null,null,null,null,null,{"$f":"Table1[[#This Row],[strike]]","v":0},0,0,0,0,0,0,0,0,0]
[null,null,null,null,null,null,null,null,null,null,null,null,null,null,null,null,null,null,null,null,null,null,null,null,null,null,null,null,null,null,null,null,null,null,null,null,null,null,null,{"$f":"Table1[[#This Row],[strike]]","v":0},0,0,0,0,0,0,0,0,0]
[null,null,null,null,null,null,null,null,null,null,null,null,null,null,null,null,null,null,null,null,null,null,null,null,null,null,null,null,null,null,null,null,null,null,null,null,null,null,null,{"$f":"Table1[[#This Row],[strike]]","v":0},0,{"$f":"IF(AP$20=\"n/a\",0,IF(AP$20=\"Buy\",MAX(0,$AN415-AP$21),MIN(0,AP$21-$AN415)))*AP$22","v":0},0,0,0,0,0,0,0]
[null,null,null,null,null,null,null,null,null,null,null,null,null,null,null,null,null,null,null,null,null,null,null,null,null,null,null,null,null,null,null,null,null,null,null,null,null,null,null,{"$f":"Table1[[#This Row],[strike]]","v":0},0,0,0,0,0,0,0,0,0]
[null,null,null,null,null,null,null,null,null,null,null,null,null,null,null,null,null,null,null,null,null,null,null,null,null,null,null,null,null,null,null,null,null,null,null,null,null,null,null,{"$f":"Table1[[#This Row],[strike]]","v":0},0,0,0,0,0,0,0,0,0]
[null,null,null,null,null,null,null,null,null,null,null,null,null,null,null,null,null,null,null,null,null,null,null,null,null,null,null,null,null,null,null,null,null,null,null,null,null,null,null,{"$f":"Table1[[#This Row],[strike]]","v":0},0,0,0,0,0,0,0,0,0]
[null,null,null,null,null,null,null,null,null,null,null,null,null,null,null,null,null,null,null,null,null,null,null,null,null,null,null,null,null,null,null,null,null,null,null,null,null,null,null,{"$f":"Table1[[#This Row],[strike]]","v":0},0,0,0,0,0,0,0,0,0]
[null,null,null,null,null,null,null,null,null,null,null,null,null,null,null,null,null,null,null,null,null,null,null,null,null,null,null,null,null,null,null,null,null,null,null,null,null,null,null,{"$f":"Table1[[#This Row],[strike]]","v":0},0,0,0,0,0,0,0,0,0]
[null,null,null,null,null,null,null,null,null,null,null,null,null,null,null,null,null,null,null,null,null,null,null,null,null,null,null,null,null,null,null,null,null,null,null,null,null,null,null,{"$f":"Table1[[#This Row],[strike]]","v":0},0,0,0,0,0,0,0,0,0]
[null,null,null,null,null,null,null,null,null,null,null,null,null,null,null,null,null,null,null,null,null,null,null,null,null,null,null,null,null,null,null,null,null,null,null,null,null,null,null,{"$f":"Table1[[#This Row],[strike]]","v":0},0,0,0,0,0,0,0,0,0]
[null,null,null,null,null,null,null,null,null,null,null,null,null,null,null,null,null,null,null,null,null,null,null,null,null,null,null,null,null,null,null,null,null,null,null,null,null,null,null,{"$f":"Table1[[#This Row],[strike]]","v":0},0,0,0,0,0,0,0,0,0]
[null,null,null,null,null,null,null,null,null,null,null,null,null,null,null,null,null,null,null,null,null,null,null,null,null,null,null,null,null,null,null,null,null,null,null,null,null,null,null,{"$f":"Table1[[#This Row],[strike]]","v":0},0,0,0,0,0,0,0,0,0]
[null,null,null,null,null,null,null,null,null,null,null,null,null,null,null,null,null,null,null,null,null,null,null,null,null,null,null,null,null,null,null,null,null,null,null,null,null,null,null,{"$f":"Table1[[#This Row],[strike]]","v":0},0,{"$f":"IF(AP$20=\"n/a\",0,IF(AP$20=\"Buy\",MAX(0,$AN425-AP$21),MIN(0,AP$21-$AN425)))*AP$22","v":0},0,0,0,0,0,0,0]
[null,null,null,null,null,null,null,null,null,null,null,null,null,null,null,null,null,null,null,null,null,null,null,null,null,null,null,null,null,null,null,null,null,null,null,null,null,null,null,{"$f":"Table1[[#This Row],[strike]]","v":0},0,0,0,0,0,0,0,0,0]
[null,null,null,null,null,null,null,null,null,null,null,null,null,null,null,null,null,null,null,null,null,null,null,null,null,null,null,null,null,null,null,null,null,null,null,null,null,null,null,{"$f":"Table1[[#This Row],[strike]]","v":0},0,0,0,0,0,0,0,0,0]
[null,null,null,null,null,null,null,null,null,null,null,null,null,null,null,null,null,null,null,null,null,null,null,null,null,null,null,null,null,null,null,null,null,null,null,null,null,null,null,{"$f":"Table1[[#This Row],[strike]]","v":0},0,0,0,0,0,0,0,0,0]
[null,null,null,null,null,null,null,null,null,null,null,null,null,null,null,null,null,null,null,null,null,null,null,null,null,null,null,null,null,null,null,null,null,null,null,null,null,null,null,{"$f":"Table1[[#This Row],[strike]]","v":0},0,0,0,0,0,0,0,0,0]
[null,null,null,null,null,null,null,null,null,null,null,null,null,null,null,null,null,null,null,null,null,null,null,null,null,null,null,null,null,null,null,null,null,null,null,null,null,null,null,{"$f":"Table1[[#This Row],[strike]]","v":0},0,0,0,0,0,0,0,0,0]
[null,null,null,null,null,null,null,null,null,null,null,null,null,null,null,null,null,null,null,null,null,null,null,null,null,null,null,null,null,null,null,null,null,null,null,null,null,null,null,{"$f":"Table1[[#This Row],[strike]]","v":0},0,0,0,0,0,0,0,0,0]
[null,null,null,null,null,null,null,null,null,null,null,null,null,null,null,null,null,null,null,null,null,null,null,null,null,null,null,null,null,null,null,null,null,null,null,null,null,null,null,{"$f":"Table1[[#This Row],[strike]]","v":0},0,0,0,0,0,0,0,0,0]
[null,null,null,null,null,null,null,null,null,null,null,null,null,null,null,null,null,null,null,null,null,null,null,null,null,null,null,null,null,null,null,null,null,null,null,null,null,null,null,{"$f":"Table1[[#This Row],[strike]]","v":0},0,0,0,0,0,0,0,0,0]
[null,null,null,null,null,null,null,null,null,null,null,null,null,null,null,null,null,null,null,null,null,null,null,null,null,null,null,null,null,null,null,null,null,null,null,null,null,null,null,{"$f":"Table1[[#This Row],[strike]]","v":0},0,0,0,0,0,0,0,0,0]
[null,null,null,null,null,null,null,null,null,null,null,null,null,null,null,null,null,null,null,null,null,null,null,null,null,null,null,null,null,null,null,null,null,null,null,null,null,null,null,{"$f":"Table1[[#This Row],[strike]]","v":0},0,{"$f":"IF(AP$20=\"n/a\",0,IF(AP$20=\"Buy\",MAX(0,$AN435-AP$21),MIN(0,AP$21-$AN435)))*AP$22","v":0},0,0,0,0,0,0,0]
[null,null,null,null,null,null,null,null,null,null,null,null,null,null,null,null,null,null,null,null,null,null,null,null,null,null,null,null,null,null,null,null,null,null,null,null,null,null,null,{"$f":"Table1[[#This Row],[strike]]","v":0},0,0,0,0,0,0,0,0,0]
[null,null,null,null,null,null,null,null,null,null,null,null,null,null,null,null,null,null,null,null,null,null,null,null,null,null,null,null,null,null,null,null,null,null,null,null,null,null,null,{"$f":"Table1[[#This Row],[strike]]","v":0},0,0,0,0,0,0,0,0,0]
[null,null,null,null,null,null,null,null,null,null,null,null,null,null,null,null,null,null,null,null,null,null,null,null,null,null,null,null,null,null,null,null,null,null,null,null,null,null,null,{"$f":"Table1[[#This Row],[strike]]","v":0},0,0,0,0,0,0,0,0,0]
[null,null,null,null,null,null,null,null,null,null,null,null,null,null,null,null,null,null,null,null,null,null,null,null,null,null,null,null,null,null,null,null,null,null,null,null,null,null,null,{"$f":"Table1[[#This Row],[strike]]","v":0},0,0,0,0,0,0,0,0,0]
[null,null,null,null,null,null,null,null,null,null,null,null,null,null,null,null,null,null,null,null,null,null,null,null,null,null,null,null,null,null,null,null,null,null,null,null,null,null,null,{"$f":"Table1[[#This Row],[strike]]","v":0},0,0,0,0,0,0,0,0,0]
[null,null,null,null,null,null,null,null,null,null,null,null,null,null,null,null,null,null,null,null,null,null,null,null,null,null,null,null,null,null,null,null,null,null,null,null,null,null,null,{"$f":"Table1[[#This Row],[strike]]","v":0},0,0,0,0,0,0,0,0,0]
[null,null,null,null,null,null,null,null,null,null,null,null,null,null,null,null,null,null,null,null,null,null,null,null,null,null,null,null,null,null,null,null,null,null,null,null,null,null,null,{"$f":"Table1[[#This Row],[strike]]","v":0},0,0,0,0,0,0,0,0,0]
[null,null,null,null,null,null,null,null,null,null,null,null,null,null,null,null,null,null,null,null,null,null,null,null,null,null,null,null,null,null,null,null,null,null,null,null,null,null,null,{"$f":"Table1[[#This Row],[strike]]","v":0},0,0,0,0,0,0,0,0,0]
[null,null,null,null,null,null,null,null,null,null,null,null,null,null,null,null,null,null,null,null,null,null,null,null,null,null,null,null,null,null,null,null,null,null,null,null,null,null,null,{"$f":"Table1[[#This Row],[strike]]","v":0},0,0,0,0,0,0,0,0,0]
[null,null,null,null,null,null,null,null,null,null,null,null,null,null,null,null,null,null,null,null,null,null,null,null,null,null,null,null,null,null,null,null,null,null,null,null,null,null,null,{"$f":"Table1[[#This Row],[strike]]","v":0},0,{"$f":"IF(AP$20=\"n/a\",0,IF(AP$20=\"Buy\",MAX(0,$AN445-AP$21),MIN(0,AP$21-$AN445)))*AP$22","v":0},0,0,0,0,0,0,0]
[null,null,null,null,null,null,null,null,null,null,null,null,null,null,null,null,null,null,null,null,null,null,null,null,null,null,null,null,null,null,null,null,null,null,null,null,null,null,null,{"$f":"Table1[[#This Row],[strike]]","v":0},0,0,0,0,0,0,0,0,0]
[null,null,null,null,null,null,null,null,null,null,null,null,null,null,null,null,null,null,null,null,null,null,null,null,null,null,null,null,null,null,null,null,null,null,null,null,null,null,null,{"$f":"Table1[[#This Row],[strike]]","v":0},0,0,0,0,0,0,0,0,0]
[null,null,null,null,null,null,null,null,null,null,null,null,null,null,null,null,null,null,null,null,null,null,null,null,null,null,null,null,null,null,null,null,null,null,null,null,null,null,null,{"$f":"Table1[[#This Row],[strike]]","v":0},0,0,0,0,0,0,0,0,0]
[null,null,null,null,null,null,null,null,null,null,null,null,null,null,null,null,null,null,null,null,null,null,null,null,null,null,null,null,null,null,null,null,null,null,null,null,null,null,null,{"$f":"Table1[[#This Row],[strike]]","v":0},0,0,0,0,0,0,0,0,0]
[null,null,null,null,null,null,null,null,null,null,null,null,null,null,null,null,null,null,null,null,null,null,null,null,null,null,null,null,null,null,null,null,null,null,null,null,null,null,null,{"$f":"Table1[[#This Row],[strike]]","v":0},0,0,0,0,0,0,0,0,0]
[null,null,null,null,null,null,null,null,null,null,null,null,null,null,null,null,null,null,null,null,null,null,null,null,null,null,null,null,null,null,null,null,null,null,null,null,null,null,null,{"$f":"Table1[[#This Row],[strike]]","v":0},0,0,0,0,0,0,0,0,0]
[null,null,null,null,null,null,null,null,null,null,null,null,null,null,null,null,null,null,null,null,null,null,null,null,null,null,null,null,null,null,null,null,null,null,null,null,null,null,null,{"$f":"Table1[[#This Row],[strike]]","v":0},0,0,0,0,0,0,0,0,0]
[null,null,null,null,null,null,null,null,null,null,null,null,null,null,null,null,null,null,null,null,null,null,null,null,null,null,null,null,null,null,null,null,null,null,null,null,null,null,null,{"$f":"Table1[[#This Row],[strike]]","v":0},0,0,0,0,0,0,0,0,0]
[null,null,null,null,null,null,null,null,null,null,null,null,null,null,null,null,null,null,null,null,null,null,null,null,null,null,null,null,null,null,null,null,null,null,null,null,null,null,null,{"$f":"Table1[[#This Row],[strike]]","v":0},0,0,0,0,0,0,0,0,0]
[null,null,null,null,null,null,null,null,null,null,null,null,null,null,null,null,null,null,null,null,null,null,null,null,null,null,null,null,null,null,null,null,null,null,null,null,null,null,null,{"$f":"Table1[[#This Row],[strike]]","v":0},0,{"$f":"IF(AP$20=\"n/a\",0,IF(AP$20=\"Buy\",MAX(0,$AN455-AP$21),MIN(0,AP$21-$AN455)))*AP$22","v":0},0,0,0,0,0,0,0]
[null,null,null,null,null,null,null,null,null,null,null,null,null,null,null,null,null,null,null,null,null,null,null,null,null,null,null,null,null,null,null,null,null,null,null,null,null,null,null,{"$f":"Table1[[#This Row],[strike]]","v":0},0,0,0,0,0,0,0,0,0]
[null,null,null,null,null,null,null,null,null,null,null,null,null,null,null,null,null,null,null,null,null,null,null,null,null,null,null,null,null,null,null,null,null,null,null,null,null,null,null,{"$f":"Table1[[#This Row],[strike]]","v":0},0,0,0,0,0,0,0,0,0]
[null,null,null,null,null,null,null,null,null,null,null,null,null,null,null,null,null,null,null,null,null,null,null,null,null,null,null,null,null,null,null,null,null,null,null,null,null,null,null,{"$f":"Table1[[#This Row],[strike]]","v":0},0,0,0,0,0,0,0,0,0]
[null,null,null,null,null,null,null,null,null,null,null,null,null,null,null,null,null,null,null,null,null,null,null,null,null,null,null,null,null,null,null,null,null,null,null,null,null,null,null,{"$f":"Table1[[#This Row],[strike]]","v":0},0,0,0,0,0,0,0,0,0]
[null,null,null,null,null,null,null,null,null,null,null,null,null,null,null,null,null,null,null,null,null,null,null,null,null,null,null,null,null,null,null,null,null,null,null,null,null,null,null,{"$f":"Table1[[#This Row],[strike]]","v":0},0,0,0,0,0,0,0,0,0]
[null,null,null,null,null,null,null,null,null,null,null,null,null,null,null,null,null,null,null,null,null,null,null,null,null,null,null,null,null,null,null,null,null,null,null,null,null,null,null,{"$f":"Table1[[#This Row],[strike]]","v":0},0,0,0,0,0,0,0,0,0]
[null,null,null,null,null,null,null,null,null,null,null,null,null,null,null,null,null,null,null,null,null,null,null,null,null,null,null,null,null,null,null,null,null,null,null,null,null,null,null,{"$f":"Table1[[#This Row],[strike]]","v":0},0,0,0,0,0,0,0,0,0]
[null,null,null,null,null,null,null,null,null,null,null,null,null,null,null,null,null,null,null,null,null,null,null,null,null,null,null,null,null,null,null,null,null,null,null,null,null,null,null,{"$f":"Table1[[#This Row],[strike]]","v":0},0,0,0,0,0,0,0,0,0]
[null,null,null,null,null,null,null,null,null,null,null,null,null,null,null,null,null,null,null,null,null,null,null,null,null,null,null,null,null,null,null,null,null,null,null,null,null,null,null,{"$f":"Table1[[#This Row],[strike]]","v":0},0,0,0,0,0,0,0,{"$f":"_xlfn.AGGREGATE(9,6,AO464:AU464)","v":0},0]
[null,null,null,null,null,null,null,null,null,null,null,null,null,null,null,null,null,null,null,null,null,null,null,null,null,null,null,null,null,null,null,null,null,null,null,null,null,null,null,{"$f":"Table1[[#This Row],[strike]]","v":0},0,{"$f":"IF(AP$20=\"n/a\",0,IF(AP$20=\"Buy\",MAX(0,$AN465-AP$21),MIN(0,AP$21-$AN465)))*AP$22","v":0},0,0,0,0,0,0,0]
[null,null,null,null,null,null,null,null,null,null,null,null,null,null,null,null,null,null,null,null,null,null,null,null,null,null,null,null,null,null,null,null,null,null,null,null,null,null,null,{"$f":"Table1[[#This Row],[strike]]","v":0},0,0,0,0,0,0,0,0,0]
[null,null,null,null,null,null,null,null,null,null,null,null,null,null,null,null,null,null,null,null,null,null,null,null,null,null,null,null,null,null,null,null,null,null,null,null,null,null,null,{"$f":"Table1[[#This Row],[strike]]","v":0},0,0,0,0,0,0,0,0,0]
[null,null,null,null,null,null,null,null,null,null,null,null,null,null,null,null,null,null,null,null,null,null,null,null,null,null,null,null,null,null,null,null,null,null,null,null,null,null,null,{"$f":"Table1[[#This Row],[strike]]","v":0},0,0,0,0,0,0,0,0,0]
[null,null,null,null,null,null,null,null,null,null,null,null,null,null,null,null,null,null,null,null,null,null,null,null,null,null,null,null,null,null,null,null,null,null,null,null,null,null,null,{"$f":"Table1[[#This Row],[strike]]","v":0},0,0,0,0,0,0,0,0,0]
[null,null,null,null,null,null,null,null,null,null,null,null,null,null,null,null,null,null,null,null,null,null,null,null,null,null,null,null,null,null,null,null,null,null,null,null,null,null,null,{"$f":"Table1[[#This Row],[strike]]","v":0},0,0,0,0,0,0,0,0,0]
[null,null,null,null,null,null,null,null,null,null,null,null,null,null,null,null,null,null,null,null,null,null,null,null,null,null,null,null,null,null,null,null,null,null,null,null,null,null,null,{"$f":"Table1[[#This Row],[strike]]","v":0},0,0,0,0,0,0,0,0,0]
[null,null,null,null,null,null,null,null,null,null,null,null,null,null,null,null,null,null,null,null,null,null,null,null,null,null,null,null,null,null,null,null,null,null,null,null,null,null,null,{"$f":"Table1[[#This Row],[strike]]","v":0},0,0,0,0,0,0,0,0,0]
[null,null,null,null,null,null,null,null,null,null,null,null,null,null,null,null,null,null,null,null,null,null,null,null,null,null,null,null,null,null,null,null,null,null,null,null,null,null,null,{"$f":"Table1[[#This Row],[strike]]","v":0},{"$f":"IF(AO$20=\"n/a\",0,IF(AO$20=\"Buy\",AN473*Q$11,AN473*-Q$11))","v":0},0,0,0,0,0,0,0,{"$f":"AV473+R$18","v":0}]
[null,null,null,null,null,null,null,null,null,null,null,null,null,null,null,null,null,null,null,null,null,null,null,null,null,null,null,null,null,null,null,null,null,null,null,null,null,null,null,{"$f":"Table1[[#This Row],[strike]]","v":0},0,0,0,0,0,0,0,0,0]
[null,null,null,null,null,null,null,null,null,null,null,null,null,null,null,null,null,null,null,null,null,null,null,null,null,null,null,null,null,null,null,null,null,null,null,null,null,null,null,{"$f":"Table1[[#This Row],[strike]]","v":0},0,{"$f":"IF(AP$20=\"n/a\",0,IF(AP$20=\"Buy\",MAX(0,$AN475-AP$21),MIN(0,AP$21-$AN475)))*AP$22","v":0},0,0,0,0,0,0,0]
[null,null,null,null,null,null,null,null,null,null,null,null,null,null,null,null,null,null,null,null,null,null,null,null,null,null,null,null,null,null,null,null,null,null,null,null,null,null,null,{"$f":"Table1[[#This Row],[strike]]","v":0},0,0,0,0,0,0,0,0,0]
[null,null,null,null,null,null,null,null,null,null,null,null,null,null,null,null,null,null,null,null,null,null,null,null,null,null,null,null,null,null,null,null,null,null,null,null,null,null,null,{"$f":"Table1[[#This Row],[strike]]","v":0},0,0,0,0,0,0,0,0,0]
[null,null,null,null,null,null,null,null,null,null,null,null,null,null,null,null,null,null,null,null,null,null,null,null,null,null,null,null,null,null,null,null,null,null,null,null,null,null,null,{"$f":"Table1[[#This Row],[strike]]","v":0},0,0,0,0,0,0,0,0,0]
[null,null,null,null,null,null,null,null,null,null,null,null,null,null,null,null,null,null,null,null,null,null,null,null,null,null,null,null,null,null,null,null,null,null,null,null,null,null,null,{"$f":"Table1[[#This Row],[strike]]","v":0},0,0,0,0,0,0,0,0,0]
[null,null,null,null,null,null,null,null,null,null,null,null,null,null,null,null,null,null,null,null,null,null,null,null,null,null,null,null,null,null,null,null,null,null,null,null,null,null,null,{"$f":"Table1[[#This Row],[strike]]","v":0},0,0,0,0,0,0,0,0,0]
[null,null,null,null,null,null,null,null,null,null,null,null,null,null,null,null,null,null,null,null,null,null,null,null,null,null,null,null,null,null,null,null,null,null,null,null,null,null,null,{"$f":"Table1[[#This Row],[strike]]","v":0},0,0,0,0,0,0,0,0,0]
[null,null,null,null,null,null,null,null,null,null,null,null,null,null,null,null,null,null,null,null,null,null,null,null,null,null,null,null,null,null,null,null,null,null,null,null,null,null,null,{"$f":"Table1[[#This Row],[strike]]","v":0},0,0,0,0,0,0,0,0,0]
[null,null,null,null,null,null,null,null,null,null,null,null,null,null,null,null,null,null,null,null,null,null,null,null,null,null,null,null,null,null,null,null,null,null,null,null,null,null,null,{"$f":"Table1[[#This Row],[strike]]","v":0},0,0,0,0,0,0,0,0,0]
[null,null,null,null,null,null,null,null,null,null,null,null,null,null,null,null,null,null,null,null,null,null,null,null,null,null,null,null,null,null,null,null,null,null,null,null,null,null,null,{"$f":"Table1[[#This Row],[strike]]","v":0},0,0,0,0,0,0,0,0,0]
[null,null,null,null,null,null,null,null,null,null,null,null,null,null,null,null,null,null,null,null,null,null,null,null,null,null,null,null,null,null,null,null,null,null,null,null,null,null,null,{"$f":"Table1[[#This Row],[strike]]","v":0},0,{"$f":"IF(AP$20=\"n/a\",0,IF(AP$20=\"Buy\",MAX(0,$AN485-AP$21),MIN(0,AP$21-$AN485)))*AP$22","v":0},0,0,0,0,0,0,0]
[null,null,null,null,null,null,null,null,null,null,null,null,null,null,null,null,null,null,null,null,null,null,null,null,null,null,null,null,null,null,null,null,null,null,null,null,null,null,null,{"$f":"Table1[[#This Row],[strike]]","v":0},0,0,0,0,0,0,0,0,0]
[null,null,null,null,null,null,null,null,null,null,null,null,null,null,null,null,null,null,null,null,null,null,null,null,null,null,null,null,null,null,null,null,null,null,null,null,null,null,null,{"$f":"Table1[[#This Row],[strike]]","v":0},0,0,0,0,0,0,0,0,0]
[null,null,null,null,null,null,null,null,null,null,null,null,null,null,null,null,null,null,null,null,null,null,null,null,null,null,null,null,null,null,null,null,null,null,null,null,null,null,null,{"$f":"Table1[[#This Row],[strike]]","v":0},0,0,0,0,0,0,0,0,0]
[null,null,null,null,null,null,null,null,null,null,null,null,null,null,null,null,null,null,null,null,null,null,null,null,null,null,null,null,null,null,null,null,null,null,null,null,null,null,null,{"$f":"Table1[[#This Row],[strike]]","v":0},0,0,0,0,0,0,0,0,0]
[null,null,null,null,null,null,null,null,null,null,null,null,null,null,null,null,null,null,null,null,null,null,null,null,null,null,null,null,null,null,null,null,null,null,null,null,null,null,null,{"$f":"Table1[[#This Row],[strike]]","v":0},0,0,0,0,0,0,0,0,0]
[null,null,null,null,null,null,null,null,null,null,null,null,null,null,null,null,null,null,null,null,null,null,null,null,null,null,null,null,null,null,null,null,null,null,null,null,null,null,null,{"$f":"Table1[[#This Row],[strike]]","v":0},0,0,0,0,0,0,0,0,0]
[null,null,null,null,null,null,null,null,null,null,null,null,null,null,null,null,null,null,null,null,null,null,null,null,null,null,null,null,null,null,null,null,null,null,null,null,null,null,null,{"$f":"Table1[[#This Row],[strike]]","v":0},0,0,0,0,0,0,0,0,0]
[null,null,null,null,null,null,null,null,null,null,null,null,null,null,null,null,null,null,null,null,null,null,null,null,null,null,null,null,null,null,null,null,null,null,null,null,null,null,null,{"$f":"Table1[[#This Row],[strike]]","v":0},0,0,0,0,0,0,0,0,0]
[null,null,null,null,null,null,null,null,null,null,null,null,null,null,null,null,null,null,null,null,null,null,null,null,null,null,null,null,null,null,null,null,null,null,null,null,null,null,null,{"$f":"Table1[[#This Row],[strike]]","v":0},0,0,0,0,0,0,0,0,0]
[null,null,null,null,null,null,null,null,null,null,null,null,null,null,null,null,null,null,null,null,null,null,null,null,null,null,null,null,null,null,null,null,null,null,null,null,null,null,null,{"$f":"Table1[[#This Row],[strike]]","v":0},0,{"$f":"IF(AP$20=\"n/a\",0,IF(AP$20=\"Buy\",MAX(0,$AN495-AP$21),MIN(0,AP$21-$AN495)))*AP$22","v":0},0,0,0,0,0,0,0]
[null,null,null,null,null,null,null,null,null,null,null,null,null,null,null,null,null,null,null,null,null,null,null,null,null,null,null,null,null,null,null,null,null,null,null,null,null,null,null,{"$f":"Table1[[#This Row],[strike]]","v":0},0,0,0,0,0,0,0,0,0]
[null,null,null,null,null,null,null,null,null,null,null,null,null,null,null,null,null,null,null,null,null,null,null,null,null,null,null,null,null,null,null,null,null,null,null,null,null,null,null,{"$f":"Table1[[#This Row],[strike]]","v":0},0,0,0,0,0,0,0,0,0]
[null,null,null,null,null,null,null,null,null,null,null,null,null,null,null,null,null,null,null,null,null,null,null,null,null,null,null,null,null,null,null,null,null,null,null,null,null,null,null,{"$f":"Table1[[#This Row],[strike]]","v":0},0,0,0,0,0,0,0,0,0]
[null,null,null,null,null,null,null,null,null,null,null,null,null,null,null,null,null,null,null,null,null,null,null,null,null,null,null,null,null,null,null,null,null,null,null,null,null,null,null,{"$f":"Table1[[#This Row],[strike]]","v":0},0,0,0,0,0,0,0,0,0]
[null,null,null,null,null,null,null,null,null,null,null,null,null,null,null,null,null,null,null,null,null,null,null,null,null,null,null,null,null,null,null,null,null,null,null,null,null,null,null,{"$f":"Table1[[#This Row],[strike]]","v":0},0,0,0,0,0,0,0,0,0]
[null,null,null,null,null,null,null,null,null,null,null,null,null,null,null,null,null,null,null,null,null,null,null,null,null,null,null,null,null,null,null,null,null,null,null,null,null,null,null,{"$f":"Table1[[#This Row],[strike]]","v":0},0,0,0,0,0,0,0,0,0]
[null,null,null,null,null,null,null,null,null,null,null,null,null,null,null,null,null,null,null,null,null,null,null,null,null,null,null,null,null,null,null,null,null,null,null,null,null,null,null,{"$f":"Table1[[#This Row],[strike]]","v":0},0,0,0,0,0,0,0,0,0]
[null,null,null,null,null,null,null,null,null,null,null,null,null,null,null,null,null,null,null,null,null,null,null,null,null,null,null,null,null,null,null,null,null,null,null,null,null,null,null,{"$f":"Table1[[#This Row],[strike]]","v":0},0,0,0,0,0,0,0,0,0]
[null,null,null,null,null,null,null,null,null,null,null,null,null,null,null,null,null,null,null,null,null,null,null,null,null,null,null,null,null,null,null,null,null,null,null,null,null,null,null,{"$f":"Table1[[#This Row],[strike]]","v":0},0,0,0,0,0,0,0,0,0]
[null,null,null,null,null,null,null,null,null,null,null,null,null,null,null,null,null,null,null,null,null,null,null,null,null,null,null,null,null,null,null,null,null,null,null,null,null,null,null,{"$f":"Table1[[#This Row],[strike]]","v":0},0,0,0,0,0,0,0,{"$f":"_xlfn.AGGREGATE(9,6,AO528:AU528)","v":0},0]
[null,null,null,null,null,null,null,null,null,null,null,null,null,null,null,null,null,null,null,null,null,null,null,null,null,null,null,null,null,null,null,null,null,null,null,null,null,null,null,{"$f":"Table1[[#This Row],[strike]]","v":0},0,0,0,0,0,0,0,0,0]
[null,null,null,null,null,null,null,null,null,null,null,null,null,null,null,null,null,null,null,null,null,null,null,null,null,null,null,null,null,null,null,null,null,null,null,null,null,null,null,{"$f":"Table1[[#This Row],[strike]]","v":0},0,0,0,0,0,0,0,0,0]
[null,null,null,null,null,null,null,null,null,null,null,null,null,null,null,null,null,null,null,null,null,null,null,null,null,null,null,null,null,null,null,null,null,null,null,null,null,null,null,{"$f":"Table1[[#This Row],[strike]]","v":0},0,0,0,0,0,0,0,0,0]
[null,null,null,null,null,null,null,null,null,null,null,null,null,null,null,null,null,null,null,null,null,null,null,null,null,null,null,null,null,null,null,null,null,null,null,null,null,null,null,{"$f":"Table1[[#This Row],[strike]]","v":0},0,0,0,0,0,0,0,0,0]
[null,null,null,null,null,null,null,null,null,null,null,null,null,null,null,null,null,null,null,null,null,null,null,null,null,null,null,null,null,null,null,null,null,null,null,null,null,null,null,{"$f":"Table1[[#This Row],[strike]]","v":0},0,0,0,0,0,0,0,0,0]
[null,null,null,null,null,null,null,null,null,null,null,null,null,null,null,null,null,null,null,null,null,null,null,null,null,null,null,null,null,null,null,null,null,null,null,null,null,null,null,{"$f":"Table1[[#This Row],[strike]]","v":0},0,0,0,0,0,0,0,0,0]
[null,null,null,null,null,null,null,null,null,null,null,null,null,null,null,null,null,null,null,null,null,null,null,null,null,null,null,null,null,null,null,null,null,null,null,null,null,null,null,{"$f":"Table1[[#This Row],[strike]]","v":0},0,{"$f":"IF(AP$20=\"n/a\",0,IF(AP$20=\"Buy\",MAX(0,$AN565-AP$21),MIN(0,AP$21-$AN565)))*AP$22","v":0},0,0,0,0,0,0,0]
[null,null,null,null,null,null,null,null,null,null,null,null,null,null,null,null,null,null,null,null,null,null,null,null,null,null,null,null,null,null,null,null,null,null,null,null,null,null,null,{"$f":"Table1[[#This Row],[strike]]","v":0},0,0,0,0,0,0,0,0,0]
[null,null,null,null,null,null,null,null,null,null,null,null,null,null,null,null,null,null,null,null,null,null,null,null,null,null,null,null,null,null,null,null,null,null,null,null,null,null,null,{"$f":"Table1[[#This Row],[strike]]","v":0},0,0,0,0,0,0,0,0,0]
[null,null,null,null,null,null,null,null,null,null,null,null,null,null,null,null,null,null,null,null,null,null,null,null,null,null,null,null,null,null,null,null,null,null,null,null,null,null,null,{"$f":"Table1[[#This Row],[strike]]","v":0},0,0,0,0,0,0,0,0,0]
[null,null,null,null,null,null,null,null,null,null,null,null,null,null,null,null,null,null,null,null,null,null,null,null,null,null,null,null,null,null,null,null,null,null,null,null,null,null,null,{"$f":"Table1[[#This Row],[strike]]","v":0},0,0,0,0,0,0,0,0,0]
[null,null,null,null,null,null,null,null,null,null,null,null,null,null,null,null,null,null,null,null,null,null,null,null,null,null,null,null,null,null,null,null,null,null,null,null,null,null,null,{"$f":"Table1[[#This Row],[strike]]","v":0},0,0,0,0,0,0,0,0,0]
[null,null,null,null,null,null,null,null,null,null,null,null,null,null,null,null,null,null,null,null,null,null,null,null,null,null,null,null,null,null,null,null,null,null,null,null,null,null,null,{"$f":"Table1[[#This Row],[strike]]","v":0},0,0,0,0,0,0,0,0,0]
[null,null,null,null,null,null,null,null,null,null,null,null,null,null,null,null,null,null,null,null,null,null,null,null,null,null,null,null,null,null,null,null,null,null,null,null,null,null,null,{"$f":"Table1[[#This Row],[strike]]","v":0},0,0,0,0,0,0,0,0,0]
[null,null,null,null,null,null,null,null,null,null,null,null,null,null,null,null,null,null,null,null,null,null,null,null,null,null,null,null,null,null,null,null,null,null,null,null,null,null,null,{"$f":"Table1[[#This Row],[strike]]","v":0},0,0,0,0,0,0,0,0,0]
[null,null,null,null,null,null,null,null,null,null,null,null,null,null,null,null,null,null,null,null,null,null,null,null,null,null,null,null,null,null,null,null,null,null,null,null,null,null,null,{"$f":"Table1[[#This Row],[strike]]","v":0},0,0,0,0,0,0,0,0,0]
[null,null,null,null,null,null,null,null,null,null,null,null,null,null,null,null,null,null,null,null,null,null,null,null,null,null,null,null,null,null,null,null,null,null,null,null,null,null,null,{"$f":"Table1[[#This Row],[strike]]","v":0},0,{"$f":"IF(AP$20=\"n/a\",0,IF(AP$20=\"Buy\",MAX(0,$AN625-AP$21),MIN(0,AP$21-$AN625)))*AP$22","v":0},0,0,0,0,0,0,0]
[null,null,null,null,null,null,null,null,null,null,null,null,null,null,null,null,null,null,null,null,null,null,null,null,null,null,null,null,null,null,null,null,null,null,null,null,null,null,null,{"$f":"Table1[[#This Row],[strike]]","v":0},0,0,0,0,0,0,0,0,0]
[null,null,null,null,null,null,null,null,null,null,null,null,null,null,null,null,null,null,null,null,null,null,null,null,null,null,null,null,null,null,null,null,null,null,null,null,null,null,null,{"$f":"Table1[[#This Row],[strike]]","v":0},0,0,0,0,0,0,0,0,0]
[null,null,null,null,null,null,null,null,null,null,null,null,null,null,null,null,null,null,null,null,null,null,null,null,null,null,null,null,null,null,null,null,null,null,null,null,null,null,null,{"$f":"Table1[[#This Row],[strike]]","v":0},0,0,0,0,0,0,0,0,0]
[null,null,null,null,null,null,null,null,null,null,null,null,null,null,null,null,null,null,null,null,null,null,null,null,null,null,null,null,null,null,null,null,null,null,null,null,null,null,null,{"$f":"Table1[[#This Row],[strike]]","v":0},0,0,0,0,0,0,0,0,0]
[null,null,null,null,null,null,null,null,null,null,null,null,null,null,null,null,null,null,null,null,null,null,null,null,null,null,null,null,null,null,null,null,null,null,null,null,null,null,null,{"$f":"Table1[[#This Row],[strike]]","v":0},0,0,0,0,0,0,0,0,0]
[null,null,null,null,null,null,null,null,null,null,null,null,null,null,null,null,null,null,null,null,null,null,null,null,null,null,null,null,null,null,null,null,null,null,null,null,null,null,null,{"$f":"Table1[[#This Row],[strike]]","v":0},0,0,0,0,0,0,0,0,0]
[null,null,null,null,null,null,null,null,null,null,null,null,null,null,null,null,null,null,null,null,null,null,null,null,null,null,null,null,null,null,null,null,null,null,null,null,null,null,null,{"$f":"Table1[[#This Row],[strike]]","v":0},0,0,0,0,0,0,0,0,0]
[null,null,null,null,null,null,null,null,null,null,null,null,null,null,null,null,null,null,null,null,null,null,null,null,null,null,null,null,null,null,null,null,null,null,null,null,null,null,null,{"$f":"Table1[[#This Row],[strike]]","v":0},0,0,0,0,0,0,0,0,0]
[null,null,null,null,null,null,null,null,null,null,null,null,null,null,null,null,null,null,null,null,null,null,null,null,null,null,null,null,null,null,null,null,null,null,null,null,null,null,null,{"$f":"Table1[[#This Row],[strike]]","v":0},0,{"$f":"IF(AP$20=\"n/a\",0,IF(AP$20=\"Buy\",MAX(0,$AN675-AP$21),MIN(0,AP$21-$AN675)))*AP$22","v":0},0,0,0,0,0,0,0]
[null,null,null,null,null,null,null,null,null,null,null,null,null,null,null,null,null,null,null,null,null,null,null,null,null,null,null,null,null,null,null,null,null,null,null,null,null,null,null,{"$f":"Table1[[#This Row],[strike]]","v":0},0,0,0,0,0,0,0,0,0]
[null,null,null,null,null,null,null,null,null,null,null,null,null,null,null,null,null,null,null,null,null,null,null,null,null,null,null,null,null,null,null,null,null,null,null,null,null,null,null,{"$f":"Table1[[#This Row],[strike]]","v":0},0,0,0,0,0,0,0,0,0]
[null,null,null,null,null,null,null,null,null,null,null,null,null,null,null,null,null,null,null,null,null,null,null,null,null,null,null,null,null,null,null,null,null,null,null,null,null,null,null,{"$f":"Table1[[#This Row],[strike]]","v":0},0,0,0,0,0,0,0,0,0]
[null,null,null,null,null,null,null,null,null,null,null,null,null,null,null,null,null,null,null,null,null,null,null,null,null,null,null,null,null,null,null,null,null,null,null,null,null,null,null,{"$f":"Table1[[#This Row],[strike]]","v":0},0,0,0,0,0,0,0,0,0]
[null,null,null,null,null,null,null,null,null,null,null,null,null,null,null,null,null,null,null,null,null,null,null,null,null,null,null,null,null,null,null,null,null,null,null,null,null,null,null,{"$f":"Table1[[#This Row],[strike]]","v":0},0,{"$f":"IF(AP$20=\"n/a\",0,IF(AP$20=\"Buy\",MAX(0,$AN705-AP$21),MIN(0,AP$21-$AN705)))*AP$22","v":0},0,0,0,0,0,0,0]
[null,null,null,null,null,null,null,null,null,null,null,null,null,null,null,null,null,null,null,null,null,null,null,null,null,null,null,null,null,null,null,null,null,null,null,null,null,null,null,{"$f":"Table1[[#This Row],[strike]]","v":0},0,0,0,0,0,0,0,0,0]
[null,null,null,null,null,null,null,null,null,null,null,null,null,null,null,null,null,null,null,null,null,null,null,null,null,null,null,null,null,null,null,null,null,null,null,null,null,null,null,{"$f":"Table1[[#This Row],[strike]]","v":0},0,0,0,0,0,0,0,0,0]
[null,null,null,null,null,null,null,null,null,null,null,null,null,null,null,null,null,null,null,null,null,null,null,null,null,null,null,null,null,null,null,null,null,null,null,null,null,null,null,{"$f":"Table1[[#This Row],[strike]]","v":0},0,0,0,0,0,0,0,0,0]
[null,null,null,null,null,null,null,null,null,null,null,null,null,null,null,null,null,null,null,null,null,null,null,null,null,null,null,null,null,null,null,null,null,null,null,null,null,null,null,{"$f":"Table1[[#This Row],[strike]]","v":0},0,0,0,0,0,0,0,0,0]
[null,null,null,null,null,null,null,null,null,null,null,null,null,null,null,null,null,null,null,null,null,null,null,null,null,null,null,null,null,null,null,null,null,null,null,null,null,null,null,{"$f":"Table1[[#This Row],[strike]]","v":0},0,0,0,0,0,0,0,0,0]
[null,null,null,null,null,null,null,null,null,null,null,null,null,null,null,null,null,null,null,null,null,null,null,null,null,null,null,null,null,null,null,null,null,null,null,null,null,null,null,{"$f":"Table1[[#This Row],[strike]]","v":0},0,0,0,0,0,0,0,0,0]
[null,null,null,null,null,null,null,null,null,null,null,null,null,null,null,null,null,null,null,null,null,null,null,null,null,null,null,null,null,null,null,null,null,null,null,null,null,null,null,{"$f":"Table1[[#This Row],[strike]]","v":0},0,0,0,0,0,0,0,0,0]
[null,null,null,null,null,null,null,null,null,null,null,null,null,null,null,null,null,null,null,null,null,null,null,null,null,null,null,null,null,null,null,null,null,null,null,null,null,null,null,{"$f":"Table1[[#This Row],[strike]]","v":0},0,0,0,0,0,0,0,0,0]
[null,null,null,null,null,null,null,null,null,null,null,null,null,null,null,null,null,null,null,null,null,null,null,null,null,null,null,null,null,null,null,null,null,null,null,null,null,null,null,{"$f":"Table1[[#This Row],[strike]]","v":0},0,0,0,0,0,0,0,0,0]
[null,null,null,null,null,null,null,null,null,null,null,null,null,null,null,null,null,null,null,null,null,null,null,null,null,null,null,null,null,null,null,null,null,null,null,null,null,null,null,{"$f":"Table1[[#This Row],[strike]]","v":0},0,0,0,0,0,0,0,0,0]
[null,null,null,null,null,null,null,null,null,null,null,null,null,null,null,null,null,null,null,null,null,null,null,null,null,null,null,null,null,null,null,null,null,null,null,null,null,null,null,{"$f":"Table1[[#This Row],[strike]]","v":0},0,0,0,0,0,0,0,0,0]
[null,null,null,null,null,null,null,null,null,null,null,null,null,null,null,null,null,null,null,null,null,null,null,null,null,null,null,null,null,null,null,null,null,null,null,null,null,null,null,{"$f":"Table1[[#This Row],[strike]]","v":0},0,0,0,0,0,0,0,0,0]
[null,null,null,null,null,null,null,null,null,null,null,null,null,null,null,null,null,null,null,null,null,null,null,null,null,null,null,null,null,null,null,null,null,null,null,null,null,null,null,{"$f":"Table1[[#This Row],[strike]]","v":0},0,0,0,0,0,0,0,0,0]
[null,null,null,null,null,null,null,null,null,null,null,null,null,null,null,null,null,null,null,null,null,null,null,null,null,null,null,null,null,null,null,null,null,null,null,null,null,null,null,{"$f":"Table1[[#This Row],[strike]]","v":0},0,{"$f":"IF(AP$20=\"n/a\",0,IF(AP$20=\"Buy\",MAX(0,$AN785-AP$21),MIN(0,AP$21-$AN785)))*AP$22","v":0},0,0,0,0,0,0,0]
[null,null,null,null,null,null,null,null,null,null,null,null,null,null,null,null,null,null,null,null,null,null,null,null,null,null,null,null,null,null,null,null,null,null,null,null,null,null,null,{"$f":"Table1[[#This Row],[strike]]","v":0},0,0,0,0,0,0,0,0,0]
[null,null,null,null,null,null,null,null,null,null,null,null,null,null,null,null,null,null,null,null,null,null,null,null,null,null,null,null,null,null,null,null,null,null,null,null,null,null,null,{"$f":"Table1[[#This Row],[strike]]","v":0},0,0,0,0,0,0,0,0,0]
[null,null,null,null,null,null,null,null,null,null,null,null,null,null,null,null,null,null,null,null,null,null,null,null,null,null,null,null,null,null,null,null,null,null,null,null,null,null,null,{"$f":"Table1[[#This Row],[strike]]","v":0},0,0,0,0,0,0,0,0,0]
[null,null,null,null,null,null,null,null,null,null,null,null,null,null,null,null,null,null,null,null,null,null,null,null,null,null,null,null,null,null,null,null,null,null,null,null,null,null,null,{"$f":"Table1[[#This Row],[strike]]","v":0},0,{"$f":"IF(AP$20=\"n/a\",0,IF(AP$20=\"Buy\",MAX(0,$AN805-AP$21),MIN(0,AP$21-$AN805)))*AP$22","v":0},0,0,0,0,0,0,0]
[null,null,null,null,null,null,null,null,null,null,null,null,null,null,null,null,null,null,null,null,null,null,null,null,null,null,null,null,null,null,null,null,null,null,null,null,null,null,null,{"$f":"Table1[[#This Row],[strike]]","v":0},0,0,0,0,0,0,0,0,0]
[null,null,null,null,null,null,null,null,null,null,null,null,null,null,null,null,null,null,null,null,null,null,null,null,null,null,null,null,null,null,null,null,null,null,null,null,null,null,null,{"$f":"Table1[[#This Row],[strike]]","v":0},0,0,0,0,0,0,0,0,0]
[null,null,null,null,null,null,null,null,null,null,null,null,null,null,null,null,null,null,null,null,null,null,null,null,null,null,null,null,null,null,null,null,null,null,null,null,null,null,null,{"$f":"Table1[[#This Row],[strike]]","v":0},0,0,0,0,0,0,0,0,0]
[null,null,null,null,null,null,null,null,null,null,null,null,null,null,null,null,null,null,null,null,null,null,null,null,null,null,null,null,null,null,null,null,null,null,null,null,null,null,null,{"$f":"Table1[[#This Row],[strike]]","v":0},0,0,0,0,0,0,0,0,0]
[null,null,null,null,null,null,null,null,null,null,null,null,null,null,null,null,null,null,null,null,null,null,null,null,null,null,null,null,null,null,null,null,null,null,null,null,null,null,null,{"$f":"Table1[[#This Row],[strike]]","v":0},0,0,0,0,0,0,0,0,0]
[null,null,null,null,null,null,null,null,null,null,null,null,null,null,null,null,null,null,null,null,null,null,null,null,null,null,null,null,null,null,null,null,null,null,null,null,null,null,null,{"$f":"Table1[[#This Row],[strike]]","v":0},0,0,0,0,0,0,0,0,0]
[null,null,null,null,null,null,null,null,null,null,null,null,null,null,null,null,null,null,null,null,null,null,null,null,null,null,null,null,null,null,null,null,null,null,null,null,null,null,null,{"$f":"Table1[[#This Row],[strike]]","v":0},0,0,0,0,0,0,0,0,0]
[null,null,null,null,null,null,null,null,null,null,null,null,null,null,null,null,null,null,null,null,null,null,null,null,null,null,null,null,null,null,null,null,null,null,null,null,null,null,null,{"$f":"Table1[[#This Row],[strike]]","v":0},0,0,0,0,0,0,0,0,0]
[null,null,null,null,null,null,null,null,null,null,null,null,null,null,null,null,null,null,null,null,null,null,null,null,null,null,null,null,null,null,null,null,null,null,null,null,null,null,null,{"$f":"Table1[[#This Row],[strike]]","v":0},0,0,0,0,0,0,0,0,0]
[null,null,null,null,null,null,null,null,null,null,null,null,null,null,null,null,null,null,null,null,null,null,null,null,null,null,null,null,null,null,null,null,null,null,null,null,null,null,null,{"$f":"Table1[[#This Row],[strike]]","v":0},0,{"$f":"IF(AP$20=\"n/a\",0,IF(AP$20=\"Buy\",MAX(0,$AN865-AP$21),MIN(0,AP$21-$AN865)))*AP$22","v":0},0,0,0,0,0,0,0]
[null,null,null,null,null,null,null,null,null,null,null,null,null,null,null,null,null,null,null,null,null,null,null,null,null,null,null,null,null,null,null,null,null,null,null,null,null,null,null,{"$f":"Table1[[#This Row],[strike]]","v":0},0,0,0,0,0,0,0,0,0]
[null,null,null,null,null,null,null,null,null,null,null,null,null,null,null,null,null,null,null,null,null,null,null,null,null,null,null,null,null,null,null,null,null,null,null,null,null,null,null,{"$f":"Table1[[#This Row],[strike]]","v":0},0,0,0,0,0,0,0,0,0]
[null,null,null,null,null,null,null,null,null,null,null,null,null,null,null,null,null,null,null,null,null,null,null,null,null,null,null,null,null,null,null,null,null,null,null,null,null,null,null,{"$f":"Table1[[#This Row],[strike]]","v":0},0,0,0,0,0,0,0,0,0]
[null,null,null,null,null,null,null,null,null,null,null,null,null,null,null,null,null,null,null,null,null,null,null,null,null,null,null,null,null,null,null,null,null,null,null,null,null,null,null,{"$f":"Table1[[#This Row],[strike]]","v":0},0,0,0,0,0,0,0,0,0]
[null,null,null,null,null,null,null,null,null,null,null,null,null,null,null,null,null,null,null,null,null,null,null,null,null,null,null,null,null,null,null,null,null,null,null,null,null,null,null,{"$f":"Table1[[#This Row],[strike]]","v":0},0,0,0,0,0,0,0,0,0]
[null,null,null,null,null,null,null,null,null,null,null,null,null,null,null,null,null,null,null,null,null,null,null,null,null,null,null,null,null,null,null,null,null,null,null,null,null,null,null,{"$f":"Table1[[#This Row],[strike]]","v":0},0,{"$f":"IF(AP$20=\"n/a\",0,IF(AP$20=\"Buy\",MAX(0,$AN895-AP$21),MIN(0,AP$21-$AN895)))*AP$22","v":0},0,0,0,0,0,0,0]
[null,null,null,null,null,null,null,null,null,null,null,null,null,null,null,null,null,null,null,null,null,null,null,null,null,null,null,null,null,null,null,null,null,null,null,null,null,null,null,{"$f":"Table1[[#This Row],[strike]]","v":0},0,0,0,0,0,0,0,0,0]
[null,null,null,null,null,null,null,null,null,null,null,null,null,null,null,null,null,null,null,null,null,null,null,null,null,null,null,null,null,null,null,null,null,null,null,null,null,null,null,{"$f":"Table1[[#This Row],[strike]]","v":0},0,0,0,0,0,0,0,0,0]
[null,null,null,null,null,null,null,null,null,null,null,null,null,null,null,null,null,null,null,null,null,null,null,null,null,null,null,null,null,null,null,null,null,null,null,null,null,null,null,{"$f":"Table1[[#This Row],[strike]]","v":0},0,0,0,0,0,0,0,0,0]
[null,null,null,null,null,null,null,null,null,null,null,null,null,null,null,null,null,null,null,null,null,null,null,null,null,null,null,null,null,null,null,null,null,null,null,null,null,null,null,{"$f":"Table1[[#This Row],[strike]]","v":0},0,0,0,0,0,0,0,0,0]
[null,null,null,null,null,null,null,null,null,null,null,null,null,null,null,null,null,null,null,null,null,null,null,null,null,null,null,null,null,null,null,null,null,null,null,null,null,null,null,{"$f":"Table1[[#This Row],[strike]]","v":0},0,0,0,0,0,0,0,0,0]
[null,null,null,null,null,null,null,null,null,null,null,null,null,null,null,null,null,null,null,null,null,null,null,null,null,null,null,null,null,null,null,null,null,null,null,null,null,null,null,{"$f":"Table1[[#This Row],[strike]]","v":0},0,0,0,0,0,0,0,0,0]
[null,null,null,null,null,null,null,null,null,null,null,null,null,null,null,null,null,null,null,null,null,null,null,null,null,null,null,null,null,null,null,null,null,null,null,null,null,null,null,{"$f":"Table1[[#This Row],[strike]]","v":0},0,0,0,0,0,0,0,0,0]
[null,null,null,null,null,null,null,null,null,null,null,null,null,null,null,null,null,null,null,null,null,null,null,null,null,null,null,null,null,null,null,null,null,null,null,null,null,null,null,{"$f":"Table1[[#This Row],[strike]]","v":0},0,0,0,0,0,0,0,0,0]
[null,null,null,null,null,null,null,null,null,null,null,null,null,null,null,null,null,null,null,null,null,null,null,null,null,null,null,null,null,null,null,null,null,null,null,null,null,null,null,{"$f":"Table1[[#This Row],[strike]]","v":0},0,0,0,0,0,0,0,0,0]
[null,null,null,null,null,null,null,null,null,null,null,null,null,null,null,null,null,null,null,null,null,null,null,null,null,null,null,null,null,null,null,null,null,null,null,null,null,null,null,{"$f":"Table1[[#This Row],[strike]]","v":0},0,0,0,0,0,0,0,0,0]
[null,null,null,null,null,null,null,null,null,null,null,null,null,null,null,null,null,null,null,null,null,null,null,null,null,null,null,null,null,null,null,null,null,null,null,null,null,null,null,{"$f":"Table1[[#This Row],[strike]]","v":0},0,0,0,0,0,0,0,0,0]
[null,null,null,null,null,null,null,null,null,null,null,null,null,null,null,null,null,null,null,null,null,null,null,null,null,null,null,null,null,null,null,null,null,null,null,null,null,null,null,{"$f":"Table1[[#This Row],[strike]]","v":0},0,0,0,0,0,0,0,0,0]
[null,null,null,null,null,null,null,null,null,null,null,null,null,null,null,null,null,null,null,null,null,null,null,null,null,null,null,null,null,null,null,null,null,null,null,null,null,null,null,{"$f":"Table1[[#This Row],[strike]]","v":0},0,0,0,0,0,0,0,0,0]
[null,null,null,null,null,null,null,null,null,null,null,null,null,null,null,null,null,null,null,null,null,null,null,null,null,null,null,null,null,null,null,null,null,null,null,null,null,null,null,{"$f":"Table1[[#This Row],[strike]]","v":0},0,0,0,0,0,0,0,0,0]
[null,null,null,null,null,null,null,null,null,null,null,null,null,null,null,null,null,null,null,null,null,null,null,null,null,null,null,null,null,null,null,null,null,null,null,null,null,null,null,{"$f":"Table1[[#This Row],[strike]]","v":0},0,0,0,0,0,0,0,0,0]
[null,null,null,null,null,null,null,null,null,null,null,null,null,null,null,null,null,null,null,null,null,null,null,null,null,null,null,null,null,null,null,null,null,null,null,null,null,null,null,{"$f":"Table1[[#This Row],[strike]]","v":0},0,0,0,0,0,0,0,0,0]
[null,null,null,null,null,null,null,null,null,null,null,null,null,null,null,null,null,null,null,null,null,null,null,null,null,null,null,null,null,null,null,null,null,null,null,null,null,null,null,{"$f":"Table1[[#This Row],[strike]]","v":0},0,0,0,0,0,0,0,0,0]
[null,null,null,null,null,null,null,null,null,null,null,null,null,null,null,null,null,null,null,null,null,null,null,null,null,null,null,null,null,null,null,null,null,null,null,null,null,null,null,{"$f":"Table1[[#This Row],[strike]]","v":0},0,0,0,0,0,0,0,0,0]
[null,null,null,null,null,null,null,null,null,null,null,null,null,null,null,null,null,null,null,null,null,null,null,null,null,null,null,null,null,null,null,null,null,null,null,null,null,null,null,{"$f":"Table1[[#This Row],[strike]]","v":0},0,{"$f":"IF(AP$20=\"n/a\",0,IF(AP$20=\"Buy\",MAX(0,$AN1005-AP$21),MIN(0,AP$21-$AN1005)))*AP$22","v":0},0,0,0,0,0,0,0]
[null,null,null,null,null,null,null,null,null,null,null,null,null,null,null,null,null,null,null,null,null,null,null,null,null,null,null,null,null,null,null,null,null,null,null,null,null,null,null,{"$f":"Table1[[#This Row],[strike]]","v":0},0,0,0,0,0,0,0,0,0]
[null,null,null,null,null,null,null,null,null,null,null,null,null,null,null,null,null,null,null,null,null,null,null,null,null,null,null,null,null,null,null,null,null,null,null,null,null,null,null,{"$f":"Table1[[#This Row],[strike]]","v":0},0,0,0,0,0,0,0,0,0]
[null,null,null,null,null,null,null,null,null,null,null,null,null,null,null,null,null,null,null,null,null,null,null,null,null,null,null,null,null,null,null,null,null,null,null,null,null,null,null,{"$f":"Table1[[#This Row],[strike]]","v":0},0,0,0,0,0,0,0,0,0]
[null,null,null,null,null,null,null,null,null,null,null,null,null,null,null,null,null,null,null,null,null,null,null,null,null,null,null,null,null,null,null,null,null,null,null,null,null,null,null,{"$f":"Table1[[#This Row],[strike]]","v":0},0,0,0,0,0,0,0,0,0]
[null,null,null,null,null,null,null,null,null,null,null,null,null,null,null,null,null,null,null,null,null,null,null,null,null,null,null,null,null,null,null,null,null,null,null,null,null,null,null,{"$f":"Table1[[#This Row],[strike]]","v":0},0,0,0,0,0,0,0,0,0]
[null,null,null,null,null,null,null,null,null,null,null,null,null,null,null,null,null,null,null,null,null,null,null,null,null,null,null,null,null,null,null,null,null,null,null,null,null,null,null,{"$f":"Table1[[#This Row],[strike]]","v":0},0,0,0,0,0,0,0,0,0]
[null,null,null,null,null,null,null,null,null,null,null,null,null,null,null,null,null,null,null,null,null,null,null,null,null,null,null,null,null,null,null,null,null,null,null,null,null,null,null,{"$f":"Table1[[#This Row],[strike]]","v":0},0,0,0,0,0,0,0,0,0]
[null,null,null,null,null,null,null,null,null,null,null,null,null,null,null,null,null,null,null,null,null,null,null,null,null,null,null,null,null,null,null,null,null,null,null,null,null,null,null,{"$f":"Table1[[#This Row],[strike]]","v":0},0,0,0,0,0,0,0,0,0]
[null,null,null,null,null,null,null,null,null,null,null,null,null,null,null,null,null,null,null,null,null,null,null,null,null,null,null,null,null,null,null,null,null,null,null,null,null,null,null,{"$f":"Table1[[#This Row],[strike]]","v":0},0,0,0,0,0,0,0,0,0]
[null,null,null,null,null,null,null,null,null,null,null,null,null,null,null,null,null,null,null,null,null,null,null,null,null,null,null,null,null,null,null,null,null,null,null,null,null,null,null,{"$f":"Table1[[#This Row],[strike]]","v":0},0,0,0,0,0,0,0,0,0]
[null,null,null,null,null,null,null,null,null,null,null,null,null,null,null,null,null,null,null,null,null,null,null,null,null,null,null,null,null,null,null,null,null,null,null,null,null,null,null,{"$f":"Table1[[#This Row],[strike]]","v":0},0,0,0,0,0,0,0,0,0]
[null,null,null,null,null,null,null,null,null,null,null,null,null,null,null,null,null,null,null,null,null,null,null,null,null,null,null,null,null,null,null,null,null,null,null,null,null,null,null,{"$f":"Table1[[#This Row],[strike]]","v":0},0,0,0,0,0,0,0,0,0]
[null,null,null,null,null,null,null,null,null,null,null,null,null,null,null,null,null,null,null,null,null,null,null,null,null,null,null,null,null,null,null,null,null,null,null,null,null,null,null,{"$f":"Table1[[#This Row],[strike]]","v":0},0,0,0,0,0,0,0,0,0]
[null,null,null,null,null,null,null,null,null,null,null,null,null,null,null,null,null,null,null,null,null,null,null,null,null,null,null,null,null,null,null,null,null,null,null,null,null,null,null,{"$f":"Table1[[#This Row],[strike]]","v":0},0,0,0,0,0,0,0,0,0]
[null,null,null,null,null,null,null,null,null,null,null,null,null,null,null,null,null,null,null,null,null,null,null,null,null,null,null,null,null,null,null,null,null,null,null,null,null,null,null,{"$f":"Table1[[#This Row],[strike]]","v":0},0,0,0,0,0,0,0,0,0]
[null,null,null,null,null,null,null,null,null,null,null,null,null,null,null,null,null,null,null,null,null,null,null,null,null,null,null,null,null,null,null,null,null,null,null,null,null,null,null,{"$f":"Table1[[#This Row],[strike]]","v":0},0,0,0,0,0,0,0,0,0]
[null,null,null,null,null,null,null,null,null,null,null,null,null,null,null,null,null,null,null,null,null,null,null,null,null,null,null,null,null,null,null,null,null,null,null,null,null,null,null,{"$f":"Table1[[#This Row],[strike]]","v":0},0,0,0,0,0,0,0,0,0]
[null,null,null,null,null,null,null,null,null,null,null,null,null,null,null,null,null,null,null,null,null,null,null,null,null,null,null,null,null,null,null,null,null,null,null,null,null,null,null,{"$f":"Table1[[#This Row],[strike]]","v":0},0,0,0,0,0,0,0,0,0]
[null,null,null,null,null,null,null,null,null,null,null,null,null,null,null,null,null,null,null,null,null,null,null,null,null,null,null,null,null,null,null,null,null,null,null,null,null,null,null,{"$f":"Table1[[#This Row],[strike]]","v":0},0,0,0,0,0,0,0,0,0]
[null,null,null,null,null,null,null,null,null,null,null,null,null,null,null,null,null,null,null,null,null,null,null,null,null,null,null,null,null,null,null,null,null,null,null,null,null,null,null,{"$f":"Table1[[#This Row],[strike]]","v":0},0,0,0,0,0,0,0,0,0]
[null,null,null,null,null,null,null,null,null,null,null,null,null,null,null,null,null,null,null,null,null,null,null,null,null,null,null,null,null,null,null,null,null,null,null,null,null,null,null,{"$f":"Table1[[#This Row],[strike]]","v":0},0,0,0,0,0,0,0,0,0]
[null,null,null,null,null,null,null,null,null,null,null,null,null,null,null,null,null,null,null,null,null,null,null,null,null,null,null,null,null,null,null,null,null,null,null,null,null,null,null,{"$f":"Table1[[#This Row],[strike]]","v":0},0,0,0,0,0,0,0,0,0]
[null,null,null,null,null,null,null,null,null,null,null,null,null,null,null,null,null,null,null,null,null,null,null,null,null,null,null,null,null,null,null,null,null,null,null,null,null,null,null,{"$f":"Table1[[#This Row],[strike]]","v":0},0,0,0,0,0,0,0,0,0]
[null,null,null,null,null,null,null,null,null,null,null,null,null,null,null,null,null,null,null,null,null,null,null,null,null,null,null,null,null,null,null,null,null,null,null,null,null,null,null,{"$f":"Table1[[#This Row],[strike]]","v":0},0,0,0,0,0,0,0,0,0]
[null,null,null,null,null,null,null,null,null,null,null,null,null,null,null,null,null,null,null,null,null,null,null,null,null,null,null,null,null,null,null,null,null,null,null,null,null,null,null,{"$f":"Table1[[#This Row],[strike]]","v":0},0,0,0,0,0,0,0,0,0]
[null,null,null,null,null,null,null,null,null,null,null,null,null,null,null,null,null,null,null,null,null,null,null,null,null,null,null,null,null,null,null,null,null,null,null,null,null,null,null,{"$f":"Table1[[#This Row],[strike]]","v":0},0,0,0,0,0,0,0,0,0]
[null,null,null,null,null,null,null,null,null,null,null,null,null,null,null,null,null,null,null,null,null,null,null,null,null,null,null,null,null,null,null,null,null,null,null,null,null,null,null,{"$f":"Table1[[#This Row],[strike]]","v":0},0,0,0,0,0,0,0,0,0]
[null,null,null,null,null,null,null,null,null,null,null,null,null,null,null,null,null,null,null,null,null,null,null,null,null,null,null,null,null,null,null,null,null,null,null,null,null,null,null,{"$f":"Table1[[#This Row],[strike]]","v":0},0,0,0,0,0,0,0,0,0]
[null,null,null,null,null,null,null,null,null,null,null,null,null,null,null,null,null,null,null,null,null,null,null,null,null,null,null,null,null,null,null,null,null,null,null,null,null,null,null,{"$f":"Table1[[#This Row],[strike]]","v":0},0,0,0,0,0,0,0,0,0]
[null,null,null,null,null,null,null,null,null,null,null,null,null,null,null,null,null,null,null,null,null,null,null,null,null,null,null,null,null,null,null,null,null,null,null,null,null,null,null,{"$f":"Table1[[#This Row],[strike]]","v":0},{"$f":"IF(AO$20=\"n/a\",0,IF(AO$20=\"Buy\",AN1177*Q$11,AN1177*-Q$11))","v":0},0,0,0,0,0,0,0,{"$f":"AV1177+R$18","v":0}]
[null,null,null,null,null,null,null,null,null,null,null,null,null,null,null,null,null,null,null,null,null,null,null,null,null,null,null,null,null,null,null,null,null,null,null,null,null,null,null,{"$f":"Table1[[#This Row],[strike]]","v":0},0,{"$f":"IF(AP$20=\"n/a\",0,IF(AP$20=\"Buy\",MAX(0,$AN1185-AP$21),MIN(0,AP$21-$AN1185)))*AP$22","v":0},0,0,0,0,0,0,0]
[null,null,null,null,null,null,null,null,null,null,null,null,null,null,null,null,null,null,null,null,null,null,null,null,null,null,null,null,null,null,null,null,null,null,null,null,null,null,null,{"$f":"Table1[[#This Row],[strike]]","v":0},0,0,0,0,0,0,0,0,0]
[null,null,null,null,null,null,null,null,null,null,null,null,null,null,null,null,null,null,null,null,null,null,null,null,null,null,null,null,null,null,null,null,null,null,null,null,null,null,null,{"$f":"Table1[[#This Row],[strike]]","v":0},0,{"$f":"IF(AP$20=\"n/a\",0,IF(AP$20=\"Buy\",MAX(0,$AN1195-AP$21),MIN(0,AP$21-$AN1195)))*AP$22","v":0},0,0,0,0,0,0,0]
[null,null,null,null,null,null,null,null,null,null,null,null,null,null,null,null,null,null,null,null,null,null,null,null,null,null,null,null,null,null,null,null,null,null,null,null,null,null,null,{"$f":"Table1[[#This Row],[strike]]","v":0},0,0,0,0,0,0,0,0,0]
[null,null,null,null,null,null,null,null,null,null,null,null,null,null,null,null,null,null,null,null,null,null,null,null,null,null,null,null,null,null,null,null,null,null,null,null,null,null,null,{"$f":"Table1[[#This Row],[strike]]","v":0},0,0,0,0,0,0,0,0,0]
[null,null,null,null,null,null,null,null,null,null,null,null,null,null,null,null,null,null,null,null,null,null,null,null,null,null,null,null,null,null,null,null,null,null,null,null,null,null,null,{"$f":"Table1[[#This Row],[strike]]","v":0},0,0,0,0,0,0,0,0,0]
[null,null,null,null,null,null,null,null,null,null,null,null,null,null,null,null,null,null,null,null,null,null,null,null,null,null,null,null,null,null,null,null,null,null,null,null,null,null,null,{"$f":"Table1[[#This Row],[strike]]","v":0},0,0,0,0,0,0,0,0,0]
[null,null,null,null,null,null,null,null,null,null,null,null,null,null,null,null,null,null,null,null,null,null,null,null,null,null,null,null,null,null,null,null,null,null,null,null,null,null,null,{"$f":"Table1[[#This Row],[strike]]","v":0},0,0,0,0,0,0,0,0,0]
[null,null,null,null,null,null,null,null,null,null,null,null,null,null,null,null,null,null,null,null,null,null,null,null,null,null,null,null,null,null,null,null,null,null,null,null,null,null,null,{"$f":"Table1[[#This Row],[strike]]","v":0},0,0,0,0,0,0,0,0,0]
[null,null,null,null,null,null,null,null,null,null,null,null,null,null,null,null,null,null,null,null,null,null,null,null,null,null,null,null,null,null,null,null,null,null,null,null,null,null,null,{"$f":"Table1[[#This Row],[strike]]","v":0},0,0,0,0,0,0,0,0,0]
[null,null,null,null,null,null,null,null,null,null,null,null,null,null,null,null,null,null,null,null,null,null,null,null,null,null,null,null,null,null,null,null,null,null,null,null,null,null,null,{"$f":"Table1[[#This Row],[strike]]","v":0},0,0,0,0,0,0,0,0,0]
[null,null,null,null,null,null,null,null,null,null,null,null,null,null,null,null,null,null,null,null,null,null,null,null,null,null,null,null,null,null,null,null,null,null,null,null,null,null,null,{"$f":"Table1[[#This Row],[strike]]","v":0},0,0,0,0,0,0,0,0,0]
[null,null,null,null,null,null,null,null,null,null,null,null,null,null,null,null,null,null,null,null,null,null,null,null,null,null,null,null,null,null,null,null,null,null,null,null,null,null,null,{"$f":"Table1[[#This Row],[strike]]","v":0},0,0,0,0,0,0,0,0,0]
[null,null,null,null,null,null,null,null,null,null,null,null,null,null,null,null,null,null,null,null,null,null,null,null,null,null,null,null,null,null,null,null,null,null,null,null,null,null,null,{"$f":"Table1[[#This Row],[strike]]","v":0},0,0,0,0,0,0,0,0,0]
[null,null,null,null,null,null,null,null,null,null,null,null,null,null,null,null,null,null,null,null,null,null,null,null,null,null,null,null,null,null,null,null,null,null,null,null,null,null,null,{"$f":"Table1[[#This Row],[strike]]","v":0},0,0,0,0,0,0,0,0,0]
[null,null,null,null,null,null,null,null,null,null,null,null,null,null,null,null,null,null,null,null,null,null,null,null,null,null,null,null,null,null,null,null,null,null,null,null,null,null,null,{"$f":"Table1[[#This Row],[strike]]","v":0},0,0,0,0,0,0,0,0,0]
[null,null,null,null,null,null,null,null,null,null,null,null,null,null,null,null,null,null,null,null,null,null,null,null,null,null,null,null,null,null,null,null,null,null,null,null,null,null,null,{"$f":"Table1[[#This Row],[strike]]","v":0},0,0,0,0,0,0,0,0,0]
[null,null,null,null,null,null,null,null,null,null,null,null,null,null,null,null,null,null,null,null,null,null,null,null,null,null,null,null,null,null,null,null,null,null,null,null,null,null,null,{"$f":"Table1[[#This Row],[strike]]","v":0},0,0,0,0,0,0,0,0,0]
[null,null,null,null,null,null,null,null,null,null,null,null,null,null,null,null,null,null,null,null,null,null,null,null,null,null,null,null,null,null,null,null,null,null,null,null,null,null,null,{"$f":"Table1[[#This Row],[strike]]","v":0},0,0,0,0,0,0,0,0,0]
[null,null,null,null,null,null,null,null,null,null,null,null,null,null,null,null,null,null,null,null,null,null,null,null,null,null,null,null,null,null,null,null,null,null,null,null,null,null,null,{"$f":"Table1[[#This Row],[strike]]","v":0},0,{"$f":"IF(AP$20=\"n/a\",0,IF(AP$20=\"Buy\",MAX(0,$AN1295-AP$21),MIN(0,AP$21-$AN1295)))*AP$22","v":0},0,0,0,0,0,0,0]
[null,null,null,null,null,null,null,null,null,null,null,null,null,null,null,null,null,null,null,null,null,null,null,null,null,null,null,null,null,null,null,null,null,null,null,null,null,null,null,{"$f":"Table1[[#This Row],[strike]]","v":0},0,0,0,0,0,0,0,{"$f":"_xlfn.AGGREGATE(9,6,AO1296:AU1296)","v":0},0]
[null,null,null,null,null,null,null,null,null,null,null,null,null,null,null,null,null,null,null,null,null,null,null,null,null,null,null,null,null,null,null,null,null,null,null,null,null,null,null,{"$f":"Table1[[#This Row],[strike]]","v":0},0,0,0,0,0,0,0,0,0]
[null,null,null,null,null,null,null,null,null,null,null,null,null,null,null,null,null,null,null,null,null,null,null,null,null,null,null,null,null,null,null,null,null,null,null,null,null,null,null,{"$f":"Table1[[#This Row],[strike]]","v":0},0,0,0,0,0,0,0,0,0]
[null,null,null,null,null,null,null,null,null,null,null,null,null,null,null,null,null,null,null,null,null,null,null,null,null,null,null,null,null,null,null,null,null,null,null,null,null,null,null,{"$f":"Table1[[#This Row],[strike]]","v":0},0,0,0,0,0,0,0,0,0]
[null,null,null,null,null,null,null,null,null,null,null,null,null,null,null,null,null,null,null,null,null,null,null,null,null,null,null,null,null,null,null,null,null,null,null,null,null,null,null,{"$f":"Table1[[#This Row],[strike]]","v":0},0,0,0,0,0,0,0,0,0]
[null,null,null,null,null,null,null,null,null,null,null,null,null,null,null,null,null,null,null,null,null,null,null,null,null,null,null,null,null,null,null,null,null,null,null,null,null,null,null,{"$f":"Table1[[#This Row],[strike]]","v":0},0,0,0,0,0,0,0,0,0]
[null,null,null,null,null,null,null,null,null,null,null,null,null,null,null,null,null,null,null,null,null,null,null,null,null,null,null,null,null,null,null,null,null,null,null,null,null,null,null,{"$f":"Table1[[#This Row],[strike]]","v":0},0,0,0,0,0,0,0,0,0]
[null,null,null,null,null,null,null,null,null,null,null,null,null,null,null,null,null,null,null,null,null,null,null,null,null,null,null,null,null,null,null,null,null,null,null,null,null,null,null,{"$f":"Table1[[#This Row],[strike]]","v":0},0,0,0,0,0,0,0,0,0]
[null,null,null,null,null,null,null,null,null,null,null,null,null,null,null,null,null,null,null,null,null,null,null,null,null,null,null,null,null,null,null,null,null,null,null,null,null,null,null,{"$f":"Table1[[#This Row],[strike]]","v":0},0,0,0,0,0,0,0,0,0]
[null,null,null,null,null,null,null,null,null,null,null,null,null,null,null,null,null,null,null,null,null,null,null,null,null,null,null,null,null,null,null,null,null,null,null,null,null,null,null,{"$f":"Table1[[#This Row],[strike]]","v":0},0,0,0,0,0,0,0,0,0]
[null,null,null,null,null,null,null,null,null,null,null,null,null,null,null,null,null,null,null,null,null,null,null,null,null,null,null,null,null,null,null,null,null,null,null,null,null,null,null,{"$f":"Table1[[#This Row],[strike]]","v":0},0,0,0,0,0,0,0,0,0]
[null,null,null,null,null,null,null,null,null,null,null,null,null,null,null,null,null,null,null,null,null,null,null,null,null,null,null,null,null,null,null,null,null,null,null,null,null,null,null,{"$f":"Table1[[#This Row],[strike]]","v":0},0,0,0,0,0,0,0,{"$f":"_xlfn.AGGREGATE(9,6,AO1360:AU1360)","v":0},0]
[null,null,null,null,null,null,null,null,null,null,null,null,null,null,null,null,null,null,null,null,null,null,null,null,null,null,null,null,null,null,null,null,null,null,null,null,null,null,null,{"$f":"Table1[[#This Row],[strike]]","v":0},0,0,0,0,0,0,0,0,0]
[null,null,null,null,null,null,null,null,null,null,null,null,null,null,null,null,null,null,null,null,null,null,null,null,null,null,null,null,null,null,null,null,null,null,null,null,null,null,null,{"$f":"Table1[[#This Row],[strike]]","v":0},0,{"$f":"IF(AP$20=\"n/a\",0,IF(AP$20=\"Buy\",MAX(0,$AN1375-AP$21),MIN(0,AP$21-$AN1375)))*AP$22","v":0},0,0,0,0,0,0,0]
[null,null,null,null,null,null,null,null,null,null,null,null,null,null,null,null,null,null,null,null,null,null,null,null,null,null,null,null,null,null,null,null,null,null,null,null,null,null,null,{"$f":"Table1[[#This Row],[strike]]","v":0},0,0,0,0,0,0,0,0,0]
[null,null,null,null,null,null,null,null,null,null,null,null,null,null,null,null,null,null,null,null,null,null,null,null,null,null,null,null,null,null,null,null,null,null,null,null,null,null,null,{"$f":"Table1[[#This Row],[strike]]","v":0},0,0,0,0,0,0,0,0,0]
[null,null,null,null,null,null,null,null,null,null,null,null,null,null,null,null,null,null,null,null,null,null,null,null,null,null,null,null,null,null,null,null,null,null,null,null,null,null,null,{"$f":"Table1[[#This Row],[strike]]","v":0},0,0,0,0,0,0,0,0,0]
[null,null,null,null,null,null,null,null,null,null,null,null,null,null,null,null,null,null,null,null,null,null,null,null,null,null,null,null,null,null,null,null,null,null,null,null,null,null,null,{"$f":"Table1[[#This Row],[strike]]","v":0},0,0,0,0,0,0,0,0,0]
[null,null,null,null,null,null,null,null,null,null,null,null,null,null,null,null,null,null,null,null,null,null,null,null,null,null,null,null,null,null,null,null,null,null,null,null,null,null,null,{"$f":"Table1[[#This Row],[strike]]","v":0},0,0,0,0,0,0,0,0,0]
[null,null,null,null,null,null,null,null,null,null,null,null,null,null,null,null,null,null,null,null,null,null,null,null,null,null,null,null,null,null,null,null,null,null,null,null,null,null,null,{"$f":"Table1[[#This Row],[strike]]","v":0},0,0,0,0,0,0,0,0,0]
[null,null,null,null,null,null,null,null,null,null,null,null,null,null,null,null,null,null,null,null,null,null,null,null,null,null,null,null,null,null,null,null,null,null,null,null,null,null,null,{"$f":"Table1[[#This Row],[strike]]","v":0},0,0,0,0,0,0,0,0,0]
[null,null,null,null,null,null,null,null,null,null,null,null,null,null,null,null,null,null,null,null,null,null,null,null,null,null,null,null,null,null,null,null,null,null,null,null,null,null,null,{"$f":"Table1[[#This Row],[strike]]","v":0},0,0,0,0,0,0,0,0,0]
[null,null,null,null,null,null,null,null,null,null,null,null,null,null,null,null,null,null,null,null,null,null,null,null,null,null,null,null,null,null,null,null,null,null,null,null,null,null,null,{"$f":"Table1[[#This Row],[strike]]","v":0},0,0,0,0,0,0,0,{"$f":"_xlfn.AGGREGATE(9,6,AO1424:AU1424)","v":0},0]
[null,null,null,null,null,null,null,null,null,null,null,null,null,null,null,null,null,null,null,null,null,null,null,null,null,null,null,null,null,null,null,null,null,null,null,null,null,null,null,{"$f":"Table1[[#This Row],[strike]]","v":0},0,0,0,0,0,0,0,0,0]
[null,null,null,null,null,null,null,null,null,null,null,null,null,null,null,null,null,null,null,null,null,null,null,null,null,null,null,null,null,null,null,null,null,null,null,null,null,null,null,{"$f":"Table1[[#This Row],[strike]]","v":0},{"$f":"IF(AO$20=\"n/a\",0,IF(AO$20=\"Buy\",AN1433*Q$11,AN1433*-Q$11))","v":0},0,0,0,0,0,0,0,{"$f":"AV1433+R$18","v":0}]
[null,null,null,null,null,null,null,null,null,null,null,null,null,null,null,null,null,null,null,null,null,null,null,null,null,null,null,null,null,null,null,null,null,null,null,null,null,null,null,{"$f":"Table1[[#This Row],[strike]]","v":0},0,0,0,0,0,0,0,0,0]
[null,null,null,null,null,null,null,null,null,null,null,null,null,null,null,null,null,null,null,null,null,null,null,null,null,null,null,null,null,null,null,null,null,null,null,null,null,null,null,{"$f":"Table1[[#This Row],[strike]]","v":0},0,0,0,0,0,0,0,0,0]
[null,null,null,null,null,null,null,null,null,null,null,null,null,null,null,null,null,null,null,null,null,null,null,null,null,null,null,null,null,null,null,null,null,null,null,null,null,null,null,{"$f":"Table1[[#This Row],[strike]]","v":0},0,0,0,0,0,0,0,0,0]
[null,null,null,null,null,null,null,null,null,null,null,null,null,null,null,null,null,null,null,null,null,null,null,null,null,null,null,null,null,null,null,null,null,null,null,null,null,null,null,{"$f":"Table1[[#This Row],[strike]]","v":0},0,0,0,0,0,0,0,0,0]
[null,null,null,null,null,null,null,null,null,null,null,null,null,null,null,null,null,null,null,null,null,null,null,null,null,null,null,null,null,null,null,null,null,null,null,null,null,null,null,{"$f":"Table1[[#This Row],[strike]]","v":0},0,0,0,0,0,0,0,0,0]
[null,null,null,null,null,null,null,null,null,null,null,null,null,null,null,null,null,null,null,null,null,null,null,null,null,null,null,null,null,null,null,null,null,null,null,null,null,null,null,{"$f":"Table1[[#This Row],[strike]]","v":0},0,0,0,0,0,0,0,0,0]
[null,null,null,null,null,null,null,null,null,null,null,null,null,null,null,null,null,null,null,null,null,null,null,null,null,null,null,null,null,null,null,null,null,null,null,null,null,null,null,{"$f":"Table1[[#This Row],[strike]]","v":0},0,0,0,0,0,0,0,0,0]
[null,null,null,null,null,null,null,null,null,null,null,null,null,null,null,null,null,null,null,null,null,null,null,null,null,null,null,null,null,null,null,null,null,null,null,null,null,null,null,{"$f":"Table1[[#This Row],[strike]]","v":0},0,0,0,0,0,0,0,0,0]
[null,null,null,null,null,null,null,null,null,null,null,null,null,null,null,null,null,null,null,null,null,null,null,null,null,null,null,null,null,null,null,null,null,null,null,null,null,null,null,{"$f":"Table1[[#This Row],[strike]]","v":0},0,0,0,0,0,0,0,0,0]
[null,null,null,null,null,null,null,null,null,null,null,null,null,null,null,null,null,null,null,null,null,null,null,null,null,null,null,null,null,null,null,null,null,null,null,null,null,null,null,{"$f":"Table1[[#This Row],[strike]]","v":0},0,0,0,0,0,0,0,0,0]
[null,null,null,null,null,null,null,null,null,null,null,null,null,null,null,null,null,null,null,null,null,null,null,null,null,null,null,null,null,null,null,null,null,null,null,null,null,null,null,{"$f":"Table1[[#This Row],[strike]]","v":0},{"$f":"IF(AO$20=\"n/a\",0,IF(AO$20=\"Buy\",AN1497*Q$11,AN1497*-Q$11))","v":0},0,0,0,0,0,0,0,{"$f":"AV1497+R$18","v":0}]
[null,null,null,null,null,null,null,null,null,null,null,null,null,null,null,null,null,null,null,null,null,null,null,null,null,null,null,null,null,null,null,null,null,null,null,null,null,null,null,{"$f":"Table1[[#This Row],[strike]]","v":0},0,0,0,0,0,0,0,0,0]
[null,null,null,null,null,null,null,null,null,null,null,null,null,null,null,null,null,null,null,null,null,null,null,null,null,null,null,null,null,null,null,null,null,null,null,null,null,null,null,{"$f":"Table1[[#This Row],[strike]]","v":0},0,0,0,0,0,0,0,0,0]
[null,null,null,null,null,null,null,null,null,null,null,null,null,null,null,null,null,null,null,null,null,null,null,null,null,null,null,null,null,null,null,null,null,null,null,null,null,null,null,{"$f":"Table1[[#This Row],[strike]]","v":0},0,{"$f":"IF(AP$20=\"n/a\",0,IF(AP$20=\"Buy\",MAX(0,$AN1515-AP$21),MIN(0,AP$21-$AN1515)))*AP$22","v":0},0,0,0,0,0,0,0]
[null,null,null,null,null,null,null,null,null,null,null,null,null,null,null,null,null,null,null,null,null,null,null,null,null,null,null,null,null,null,null,null,null,null,null,null,null,null,null,{"$f":"Table1[[#This Row],[strike]]","v":0},0,0,0,0,0,0,0,0,0]
[null,null,null,null,null,null,null,null,null,null,null,null,null,null,null,null,null,null,null,null,null,null,null,null,null,null,null,null,null,null,null,null,null,null,null,null,null,null,null,{"$f":"Table1[[#This Row],[strike]]","v":0},0,0,0,0,0,0,0,0,0]
[null,null,null,null,null,null,null,null,null,null,null,null,null,null,null,null,null,null,null,null,null,null,null,null,null,null,null,null,null,null,null,null,null,null,null,null,null,null,null,{"$f":"Table1[[#This Row],[strike]]","v":0},0,0,0,0,0,0,0,0,0]
[null,null,null,null,null,null,null,null,null,null,null,null,null,null,null,null,null,null,null,null,null,null,null,null,null,null,null,null,null,null,null,null,null,null,null,null,null,null,null,{"$f":"Table1[[#This Row],[strike]]","v":0},0,0,0,0,0,0,0,0,0]
[null,null,null,null,null,null,null,null,null,null,null,null,null,null,null,null,null,null,null,null,null,null,null,null,null,null,null,null,null,null,null,null,null,null,null,null,null,null,null,{"$f":"Table1[[#This Row],[strike]]","v":0},0,0,0,0,0,0,0,0,0]
[null,null,null,null,null,null,null,null,null,null,null,null,null,null,null,null,null,null,null,null,null,null,null,null,null,null,null,null,null,null,null,null,null,null,null,null,null,null,null,{"$f":"Table1[[#This Row],[strike]]","v":0},0,0,0,0,0,0,0,0,0]
[null,null,null,null,null,null,null,null,null,null,null,null,null,null,null,null,null,null,null,null,null,null,null,null,null,null,null,null,null,null,null,null,null,null,null,null,null,null,null,{"$f":"Table1[[#This Row],[strike]]","v":0},0,0,0,0,0,0,0,0,0]
[null,null,null,null,null,null,null,null,null,null,null,null,null,null,null,null,null,null,null,null,null,null,null,null,null,null,null,null,null,null,null,null,null,null,null,null,null,null,null,{"$f":"Table1[[#This Row],[strike]]","v":0},{"$f":"IF(AO$20=\"n/a\",0,IF(AO$20=\"Buy\",AN1561*Q$11,AN1561*-Q$11))","v":0},0,0,0,0,0,0,0,{"$f":"AV1561+R$18","v":0}]
[null,null,null,null,null,null,null,null,null,null,null,null,null,null,null,null,null,null,null,null,null,null,null,null,null,null,null,null,null,null,null,null,null,null,null,null,null,null,null,{"$f":"Table1[[#This Row],[strike]]","v":0},0,0,0,0,0,0,0,0,0]
[null,null,null,null,null,null,null,null,null,null,null,null,null,null,null,null,null,null,null,null,null,null,null,null,null,null,null,null,null,null,null,null,null,null,null,null,null,null,null,{"$f":"Table1[[#This Row],[strike]]","v":0},0,0,0,0,0,0,0,0,0]
[null,null,null,null,null,null,null,null,null,null,null,null,null,null,null,null,null,null,null,null,null,null,null,null,null,null,null,null,null,null,null,null,null,null,null,null,null,null,null,{"$f":"Table1[[#This Row],[strike]]","v":0},0,0,0,0,0,0,0,0,0]
[null,null,null,null,null,null,null,null,null,null,null,null,null,null,null,null,null,null,null,null,null,null,null,null,null,null,null,null,null,null,null,null,null,null,null,null,null,null,null,{"$f":"Table1[[#This Row],[strike]]","v":0},0,0,0,0,0,0,0,0,0]
[null,null,null,null,null,null,null,null,null,null,null,null,null,null,null,null,null,null,null,null,null,null,null,null,null,null,null,null,null,null,null,null,null,null,null,null,null,null,null,{"$f":"Table1[[#This Row],[strike]]","v":0},0,0,0,0,0,0,0,0,0]
[null,null,null,null,null,null,null,null,null,null,null,null,null,null,null,null,null,null,null,null,null,null,null,null,null,null,null,null,null,null,null,null,null,null,null,null,null,null,null,{"$f":"Table1[[#This Row],[strike]]","v":0},0,0,0,0,0,0,0,0,0]
[null,null,null,null,null,null,null,null,null,null,null,null,null,null,null,null,null,null,null,null,null,null,null,null,null,null,null,null,null,null,null,null,null,null,null,null,null,null,null,{"$f":"Table1[[#This Row],[strike]]","v":0},0,0,0,0,0,0,0,0,0]
[null,null,null,null,null,null,null,null,null,null,null,null,null,null,null,null,null,null,null,null,null,null,null,null,null,null,null,null,null,null,null,null,null,null,null,null,null,null,null,{"$f":"Table1[[#This Row],[strike]]","v":0},0,0,0,0,0,0,0,0,0]
[null,null,null,null,null,null,null,null,null,null,null,null,null,null,null,null,null,null,null,null,null,null,null,null,null,null,null,null,null,null,null,null,null,null,null,null,null,null,null,{"$f":"Table1[[#This Row],[strike]]","v":0},0,0,0,0,0,0,0,0,0]
[null,null,null,null,null,null,null,null,null,null,null,null,null,null,null,null,null,null,null,null,null,null,null,null,null,null,null,null,null,null,null,null,null,null,null,null,null,null,null,{"$f":"Table1[[#This Row],[strike]]","v":0},0,0,0,0,0,0,0,{"$f":"_xlfn.AGGREGATE(9,6,AO1616:AU1616)","v":0},0]
[null,null,null,null,null,null,null,null,null,null,null,null,null,null,null,null,null,null,null,null,null,null,null,null,null,null,null,null,null,null,null,null,null,null,null,null,null,null,null,{"$f":"Table1[[#This Row],[strike]]","v":0},{"$f":"IF(AO$20=\"n/a\",0,IF(AO$20=\"Buy\",AN1625*Q$11,AN1625*-Q$11))","v":0},{"$f":"IF(AP$20=\"n/a\",0,IF(AP$20=\"Buy\",MAX(0,$AN1625-AP$21),MIN(0,AP$21-$AN1625)))*AP$22","v":0},0,0,0,0,0,0,{"$f":"AV1625+R$18","v":0}]
[null,null,null,null,null,null,null,null,null,null,null,null,null,null,null,null,null,null,null,null,null,null,null,null,null,null,null,null,null,null,null,null,null,null,null,null,null,null,null,{"$f":"Table1[[#This Row],[strike]]","v":0},0,0,0,0,0,0,0,0,0]
[null,null,null,null,null,null,null,null,null,null,null,null,null,null,null,null,null,null,null,null,null,null,null,null,null,null,null,null,null,null,null,null,null,null,null,null,null,null,null,{"$f":"Table1[[#This Row],[strike]]","v":0},0,0,0,0,0,0,0,0,0]
[null,null,null,null,null,null,null,null,null,null,null,null,null,null,null,null,null,null,null,null,null,null,null,null,null,null,null,null,null,null,null,null,null,null,null,null,null,null,null,{"$f":"Table1[[#This Row],[strike]]","v":0},0,0,0,0,0,0,0,0,0]
[null,null,null,null,null,null,null,null,null,null,null,null,null,null,null,null,null,null,null,null,null,null,null,null,null,null,null,null,null,null,null,null,null,null,null,null,null,null,null,{"$f":"Table1[[#This Row],[strike]]","v":0},0,0,0,0,0,0,0,0,0]
[null,null,null,null,null,null,null,null,null,null,null,null,null,null,null,null,null,null,null,null,null,null,null,null,null,null,null,null,null,null,null,null,null,null,null,null,null,null,null,{"$f":"Table1[[#This Row],[strike]]","v":0},0,0,0,0,0,0,0,0,0]
[null,null,null,null,null,null,null,null,null,null,null,null,null,null,null,null,null,null,null,null,null,null,null,null,null,null,null,null,null,null,null,null,null,null,null,null,null,null,null,{"$f":"Table1[[#This Row],[strike]]","v":0},0,0,0,0,0,0,0,0,0]
[null,null,null,null,null,null,null,null,null,null,null,null,null,null,null,null,null,null,null,null,null,null,null,null,null,null,null,null,null,null,null,null,null,null,null,null,null,null,null,{"$f":"Table1[[#This Row],[strike]]","v":0},0,0,0,0,0,0,0,0,0]
[null,null,null,null,null,null,null,null,null,null,null,null,null,null,null,null,null,null,null,null,null,null,null,null,null,null,null,null,null,null,null,null,null,null,null,null,null,null,null,{"$f":"Table1[[#This Row],[strike]]","v":0},0,0,0,0,0,0,0,0,0]
[null,null,null,null,null,null,null,null,null,null,null,null,null,null,null,null,null,null,null,null,null,null,null,null,null,null,null,null,null,null,null,null,null,null,null,null,null,null,null,{"$f":"Table1[[#This Row],[strike]]","v":0},0,0,0,0,0,0,0,0,0]
[null,null,null,null,null,null,null,null,null,null,null,null,null,null,null,null,null,null,null,null,null,null,null,null,null,null,null,null,null,null,null,null,null,null,null,null,null,null,null,{"$f":"Table1[[#This Row],[strike]]","v":0},0,0,0,0,0,0,0,{"$f":"_xlfn.AGGREGATE(9,6,AO1680:AU1680)","v":0},0]
[null,null,null,null,null,null,null,null,null,null,null,null,null,null,null,null,null,null,null,null,null,null,null,null,null,null,null,null,null,null,null,null,null,null,null,null,null,null,null,{"$f":"Table1[[#This Row],[strike]]","v":0},0,0,0,0,0,0,0,0,0]
[null,null,null,null,null,null,null,null,null,null,null,null,null,null,null,null,null,null,null,null,null,null,null,null,null,null,null,null,null,null,null,null,null,null,null,null,null,null,null,{"$f":"Table1[[#This Row],[strike]]","v":0},0,0,0,0,0,0,0,0,0]
[null,null,null,null,null,null,null,null,null,null,null,null,null,null,null,null,null,null,null,null,null,null,null,null,null,null,null,null,null,null,null,null,null,null,null,null,null,null,null,{"$f":"Table1[[#This Row],[strike]]","v":0},0,0,0,0,0,0,0,0,0]
[null,null,null,null,null,null,null,null,null,null,null,null,null,null,null,null,null,null,null,null,null,null,null,null,null,null,null,null,null,null,null,null,null,null,null,null,null,null,null,{"$f":"Table1[[#This Row],[strike]]","v":0},0,{"$f":"IF(AP$20=\"n/a\",0,IF(AP$20=\"Buy\",MAX(0,$AN1705-AP$21),MIN(0,AP$21-$AN1705)))*AP$22","v":0},0,0,0,0,0,0,0]
[null,null,null,null,null,null,null,null,null,null,null,null,null,null,null,null,null,null,null,null,null,null,null,null,null,null,null,null,null,null,null,null,null,null,null,null,null,null,null,{"$f":"Table1[[#This Row],[strike]]","v":0},0,0,0,0,0,0,0,0,0]
[null,null,null,null,null,null,null,null,null,null,null,null,null,null,null,null,null,null,null,null,null,null,null,null,null,null,null,null,null,null,null,null,null,null,null,null,null,null,null,{"$f":"Table1[[#This Row],[strike]]","v":0},0,{"$f":"IF(AP$20=\"n/a\",0,IF(AP$20=\"Buy\",MAX(0,$AN1715-AP$21),MIN(0,AP$21-$AN1715)))*AP$22","v":0},0,0,0,0,0,0,0]
[null,null,null,null,null,null,null,null,null,null,null,null,null,null,null,null,null,null,null,null,null,null,null,null,null,null,null,null,null,null,null,null,null,null,null,null,null,null,null,{"$f":"Table1[[#This Row],[strike]]","v":0},0,0,0,0,0,0,0,0,0]
[null,null,null,null,null,null,null,null,null,null,null,null,null,null,null,null,null,null,null,null,null,null,null,null,null,null,null,null,null,null,null,null,null,null,null,null,null,null,null,{"$f":"Table1[[#This Row],[strike]]","v":0},0,0,0,0,0,0,0,0,0]
[null,null,null,null,null,null,null,null,null,null,null,null,null,null,null,null,null,null,null,null,null,null,null,null,null,null,null,null,null,null,null,null,null,null,null,null,null,null,null,{"$f":"Table1[[#This Row],[strike]]","v":0},0,0,0,0,0,0,0,0,0]
[null,null,null,null,null,null,null,null,null,null,null,null,null,null,null,null,null,null,null,null,null,null,null,null,null,null,null,null,null,null,null,null,null,null,null,null,null,null,null,{"$f":"Table1[[#This Row],[strike]]","v":0},0,0,0,0,0,0,0,0,0]
[null,null,null,null,null,null,null,null,null,null,null,null,null,null,null,null,null,null,null,null,null,null,null,null,null,null,null,null,null,null,null,null,null,null,null,null,null,null,null,{"$f":"Table1[[#This Row],[strike]]","v":0},0,0,0,0,0,0,0,{"$f":"_xlfn.AGGREGATE(9,6,AO1744:AU1744)","v":0},0]
[null,null,null,null,null,null,null,null,null,null,null,null,null,null,null,null,null,null,null,null,null,null,null,null,null,null,null,null,null,null,null,null,null,null,null,null,null,null,null,{"$f":"Table1[[#This Row],[strike]]","v":0},0,0,0,0,0,0,0,0,0]
[null,null,null,null,null,null,null,null,null,null,null,null,null,null,null,null,null,null,null,null,null,null,null,null,null,null,null,null,null,null,null,null,null,null,null,null,null,null,null,{"$f":"Table1[[#This Row],[strike]]","v":0},0,0,0,0,0,0,0,0,0]
[null,null,null,null,null,null,null,null,null,null,null,null,null,null,null,null,null,null,null,null,null,null,null,null,null,null,null,null,null,null,null,null,null,null,null,null,null,null,null,{"$f":"Table1[[#This Row],[strike]]","v":0},0,0,0,0,0,0,0,0,0]
[null,null,null,null,null,null,null,null,null,null,null,null,null,null,null,null,null,null,null,null,null,null,null,null,null,null,null,null,null,null,null,null,null,null,null,null,null,null,null,{"$f":"Table1[[#This Row],[strike]]","v":0},0,0,0,0,0,0,0,0,0]
[null,null,null,null,null,null,null,null,null,null,null,null,null,null,null,null,null,null,null,null,null,null,null,null,null,null,null,null,null,null,null,null,null,null,null,null,null,null,null,{"$f":"Table1[[#This Row],[strike]]","v":0},0,0,0,0,0,0,0,0,0]
[null,null,null,null,null,null,null,null,null,null,null,null,null,null,null,null,null,null,null,null,null,null,null,null,null,null,null,null,null,null,null,null,null,null,null,null,null,null,null,{"$f":"Table1[[#This Row],[strike]]","v":0},0,0,0,0,0,0,0,0,0]
[null,null,null,null,null,null,null,null,null,null,null,null,null,null,null,null,null,null,null,null,null,null,null,null,null,null,null,null,null,null,null,null,null,null,null,null,null,null,null,{"$f":"Table1[[#This Row],[strike]]","v":0},0,0,0,0,0,0,0,0,0]
[null,null,null,null,null,null,null,null,null,null,null,null,null,null,null,null,null,null,null,null,null,null,null,null,null,null,null,null,null,null,null,null,null,null,null,null,null,null,null,{"$f":"Table1[[#This Row],[strike]]","v":0},0,0,0,0,0,0,0,0,0]
[null,null,null,null,null,null,null,null,null,null,null,null,null,null,null,null,null,null,null,null,null,null,null,null,null,null,null,null,null,null,null,null,null,null,null,null,null,null,null,{"$f":"Table1[[#This Row],[strike]]","v":0},0,0,0,0,0,0,0,0,0]
[null,null,null,null,null,null,null,null,null,null,null,null,null,null,null,null,null,null,null,null,null,null,null,null,null,null,null,null,null,null,null,null,null,null,null,null,null,null,null,{"$f":"Table1[[#This Row],[strike]]","v":0},0,0,0,0,0,0,0,0,0]
[null,null,null,null,null,null,null,null,null,null,null,null,null,null,null,null,null,null,null,null,null,null,null,null,null,null,null,null,null,null,null,null,null,null,null,null,null,null,null,{"$f":"Table1[[#This Row],[strike]]","v":0},0,0,0,0,0,0,0,0,0]
[null,null,null,null,null,null,null,null,null,null,null,null,null,null,null,null,null,null,null,null,null,null,null,null,null,null,null,null,null,null,null,null,null,null,null,null,null,null,null,{"$f":"Table1[[#This Row],[strike]]","v":0},0,{"$f":"IF(AP$20=\"n/a\",0,IF(AP$20=\"Buy\",MAX(0,$AN1815-AP$21),MIN(0,AP$21-$AN1815)))*AP$22","v":0},0,0,0,0,0,0,0]
[null,null,null,null,null,null,null,null,null,null,null,null,null,null,null,null,null,null,null,null,null,null,null,null,null,null,null,null,null,null,null,null,null,null,null,null,null,null,null,{"$f":"Table1[[#This Row],[strike]]","v":0},0,0,0,0,0,0,0,0,0]
[null,null,null,null,null,null,null,null,null,null,null,null,null,null,null,null,null,null,null,null,null,null,null,null,null,null,null,null,null,null,null,null,null,null,null,null,null,null,null,{"$f":"Table1[[#This Row],[strike]]","v":0},0,0,0,0,0,0,0,0,0]
[null,null,null,null,null,null,null,null,null,null,null,null,null,null,null,null,null,null,null,null,null,null,null,null,null,null,null,null,null,null,null,null,null,null,null,null,null,null,null,{"$f":"Table1[[#This Row],[strike]]","v":0},0,0,0,0,0,0,0,0,0]
[null,null,null,null,null,null,null,null,null,null,null,null,null,null,null,null,null,null,null,null,null,null,null,null,null,null,null,null,null,null,null,null,null,null,null,null,null,null,null,{"$f":"Table1[[#This Row],[strike]]","v":0},0,0,0,0,0,0,0,0,0]
[null,null,null,null,null,null,null,null,null,null,null,null,null,null,null,null,null,null,null,null,null,null,null,null,null,null,null,null,null,null,null,null,null,null,null,null,null,null,null,{"$f":"Table1[[#This Row],[strike]]","v":0},0,0,0,0,0,0,0,0,0]
[null,null,null,null,null,null,null,null,null,null,null,null,null,null,null,null,null,null,null,null,null,null,null,null,null,null,null,null,null,null,null,null,null,null,null,null,null,null,null,{"$f":"Table1[[#This Row],[strike]]","v":0},0,{"$f":"IF(AP$20=\"n/a\",0,IF(AP$20=\"Buy\",MAX(0,$AN1845-AP$21),MIN(0,AP$21-$AN1845)))*AP$22","v":0},0,0,0,0,0,0,0]
[null,null,null,null,null,null,null,null,null,null,null,null,null,null,null,null,null,null,null,null,null,null,null,null,null,null,null,null,null,null,null,null,null,null,null,null,null,null,null,{"$f":"Table1[[#This Row],[strike]]","v":0},0,0,0,0,0,0,0,0,0]
[null,null,null,null,null,null,null,null,null,null,null,null,null,null,null,null,null,null,null,null,null,null,null,null,null,null,null,null,null,null,null,null,null,null,null,null,null,null,null,{"$f":"Table1[[#This Row],[strike]]","v":0},0,0,0,0,0,0,0,0,0]
[null,null,null,null,null,null,null,null,null,null,null,null,null,null,null,null,null,null,null,null,null,null,null,null,null,null,null,null,null,null,null,null,null,null,null,null,null,null,null,{"$f":"Table1[[#This Row],[strike]]","v":0},0,0,0,0,0,0,0,0,0]
[null,null,null,null,null,null,null,null,null,null,null,null,null,null,null,null,null,null,null,null,null,null,null,null,null,null,null,null,null,null,null,null,null,null,null,null,null,null,null,{"$f":"Table1[[#This Row],[strike]]","v":0},0,0,0,0,0,0,0,0,0]
[null,null,null,null,null,null,null,null,null,null,null,null,null,null,null,null,null,null,null,null,null,null,null,null,null,null,null,null,null,null,null,null,null,null,null,null,null,null,null,{"$f":"Table1[[#This Row],[strike]]","v":0},0,0,0,0,0,0,0,0,0]
[null,null,null,null,null,null,null,null,null,null,null,null,null,null,null,null,null,null,null,null,null,null,null,null,null,null,null,null,null,null,null,null,null,null,null,null,null,null,null,{"$f":"Table1[[#This Row],[strike]]","v":0},0,0,0,0,0,0,0,0,0]
[null,null,null,null,null,null,null,null,null,null,null,null,null,null,null,null,null,null,null,null,null,null,null,null,null,null,null,null,null,null,null,null,null,null,null,null,null,null,null,{"$f":"Table1[[#This Row],[strike]]","v":0},0,0,0,0,0,0,0,0,0]
[null,null,null,null,null,null,null,null,null,null,null,null,null,null,null,null,null,null,null,null,null,null,null,null,null,null,null,null,null,null,null,null,null,null,null,null,null,null,null,{"$f":"Table1[[#This Row],[strike]]","v":0},0,0,0,0,0,0,0,0,0]
[null,null,null,null,null,null,null,null,null,null,null,null,null,null,null,null,null,null,null,null,null,null,null,null,null,null,null,null,null,null,null,null,null,null,null,null,null,null,null,{"$f":"Table1[[#This Row],[strike]]","v":0},0,0,0,0,0,0,0,0,0]
[null,null,null,null,null,null,null,null,null,null,null,null,null,null,null,null,null,null,null,null,null,null,null,null,null,null,null,null,null,null,null,null,null,null,null,null,null,null,null,{"$f":"Table1[[#This Row],[strike]]","v":0},0,0,0,0,0,0,0,0,0]
[null,null,null,null,null,null,null,null,null,null,null,null,null,null,null,null,null,null,null,null,null,null,null,null,null,null,null,null,null,null,null,null,null,null,null,null,null,null,null,{"$f":"Table1[[#This Row],[strike]]","v":0},0,0,0,0,0,0,0,0,0]
[null,null,null,null,null,null,null,null,null,null,null,null,null,null,null,null,null,null,null,null,null,null,null,null,null,null,null,null,null,null,null,null,null,null,null,null,null,null,null,{"$f":"Table1[[#This Row],[strike]]","v":0},0,0,0,0,0,0,0,0,0]
[null,null,null,null,null,null,null,null,null,null,null,null,null,null,null,null,null,null,null,null,null,null,null,null,null,null,null,null,null,null,null,null,null,null,null,null,null,null,null,{"$f":"Table1[[#This Row],[strike]]","v":0},0,0,0,0,0,0,0,0,0]
[null,null,null,null,null,null,null,null,null,null,null,null,null,null,null,null,null,null,null,null,null,null,null,null,null,null,null,null,null,null,null,null,null,null,null,null,null,null,null,{"$f":"Table1[[#This Row],[strike]]","v":0},0,{"$f":"IF(AP$20=\"n/a\",0,IF(AP$20=\"Buy\",MAX(0,$AN1925-AP$21),MIN(0,AP$21-$AN1925)))*AP$22","v":0},0,0,0,0,0,0,0]
[null,null,null,null,null,null,null,null,null,null,null,null,null,null,null,null,null,null,null,null,null,null,null,null,null,null,null,null,null,null,null,null,null,null,null,null,null,null,null,{"$f":"Table1[[#This Row],[strike]]","v":0},0,0,0,0,0,0,0,0,0]
[null,null,null,null,null,null,null,null,null,null,null,null,null,null,null,null,null,null,null,null,null,null,null,null,null,null,null,null,null,null,null,null,null,null,null,null,null,null,null,{"$f":"Table1[[#This Row],[strike]]","v":0},0,0,0,0,0,0,0,0,0]
[null,null,null,null,null,null,null,null,null,null,null,null,null,null,null,null,null,null,null,null,null,null,null,null,null,null,null,null,null,null,null,null,null,null,null,null,null,null,null,{"$f":"Table1[[#This Row],[strike]]","v":0},0,0,0,0,0,0,0,0,0]
[null,null,null,null,null,null,null,null,null,null,null,null,null,null,null,null,null,null,null,null,null,null,null,null,null,null,null,null,null,null,null,null,null,null,null,null,null,null,null,{"$f":"Table1[[#This Row],[strike]]","v":0},0,0,0,0,0,0,0,0,0]
[null,null,null,null,null,null,null,null,null,null,null,null,null,null,null,null,null,null,null,null,null,null,null,null,null,null,null,null,null,null,null,null,null,null,null,null,null,null,null,{"$f":"Table1[[#This Row],[strike]]","v":0},0,0,0,0,0,0,0,0,0]
[null,null,null,null,null,null,null,null,null,null,null,null,null,null,null,null,null,null,null,null,null,null,null,null,null,null,null,null,null,null,null,null,null,null,null,null,null,null,null,{"$f":"Table1[[#This Row],[strike]]","v":0},0,0,0,0,0,0,0,0,0]
[null,null,null,null,null,null,null,null,null,null,null,null,null,null,null,null,null,null,null,null,null,null,null,null,null,null,null,null,null,null,null,null,null,null,null,null,null,null,null,{"$f":"Table1[[#This Row],[strike]]","v":0},0,0,0,0,0,0,0,0,0]
[null,null,null,null,null,null,null,null,null,null,null,null,null,null,null,null,null,null,null,null,null,null,null,null,null,null,null,null,null,null,null,null,null,null,null,null,null,null,null,{"$f":"Table1[[#This Row],[strike]]","v":0},0,0,0,0,0,0,0,0,0]
[null,null,null,null,null,null,null,null,null,null,null,null,null,null,null,null,null,null,null,null,null,null,null,null,null,null,null,null,null,null,null,null,null,null,null,null,null,null,null,{"$f":"Table1[[#This Row],[strike]]","v":0},0,0,0,0,0,0,0,0,0]
[null,null,null,null,null,null,null,null,null,null,null,null,null,null,null,null,null,null,null,null,null,null,null,null,null,null,null,null,null,null,null,null,null,null,null,null,null,null,null,{"$f":"Table1[[#This Row],[strike]]","v":0},0,0,0,0,0,0,0,0,0]
[null,null,null,null,null,null,null,null,null,null,null,null,null,null,null,null,null,null,null,null,null,null,null,null,null,null,null,null,null,null,null,null,null,null,null,null,null,null,null,{"$f":"Table1[[#This Row],[strike]]","v":0},0,0,0,0,0,0,0,0,0]
[null,null,null,null,null,null,null,null,null,null,null,null,null,null,null,null,null,null,null,null,null,null,null,null,null,null,null,null,null,null,null,null,null,null,null,null,null,null,null,{"$f":"Table1[[#This Row],[strike]]","v":0},0,0,0,0,0,0,0,0,0]
[null,null,null,null,null,null,null,null,null,null,null,null,null,null,null,null,null,null,null,null,null,null,null,null,null,null,null,null,null,null,null,null,null,null,null,null,null,null,null,{"$f":"Table1[[#This Row],[strike]]","v":0},0,0,0,0,0,0,0,0,0]
[null,null,null,null,null,null,null,null,null,null,null,null,null,null,null,null,null,null,null,null,null,null,null,null,null,null,null,null,null,null,null,null,null,null,null,null,null,null,null,{"$f":"Table1[[#This Row],[strike]]","v":0},0,0,0,0,0,0,0,0,0]
[null,null,null,null,null,null,null,null,null,null,null,null,null,null,null,null,null,null,null,null,null,null,null,null,null,null,null,null,null,null,null,null,null,null,null,null,null,null,null,{"$f":"Table1[[#This Row],[strike]]","v":0},0,0,0,0,0,0,0,0,0]
[null,null,null,null,null,null,null,null,null,null,null,null,null,null,null,null,null,null,null,null,null,null,null,null,null,null,null,null,null,null,null,null,null,null,null,null,null,null,null,{"$f":"Table1[[#This Row],[strike]]","v":0},0,0,0,0,0,0,0,0,0]
[null,null,null,null,null,null,null,null,null,null,null,null,null,null,null,null,null,null,null,null,null,null,null,null,null,null,null,null,null,null,null,null,null,null,null,null,null,null,null,{"$f":"Table1[[#This Row],[strike]]","v":0},0,{"$f":"IF(AP$20=\"n/a\",0,IF(AP$20=\"Buy\",MAX(0,$AN2025-AP$21),MIN(0,AP$21-$AN2025)))*AP$22","v":0},0,0,0,0,0,0,0]
[null,null,null,null,null,null,null,null,null,null,null,null,null,null,null,null,null,null,null,null,null,null,null,null,null,null,null,null,null,null,null,null,null,null,null,null,null,null,null,{"$f":"Table1[[#This Row],[strike]]","v":0},0,0,0,0,0,0,0,0,0]
[null,null,null,null,null,null,null,null,null,null,null,null,null,null,null,null,null,null,null,null,null,null,null,null,null,null,null,null,null,null,null,null,null,null,null,null,null,null,null,{"$f":"Table1[[#This Row],[strike]]","v":0},0,{"$f":"IF(AP$20=\"n/a\",0,IF(AP$20=\"Buy\",MAX(0,$AN2035-AP$21),MIN(0,AP$21-$AN2035)))*AP$22","v":0},0,0,0,0,0,0,0]
[null,null,null,null,null,null,null,null,null,null,null,null,null,null,null,null,null,null,null,null,null,null,null,null,null,null,null,null,null,null,null,null,null,null,null,null,null,null,null,{"$f":"Table1[[#This Row],[strike]]","v":0},0,0,0,0,0,0,0,0,0]
[null,null,null,null,null,null,null,null,null,null,null,null,null,null,null,null,null,null,null,null,null,null,null,null,null,null,null,null,null,null,null,null,null,null,null,null,null,null,null,{"$f":"Table1[[#This Row],[strike]]","v":0},0,0,0,0,0,0,0,0,0]
[null,null,null,null,null,null,null,null,null,null,null,null,null,null,null,null,null,null,null,null,null,null,null,null,null,null,null,null,null,null,null,null,null,null,null,null,null,null,null,{"$f":"Table1[[#This Row],[strike]]","v":0},0,0,0,0,0,0,0,0,0]
[null,null,null,null,null,null,null,null,null,null,null,null,null,null,null,null,null,null,null,null,null,null,null,null,null,null,null,null,null,null,null,null,null,null,null,null,null,null,null,{"$f":"Table1[[#This Row],[strike]]","v":0},0,0,0,0,0,0,0,0,0]
[null,null,null,null,null,null,null,null,null,null,null,null,null,null,null,null,null,null,null,null,null,null,null,null,null,null,null,null,null,null,null,null,null,null,null,null,null,null,null,{"$f":"Table1[[#This Row],[strike]]","v":0},0,0,0,0,0,0,0,0,0]
[null,null,null,null,null,null,null,null,null,null,null,null,null,null,null,null,null,null,null,null,null,null,null,null,null,null,null,null,null,null,null,null,null,null,null,null,null,null,null,{"$f":"Table1[[#This Row],[strike]]","v":0},0,0,0,0,0,0,0,0,0]
[null,null,null,null,null,null,null,null,null,null,null,null,null,null,null,null,null,null,null,null,null,null,null,null,null,null,null,null,null,null,null,null,null,null,null,null,null,null,null,{"$f":"Table1[[#This Row],[strike]]","v":0},0,0,0,0,0,0,0,0,0]
[null,null,null,null,null,null,null,null,null,null,null,null,null,null,null,null,null,null,null,null,null,null,null,null,null,null,null,null,null,null,null,null,null,null,null,null,null,null,null,{"$f":"Table1[[#This Row],[strike]]","v":0},0,0,0,0,0,0,0,0,0]
[null,null,null,null,null,null,null,null,null,null,null,null,null,null,null,null,null,null,null,null,null,null,null,null,null,null,null,null,null,null,null,null,null,null,null,null,null,null,null,{"$f":"Table1[[#This Row],[strike]]","v":0},0,0,0,0,0,0,0,0,0]
[null,null,null,null,null,null,null,null,null,null,null,null,null,null,null,null,null,null,null,null,null,null,null,null,null,null,null,null,null,null,null,null,null,null,null,null,null,null,null,{"$f":"Table1[[#This Row],[strike]]","v":0},0,0,0,0,0,0,0,0,0]
[null,null,null,null,null,null,null,null,null,null,null,null,null,null,null,null,null,null,null,null,null,null,null,null,null,null,null,null,null,null,null,null,null,null,null,null,null,null,null,{"$f":"Table1[[#This Row],[strike]]","v":0},0,0,0,0,0,0,0,0,0]
[null,null,null,null,null,null,null,null,null,null,null,null,null,null,null,null,null,null,null,null,null,null,null,null,null,null,null,null,null,null,null,null,null,null,null,null,null,null,null,{"$f":"Table1[[#This Row],[strike]]","v":0},0,{"$f":"IF(AP$20=\"n/a\",0,IF(AP$20=\"Buy\",MAX(0,$AN2105-AP$21),MIN(0,AP$21-$AN2105)))*AP$22","v":0},0,0,0,0,0,0,0]
[null,null,null,null,null,null,null,null,null,null,null,null,null,null,null,null,null,null,null,null,null,null,null,null,null,null,null,null,null,null,null,null,null,null,null,null,null,null,null,{"$f":"Table1[[#This Row],[strike]]","v":0},0,0,0,0,0,0,0,0,0]
[null,null,null,null,null,null,null,null,null,null,null,null,null,null,null,null,null,null,null,null,null,null,null,null,null,null,null,null,null,null,null,null,null,null,null,null,null,null,null,{"$f":"Table1[[#This Row],[strike]]","v":0},0,0,0,0,0,0,0,0,0]
[null,null,null,null,null,null,null,null,null,null,null,null,null,null,null,null,null,null,null,null,null,null,null,null,null,null,null,null,null,null,null,null,null,null,null,null,null,null,null,{"$f":"Table1[[#This Row],[strike]]","v":0},0,0,0,0,0,0,0,0,0]
[null,null,null,null,null,null,null,null,null,null,null,null,null,null,null,null,null,null,null,null,null,null,null,null,null,null,null,null,null,null,null,null,null,null,null,null,null,null,null,{"$f":"Table1[[#This Row],[strike]]","v":0},0,0,0,0,0,0,0,0,0]
[null,null,null,null,null,null,null,null,null,null,null,null,null,null,null,null,null,null,null,null,null,null,null,null,null,null,null,null,null,null,null,null,null,null,null,null,null,null,null,{"$f":"Table1[[#This Row],[strike]]","v":0},0,{"$f":"IF(AP$20=\"n/a\",0,IF(AP$20=\"Buy\",MAX(0,$AN2135-AP$21),MIN(0,AP$21-$AN2135)))*AP$22","v":0},0,0,0,0,0,0,0]
[null,null,null,null,null,null,null,null,null,null,null,null,null,null,null,null,null,null,null,null,null,null,null,null,null,null,null,null,null,null,null,null,null,null,null,null,null,null,null,{"$f":"Table1[[#This Row],[strike]]","v":0},0,0,0,0,0,0,0,0,0]
[null,null,null,null,null,null,null,null,null,null,null,null,null,null,null,null,null,null,null,null,null,null,null,null,null,null,null,null,null,null,null,null,null,null,null,null,null,null,null,{"$f":"Table1[[#This Row],[strike]]","v":0},0,0,0,0,0,0,0,0,0]
[null,null,null,null,null,null,null,null,null,null,null,null,null,null,null,null,null,null,null,null,null,null,null,null,null,null,null,null,null,null,null,null,null,null,null,null,null,null,null,{"$f":"Table1[[#This Row],[strike]]","v":0},0,0,0,0,0,0,0,0,0]
[null,null,null,null,null,null,null,null,null,null,null,null,null,null,null,null,null,null,null,null,null,null,null,null,null,null,null,null,null,null,null,null,null,null,null,null,null,null,null,{"$f":"Table1[[#This Row],[strike]]","v":0},0,0,0,0,0,0,0,0,0]
[null,null,null,null,null,null,null,null,null,null,null,null,null,null,null,null,null,null,null,null,null,null,null,null,null,null,null,null,null,null,null,null,null,null,null,null,null,null,null,{"$f":"Table1[[#This Row],[strike]]","v":0},0,0,0,0,0,0,0,0,0]
[null,null,null,null,null,null,null,null,null,null,null,null,null,null,null,null,null,null,null,null,null,null,null,null,null,null,null,null,null,null,null,null,null,null,null,null,null,null,null,{"$f":"Table1[[#This Row],[strike]]","v":0},0,0,0,0,0,0,0,0,0]
[null,null,null,null,null,null,null,null,null,null,null,null,null,null,null,null,null,null,null,null,null,null,null,null,null,null,null,null,null,null,null,null,null,null,null,null,null,null,null,{"$f":"Table1[[#This Row],[strike]]","v":0},0,0,0,0,0,0,0,0,0]
[null,null,null,null,null,null,null,null,null,null,null,null,null,null,null,null,null,null,null,null,null,null,null,null,null,null,null,null,null,null,null,null,null,null,null,null,null,null,null,{"$f":"Table1[[#This Row],[strike]]","v":0},0,0,0,0,0,0,0,0,0]
[null,null,null,null,null,null,null,null,null,null,null,null,null,null,null,null,null,null,null,null,null,null,null,null,null,null,null,null,null,null,null,null,null,null,null,null,null,null,null,{"$f":"Table1[[#This Row],[strike]]","v":0},0,0,0,0,0,0,0,0,0]
[null,null,null,null,null,null,null,null,null,null,null,null,null,null,null,null,null,null,null,null,null,null,null,null,null,null,null,null,null,null,null,null,null,null,null,null,null,null,null,{"$f":"Table1[[#This Row],[strike]]","v":0},0,0,0,0,0,0,0,0,0]
[null,null,null,null,null,null,null,null,null,null,null,null,null,null,null,null,null,null,null,null,null,null,null,null,null,null,null,null,null,null,null,null,null,null,null,null,null,null,null,{"$f":"Table1[[#This Row],[strike]]","v":0},0,0,0,0,0,0,0,0,0]
[null,null,null,null,null,null,null,null,null,null,null,null,null,null,null,null,null,null,null,null,null,null,null,null,null,null,null,null,null,null,null,null,null,null,null,null,null,null,null,{"$f":"Table1[[#This Row],[strike]]","v":0},0,0,0,0,0,0,0,0,0]
[null,null,null,null,null,null,null,null,null,null,null,null,null,null,null,null,null,null,null,null,null,null,null,null,null,null,null,null,null,null,null,null,null,null,null,null,null,null,null,{"$f":"Table1[[#This Row],[strike]]","v":0},0,0,0,0,0,0,0,0,0]
[null,null,null,null,null,null,null,null,null,null,null,null,null,null,null,null,null,null,null,null,null,null,null,null,null,null,null,null,null,null,null,null,null,null,null,null,null,null,null,{"$f":"Table1[[#This Row],[strike]]","v":0},0,{"$f":"IF(AP$20=\"n/a\",0,IF(AP$20=\"Buy\",MAX(0,$AN2215-AP$21),MIN(0,AP$21-$AN2215)))*AP$22","v":0},0,0,0,0,0,0,0]
[null,null,null,null,null,null,null,null,null,null,null,null,null,null,null,null,null,null,null,null,null,null,null,null,null,null,null,null,null,null,null,null,null,null,null,null,null,null,null,{"$f":"Table1[[#This Row],[strike]]","v":0},0,0,0,0,0,0,0,0,0]
[null,null,null,null,null,null,null,null,null,null,null,null,null,null,null,null,null,null,null,null,null,null,null,null,null,null,null,null,null,null,null,null,null,null,null,null,null,null,null,{"$f":"Table1[[#This Row],[strike]]","v":0},0,0,0,0,0,0,0,0,0]
[null,null,null,null,null,null,null,null,null,null,null,null,null,null,null,null,null,null,null,null,null,null,null,null,null,null,null,null,null,null,null,null,null,null,null,null,null,null,null,{"$f":"Table1[[#This Row],[strike]]","v":0},0,0,0,0,0,0,0,0,0]
[null,null,null,null,null,null,null,null,null,null,null,null,null,null,null,null,null,null,null,null,null,null,null,null,null,null,null,null,null,null,null,null,null,null,null,null,null,null,null,{"$f":"Table1[[#This Row],[strike]]","v":0},0,0,0,0,0,0,0,0,0]
[null,null,null,null,null,null,null,null,null,null,null,null,null,null,null,null,null,null,null,null,null,null,null,null,null,null,null,null,null,null,null,null,null,null,null,null,null,null,null,{"$f":"Table1[[#This Row],[strike]]","v":0},0,0,0,0,0,0,0,0,0]
[null,null,null,null,null,null,null,null,null,null,null,null,null,null,null,null,null,null,null,null,null,null,null,null,null,null,null,null,null,null,null,null,null,null,null,null,null,null,null,{"$f":"Table1[[#This Row],[strike]]","v":0},0,0,0,0,0,0,0,0,0]
[null,null,null,null,null,null,null,null,null,null,null,null,null,null,null,null,null,null,null,null,null,null,null,null,null,null,null,null,null,null,null,null,null,null,null,null,null,null,null,{"$f":"Table1[[#This Row],[strike]]","v":0},0,0,0,0,0,0,0,0,0]
[null,null,null,null,null,null,null,null,null,null,null,null,null,null,null,null,null,null,null,null,null,null,null,null,null,null,null,null,null,null,null,null,null,null,null,null,null,null,null,{"$f":"Table1[[#This Row],[strike]]","v":0},0,0,0,0,0,0,0,0,0]
[null,null,null,null,null,null,null,null,null,null,null,null,null,null,null,null,null,null,null,null,null,null,null,null,null,null,null,null,null,null,null,null,null,null,null,null,null,null,null,{"$f":"Table1[[#This Row],[strike]]","v":0},0,0,0,0,0,0,0,0,0]
[null,null,null,null,null,null,null,null,null,null,null,null,null,null,null,null,null,null,null,null,null,null,null,null,null,null,null,null,null,null,null,null,null,null,null,null,null,null,null,{"$f":"Table1[[#This Row],[strike]]","v":0},0,0,0,0,0,0,0,0,0]
[null,null,null,null,null,null,null,null,null,null,null,null,null,null,null,null,null,null,null,null,null,null,null,null,null,null,null,null,null,null,null,null,null,null,null,null,null,null,null,{"$f":"Table1[[#This Row],[strike]]","v":0},0,0,0,0,0,0,0,0,0]
[null,null,null,null,null,null,null,null,null,null,null,null,null,null,null,null,null,null,null,null,null,null,null,null,null,null,null,null,null,null,null,null,null,null,null,null,null,null,null,{"$f":"Table1[[#This Row],[strike]]","v":0},0,0,0,0,0,0,0,0,0]
[null,null,null,null,null,null,null,null,null,null,null,null,null,null,null,null,null,null,null,null,null,null,null,null,null,null,null,null,null,null,null,null,null,null,null,null,null,null,null,{"$f":"Table1[[#This Row],[strike]]","v":0},0,0,0,0,0,0,0,0,0]
[null,null,null,null,null,null,null,null,null,null,null,null,null,null,null,null,null,null,null,null,null,null,null,null,null,null,null,null,null,null,null,null,null,null,null,null,null,null,null,{"$f":"Table1[[#This Row],[strike]]","v":0},0,0,0,0,0,0,0,0,0]
[null,null,null,null,null,null,null,null,null,null,null,null,null,null,null,null,null,null,null,null,null,null,null,null,null,null,null,null,null,null,null,null,null,null,null,null,null,null,null,{"$f":"Table1[[#This Row],[strike]]","v":0},0,0,0,0,0,0,0,0,0]
[null,null,null,null,null,null,null,null,null,null,null,null,null,null,null,null,null,null,null,null,null,null,null,null,null,null,null,null,null,null,null,null,null,null,null,null,null,null,null,{"$f":"Table1[[#This Row],[strike]]","v":0},0,0,0,0,0,0,0,0,0]
[null,null,null,null,null,null,null,null,null,null,null,null,null,null,null,null,null,null,null,null,null,null,null,null,null,null,null,null,null,null,null,null,null,null,null,null,null,null,null,{"$f":"Table1[[#This Row],[strike]]","v":0},0,0,0,0,0,0,0,0,0]
[null,null,null,null,null,null,null,null,null,null,null,null,null,null,null,null,null,null,null,null,null,null,null,null,null,null,null,null,null,null,null,null,null,null,null,null,null,null,null,{"$f":"Table1[[#This Row],[strike]]","v":0},0,0,0,0,0,0,0,0,0]
[null,null,null,null,null,null,null,null,null,null,null,null,null,null,null,null,null,null,null,null,null,null,null,null,null,null,null,null,null,null,null,null,null,null,null,null,null,null,null,{"$f":"Table1[[#This Row],[strike]]","v":0},0,{"$f":"IF(AP$20=\"n/a\",0,IF(AP$20=\"Buy\",MAX(0,$AN2325-AP$21),MIN(0,AP$21-$AN2325)))*AP$22","v":0},0,0,0,0,0,0,0]
[null,null,null,null,null,null,null,null,null,null,null,null,null,null,null,null,null,null,null,null,null,null,null,null,null,null,null,null,null,null,null,null,null,null,null,null,null,null,null,{"$f":"Table1[[#This Row],[strike]]","v":0},0,0,0,0,0,0,0,0,0]
[null,null,null,null,null,null,null,null,null,null,null,null,null,null,null,null,null,null,null,null,null,null,null,null,null,null,null,null,null,null,null,null,null,null,null,null,null,null,null,{"$f":"Table1[[#This Row],[strike]]","v":0},0,{"$f":"IF(AP$20=\"n/a\",0,IF(AP$20=\"Buy\",MAX(0,$AN2335-AP$21),MIN(0,AP$21-$AN2335)))*AP$22","v":0},0,0,0,0,0,0,0]
[null,null,null,null,null,null,null,null,null,null,null,null,null,null,null,null,null,null,null,null,null,null,null,null,null,null,null,null,null,null,null,null,null,null,null,null,null,null,null,{"$f":"Table1[[#This Row],[strike]]","v":0},0,0,0,0,0,0,0,0,0]
[null,null,null,null,null,null,null,null,null,null,null,null,null,null,null,null,null,null,null,null,null,null,null,null,null,null,null,null,null,null,null,null,null,null,null,null,null,null,null,{"$f":"Table1[[#This Row],[strike]]","v":0},0,0,0,0,0,0,0,0,0]
[null,null,null,null,null,null,null,null,null,null,null,null,null,null,null,null,null,null,null,null,null,null,null,null,null,null,null,null,null,null,null,null,null,null,null,null,null,null,null,{"$f":"Table1[[#This Row],[strike]]","v":0},0,0,0,0,0,0,0,0,0]
[null,null,null,null,null,null,null,null,null,null,null,null,null,null,null,null,null,null,null,null,null,null,null,null,null,null,null,null,null,null,null,null,null,null,null,null,null,null,null,{"$f":"Table1[[#This Row],[strike]]","v":0},0,{"$f":"IF(AP$20=\"n/a\",0,IF(AP$20=\"Buy\",MAX(0,$AN2355-AP$21),MIN(0,AP$21-$AN2355)))*AP$22","v":0},0,0,0,0,0,0,0]
[null,null,null,null,null,null,null,null,null,null,null,null,null,null,null,null,null,null,null,null,null,null,null,null,null,null,null,null,null,null,null,null,null,null,null,null,null,null,null,{"$f":"Table1[[#This Row],[strike]]","v":0},0,0,0,0,0,0,0,0,0]
[null,null,null,null,null,null,null,null,null,null,null,null,null,null,null,null,null,null,null,null,null,null,null,null,null,null,null,null,null,null,null,null,null,null,null,null,null,null,null,{"$f":"Table1[[#This Row],[strike]]","v":0},0,0,0,0,0,0,0,0,0]
[null,null,null,null,null,null,null,null,null,null,null,null,null,null,null,null,null,null,null,null,null,null,null,null,null,null,null,null,null,null,null,null,null,null,null,null,null,null,null,{"$f":"Table1[[#This Row],[strike]]","v":0},0,0,0,0,0,0,0,0,0]
[null,null,null,null,null,null,null,null,null,null,null,null,null,null,null,null,null,null,null,null,null,null,null,null,null,null,null,null,null,null,null,null,null,null,null,null,null,null,null,{"$f":"Table1[[#This Row],[strike]]","v":0},0,0,0,0,0,0,0,0,0]
[null,null,null,null,null,null,null,null,null,null,null,null,null,null,null,null,null,null,null,null,null,null,null,null,null,null,null,null,null,null,null,null,null,null,null,null,null,null,null,{"$f":"Table1[[#This Row],[strike]]","v":0},0,0,0,0,0,0,0,0,0]
[null,null,null,null,null,null,null,null,null,null,null,null,null,null,null,null,null,null,null,null,null,null,null,null,null,null,null,null,null,null,null,null,null,null,null,null,null,null,null,{"$f":"Table1[[#This Row],[strike]]","v":0},0,0,0,0,0,0,0,0,0]
[null,null,null,null,null,null,null,null,null,null,null,null,null,null,null,null,null,null,null,null,null,null,null,null,null,null,null,null,null,null,null,null,null,null,null,null,null,null,null,{"$f":"Table1[[#This Row],[strike]]","v":0},0,0,0,0,0,0,0,0,0]
[null,null,null,null,null,null,null,null,null,null,null,null,null,null,null,null,null,null,null,null,null,null,null,null,null,null,null,null,null,null,null,null,null,null,null,null,null,null,null,{"$f":"Table1[[#This Row],[strike]]","v":0},0,0,0,0,0,0,0,0,0]
[null,null,null,null,null,null,null,null,null,null,null,null,null,null,null,null,null,null,null,null,null,null,null,null,null,null,null,null,null,null,null,null,null,null,null,null,null,null,null,{"$f":"Table1[[#This Row],[strike]]","v":0},0,0,0,0,0,0,0,0,0]
[null,null,null,null,null,null,null,null,null,null,null,null,null,null,null,null,null,null,null,null,null,null,null,null,null,null,null,null,null,null,null,null,null,null,null,null,null,null,null,{"$f":"Table1[[#This Row],[strike]]","v":0},0,{"$f":"IF(AP$20=\"n/a\",0,IF(AP$20=\"Buy\",MAX(0,$AN2415-AP$21),MIN(0,AP$21-$AN2415)))*AP$22","v":0},0,0,0,0,0,0,0]
[null,null,null,null,null,null,null,null,null,null,null,null,null,null,null,null,null,null,null,null,null,null,null,null,null,null,null,null,null,null,null,null,null,null,null,null,null,null,null,{"$f":"Table1[[#This Row],[strike]]","v":0},0,0,0,0,0,0,0,0,0]
[null,null,null,null,null,null,null,null,null,null,null,null,null,null,null,null,null,null,null,null,null,null,null,null,null,null,null,null,null,null,null,null,null,null,null,null,null,null,null,{"$f":"Table1[[#This Row],[strike]]","v":0},0,0,0,0,0,0,0,0,0]
[null,null,null,null,null,null,null,null,null,null,null,null,null,null,null,null,null,null,null,null,null,null,null,null,null,null,null,null,null,null,null,null,null,null,null,null,null,null,null,{"$f":"Table1[[#This Row],[strike]]","v":0},0,0,0,0,0,0,0,0,0]
[null,null,null,null,null,null,null,null,null,null,null,null,null,null,null,null,null,null,null,null,null,null,null,null,null,null,null,null,null,null,null,null,null,null,null,null,null,null,null,{"$f":"Table1[[#This Row],[strike]]","v":0},0,{"$f":"IF(AP$20=\"n/a\",0,IF(AP$20=\"Buy\",MAX(0,$AN2435-AP$21),MIN(0,AP$21-$AN2435)))*AP$22","v":0},0,0,0,0,0,0,0]
[null,null,null,null,null,null,null,null,null,null,null,null,null,null,null,null,null,null,null,null,null,null,null,null,null,null,null,null,null,null,null,null,null,null,null,null,null,null,null,{"$f":"Table1[[#This Row],[strike]]","v":0},0,0,0,0,0,0,0,0,0]
[null,null,null,null,null,null,null,null,null,null,null,null,null,null,null,null,null,null,null,null,null,null,null,null,null,null,null,null,null,null,null,null,null,null,null,null,null,null,null,{"$f":"Table1[[#This Row],[strike]]","v":0},0,0,0,0,0,0,0,0,0]
[null,null,null,null,null,null,null,null,null,null,null,null,null,null,null,null,null,null,null,null,null,null,null,null,null,null,null,null,null,null,null,null,null,null,null,null,null,null,null,{"$f":"Table1[[#This Row],[strike]]","v":0},0,0,0,0,0,0,0,0,0]
[null,null,null,null,null,null,null,null,null,null,null,null,null,null,null,null,null,null,null,null,null,null,null,null,null,null,null,null,null,null,null,null,null,null,null,null,null,null,null,{"$f":"Table1[[#This Row],[strike]]","v":0},0,0,0,0,0,0,0,0,0]
[null,null,null,null,null,null,null,null,null,null,null,null,null,null,null,null,null,null,null,null,null,null,null,null,null,null,null,null,null,null,null,null,null,null,null,null,null,null,null,{"$f":"Table1[[#This Row],[strike]]","v":0},0,0,0,0,0,0,0,0,0]
[null,null,null,null,null,null,null,null,null,null,null,null,null,null,null,null,null,null,null,null,null,null,null,null,null,null,null,null,null,null,null,null,null,null,null,null,null,null,null,{"$f":"Table1[[#This Row],[strike]]","v":0},0,0,0,0,0,0,0,0,0]
[null,null,null,null,null,null,null,null,null,null,null,null,null,null,null,null,null,null,null,null,null,null,null,null,null,null,null,null,null,null,null,null,null,null,null,null,null,null,null,{"$f":"Table1[[#This Row],[strike]]","v":0},0,0,0,0,0,0,0,0,0]
[null,null,null,null,null,null,null,null,null,null,null,null,null,null,null,null,null,null,null,null,null,null,null,null,null,null,null,null,null,null,null,null,null,null,null,null,null,null,null,{"$f":"Table1[[#This Row],[strike]]","v":0},0,0,0,0,0,0,0,0,0]
[null,null,null,null,null,null,null,null,null,null,null,null,null,null,null,null,null,null,null,null,null,null,null,null,null,null,null,null,null,null,null,null,null,null,null,null,null,null,null,{"$f":"Table1[[#This Row],[strike]]","v":0},0,0,0,0,0,0,0,0,0]
[null,null,null,null,null,null,null,null,null,null,null,null,null,null,null,null,null,null,null,null,null,null,null,null,null,null,null,null,null,null,null,null,null,null,null,null,null,null,null,{"$f":"Table1[[#This Row],[strike]]","v":0},0,{"$f":"IF(AP$20=\"n/a\",0,IF(AP$20=\"Buy\",MAX(0,$AN2495-AP$21),MIN(0,AP$21-$AN2495)))*AP$22","v":0},0,0,0,0,0,0,0]
[null,null,null,null,null,null,null,null,null,null,null,null,null,null,null,null,null,null,null,null,null,null,null,null,null,null,null,null,null,null,null,null,null,null,null,null,null,null,null,{"$f":"Table1[[#This Row],[strike]]","v":0},0,0,0,0,0,0,0,0,0]
[null,null,null,null,null,null,null,null,null,null,null,null,null,null,null,null,null,null,null,null,null,null,null,null,null,null,null,null,null,null,null,null,null,null,null,null,null,null,null,{"$f":"Table1[[#This Row],[strike]]","v":0},0,0,0,0,0,0,0,0,0]
[null,null,null,null,null,null,null,null,null,null,null,null,null,null,null,null,null,null,null,null,null,null,null,null,null,null,null,null,null,null,null,null,null,null,null,null,null,null,null,{"$f":"Table1[[#This Row],[strike]]","v":0},0,0,0,0,0,0,0,0,0]
[null,null,null,null,null,null,null,null,null,null,null,null,null,null,null,null,null,null,null,null,null,null,null,null,null,null,null,null,null,null,null,null,null,null,null,null,null,null,null,{"$f":"Table1[[#This Row],[strike]]","v":0},0,0,0,0,0,0,0,0,0]
[null,null,null,null,null,null,null,null,null,null,null,null,null,null,null,null,null,null,null,null,null,null,null,null,null,null,null,null,null,null,null,null,null,null,null,null,null,null,null,{"$f":"Table1[[#This Row],[strike]]","v":0},0,0,0,0,0,0,0,0,0]
[null,null,null,null,null,null,null,null,null,null,null,null,null,null,null,null,null,null,null,null,null,null,null,null,null,null,null,null,null,null,null,null,null,null,null,null,null,null,null,{"$f":"Table1[[#This Row],[strike]]","v":0},0,0,0,0,0,0,0,0,0]
[null,null,null,null,null,null,null,null,null,null,null,null,null,null,null,null,null,null,null,null,null,null,null,null,null,null,null,null,null,null,null,null,null,null,null,null,null,null,null,{"$f":"Table1[[#This Row],[strike]]","v":0},0,{"$f":"IF(AP$20=\"n/a\",0,IF(AP$20=\"Buy\",MAX(0,$AN2536-AP$21),MIN(0,AP$21-$AN2536)))*AP$22","v":0},0,0,0,0,0,0,0]
[null,null,null,null,null,null,null,null,null,null,null,null,null,null,null,null,null,null,null,null,null,null,null,null,null,null,null,null,null,null,null,null,null,null,null,null,null,null,null,{"$f":"Table1[[#This Row],[strike]]","v":0},0,0,0,0,0,0,0,0,0]
[null,null,null,null,null,null,null,null,null,null,null,null,null,null,null,null,null,null,null,null,null,null,null,null,null,null,null,null,null,null,null,null,null,null,null,null,null,null,null,{"$f":"Table1[[#This Row],[strike]]","v":0},0,0,0,0,0,0,0,0,0]
[null,null,null,null,null,null,null,null,null,null,null,null,null,null,null,null,null,null,null,null,null,null,null,null,null,null,null,null,null,null,null,null,null,null,null,null,null,null,null,{"$f":"Table1[[#This Row],[strike]]","v":0},0,0,0,0,0,0,0,0,0]
[null,null,null,null,null,null,null,null,null,null,null,null,null,null,null,null,null,null,null,null,null,null,null,null,null,null,null,null,null,null,null,null,null,null,null,null,null,null,null,{"$f":"Table1[[#This Row],[strike]]","v":0},0,0,0,0,0,0,0,0,0]
[null,null,null,null,null,null,null,null,null,null,null,null,null,null,null,null,null,null,null,null,null,null,null,null,null,null,null,null,null,null,null,null,null,null,null,null,null,null,null,{"$f":"Table1[[#This Row],[strike]]","v":0},0,0,0,0,0,0,0,0,0]
[null,null,null,null,null,null,null,null,null,null,null,null,null,null,null,null,null,null,null,null,null,null,null,null,null,null,null,null,null,null,null,null,null,null,null,null,null,null,null,{"$f":"Table1[[#This Row],[strike]]","v":0},0,0,0,0,0,0,0,0,0]
[null,null,null,null,null,null,null,null,null,null,null,null,null,null,null,null,null,null,null,null,null,null,null,null,null,null,null,null,null,null,null,null,null,null,null,null,null,null,null,{"$f":"Table1[[#This Row],[strike]]","v":0},0,0,0,0,0,0,0,0,0]
[null,null,null,null,null,null,null,null,null,null,null,null,null,null,null,null,null,null,null,null,null,null,null,null,null,null,null,null,null,null,null,null,null,null,null,null,null,null,null,{"$f":"Table1[[#This Row],[strike]]","v":0},0,0,0,0,0,0,0,0,0]
[null,null,null,null,null,null,null,null,null,null,null,null,null,null,null,null,null,null,null,null,null,null,null,null,null,null,null,null,null,null,null,null,null,null,null,null,null,null,null,{"$f":"Table1[[#This Row],[strike]]","v":0},0,0,0,0,0,0,0,0,0]
[null,null,null,null,null,null,null,null,null,null,null,null,null,null,null,null,null,null,null,null,null,null,null,null,null,null,null,null,null,null,null,null,null,null,null,null,null,null,null,{"$f":"Table1[[#This Row],[strike]]","v":0},0,0,0,0,0,0,0,0,0]
[null,null,null,null,null,null,null,null,null,null,null,null,null,null,null,null,null,null,null,null,null,null,null,null,null,null,null,null,null,null,null,null,null,null,null,null,null,null,null,{"$f":"Table1[[#This Row],[strike]]","v":0},0,0,0,0,0,0,0,0,0]
[null,null,null,null,null,null,null,null,null,null,null,null,null,null,null,null,null,null,null,null,null,null,null,null,null,null,null,null,null,null,null,null,null,null,null,null,null,null,null,{"$f":"Table1[[#This Row],[strike]]","v":0},0,0,0,0,0,0,0,0,0]
[null,null,null,null,null,null,null,null,null,null,null,null,null,null,null,null,null,null,null,null,null,null,null,null,null,null,null,null,null,null,null,null,null,null,null,null,null,null,null,{"$f":"Table1[[#This Row],[strike]]","v":0},0,0,0,0,0,0,0,0,0]
[null,null,null,null,null,null,null,null,null,null,null,null,null,null,null,null,null,null,null,null,null,null,null,null,null,null,null,null,null,null,null,null,null,null,null,null,null,null,null,{"$f":"Table1[[#This Row],[strike]]","v":0},0,0,0,0,0,0,0,0,0]
[null,null,null,null,null,null,null,null,null,null,null,null,null,null,null,null,null,null,null,null,null,null,null,null,null,null,null,null,null,null,null,null,null,null,null,null,null,null,null,{"$f":"Table1[[#This Row],[strike]]","v":0},0,0,0,0,0,0,0,0,0]
[null,null,null,null,null,null,null,null,null,null,null,null,null,null,null,null,null,null,null,null,null,null,null,null,null,null,null,null,null,null,null,null,null,null,null,null,null,null,null,{"$f":"Table1[[#This Row],[strike]]","v":0},0,0,0,0,0,0,0,0,0]
[null,null,null,null,null,null,null,null,null,null,null,null,null,null,null,null,null,null,null,null,null,null,null,null,null,null,null,null,null,null,null,null,null,null,null,null,null,null,null,{"$f":"Table1[[#This Row],[strike]]","v":0},0,0,0,0,0,0,0,0,0]
[null,null,null,null,null,null,null,null,null,null,null,null,null,null,null,null,null,null,null,null,null,null,null,null,null,null,null,null,null,null,null,null,null,null,null,null,null,null,null,{"$f":"Table1[[#This Row],[strike]]","v":0},0,0,0,0,0,0,0,0,0]
[null,null,null,null,null,null,null,null,null,null,null,null,null,null,null,null,null,null,null,null,null,null,null,null,null,null,null,null,null,null,null,null,null,null,null,null,null,null,null,{"$f":"Table1[[#This Row],[strike]]","v":0},0,0,0,0,0,0,0,0,0]
[null,null,null,null,null,null,null,null,null,null,null,null,null,null,null,null,null,null,null,null,null,null,null,null,null,null,null,null,null,null,null,null,null,null,null,null,null,null,null,{"$f":"Table1[[#This Row],[strike]]","v":0},0,0,0,0,0,0,0,0,0]
[null,null,null,null,null,null,null,null,null,null,null,null,null,null,null,null,null,null,null,null,null,null,null,null,null,null,null,null,null,null,null,null,null,null,null,null,null,null,null,{"$f":"Table1[[#This Row],[strike]]","v":0},0,0,0,0,0,0,0,0,0]
[null,null,null,null,null,null,null,null,null,null,null,null,null,null,null,null,null,null,null,null,null,null,null,null,null,null,null,null,null,null,null,null,null,null,null,null,null,null,null,{"$f":"Table1[[#This Row],[strike]]","v":0},0,0,0,0,0,0,0,0,0]
[null,null,null,null,null,null,null,null,null,null,null,null,null,null,null,null,null,null,null,null,null,null,null,null,null,null,null,null,null,null,null,null,null,null,null,null,null,null,null,{"$f":"Table1[[#This Row],[strike]]","v":0},0,0,0,0,0,0,0,0,0]
[null,null,null,null,null,null,null,null,null,null,null,null,null,null,null,null,null,null,null,null,null,null,null,null,null,null,null,null,null,null,null,null,null,null,null,null,null,null,null,{"$f":"Table1[[#This Row],[strike]]","v":0},0,0,0,0,0,0,0,0,0]
[null,null,null,null,null,null,null,null,null,null,null,null,null,null,null,null,null,null,null,null,null,null,null,null,null,null,null,null,null,null,null,null,null,null,null,null,null,null,null,{"$f":"Table1[[#This Row],[strike]]","v":0},0,0,0,0,0,0,0,0,0]
[null,null,null,null,null,null,null,null,null,null,null,null,null,null,null,null,null,null,null,null,null,null,null,null,null,null,null,null,null,null,null,null,null,null,null,null,null,null,null,{"$f":"Table1[[#This Row],[strike]]","v":0},0,0,0,0,0,0,0,0,0]
[null,null,null,null,null,null,null,null,null,null,null,null,null,null,null,null,null,null,null,null,null,null,null,null,null,null,null,null,null,null,null,null,null,null,null,null,null,null,null,{"$f":"Table1[[#This Row],[strike]]","v":0},0,0,0,0,0,0,0,0,0]
[null,null,null,null,null,null,null,null,null,null,null,null,null,null,null,null,null,null,null,null,null,null,null,null,null,null,null,null,null,null,null,null,null,null,null,null,null,null,null,{"$f":"Table1[[#This Row],[strike]]","v":0},0,0,0,0,0,0,0,0,0]
[null,null,null,null,null,null,null,null,null,null,null,null,null,null,null,null,null,null,null,null,null,null,null,null,null,null,null,null,null,null,null,null,null,null,null,null,null,null,null,{"$f":"Table1[[#This Row],[strike]]","v":0},0,0,0,0,0,0,0,0,0]
[null,null,null,null,null,null,null,null,null,null,null,null,null,null,null,null,null,null,null,null,null,null,null,null,null,null,null,null,null,null,null,null,null,null,null,null,null,null,null,{"$f":"Table1[[#This Row],[strike]]","v":0},0,0,0,0,0,0,0,0,0]
[null,null,null,null,null,null,null,null,null,null,null,null,null,null,null,null,null,null,null,null,null,null,null,null,null,null,null,null,null,null,null,null,null,null,null,null,null,null,null,{"$f":"Table1[[#This Row],[strike]]","v":0},0,0,0,0,0,0,0,0,0]
[null,null,null,null,null,null,null,null,null,null,null,null,null,null,null,null,null,null,null,null,null,null,null,null,null,null,null,null,null,null,null,null,null,null,null,null,null,null,null,{"$f":"Table1[[#This Row],[strike]]","v":0},0,0,0,0,0,0,0,0,0]
[null,null,null,null,null,null,null,null,null,null,null,null,null,null,null,null,null,null,null,null,null,null,null,null,null,null,null,null,null,null,null,null,null,null,null,null,null,null,null,{"$f":"Table1[[#This Row],[strike]]","v":0},0,0,0,0,0,0,0,0,0]
[null,null,null,null,null,null,null,null,null,null,null,null,null,null,null,null,null,null,null,null,null,null,null,null,null,null,null,null,null,null,null,null,null,null,null,null,null,null,null,{"$f":"Table1[[#This Row],[strike]]","v":0},0,0,0,0,0,0,0,0,0]
[null,null,null,null,null,null,null,null,null,null,null,null,null,null,null,null,null,null,null,null,null,null,null,null,null,null,null,null,null,null,null,null,null,null,null,null,null,null,null,{"$f":"Table1[[#This Row],[strike]]","v":0},0,0,0,0,0,0,0,0,0]
[null,null,null,null,null,null,null,null,null,null,null,null,null,null,null,null,null,null,null,null,null,null,null,null,null,null,null,null,null,null,null,null,null,null,null,null,null,null,null,{"$f":"Table1[[#This Row],[strike]]","v":0},0,0,0,0,0,0,0,0,0]
[null,null,null,null,null,null,null,null,null,null,null,null,null,null,null,null,null,null,null,null,null,null,null,null,null,null,null,null,null,null,null,null,null,null,null,null,null,null,null,{"$f":"Table1[[#This Row],[strike]]","v":0},0,0,0,0,0,0,0,0,0]
[null,null,null,null,null,null,null,null,null,null,null,null,null,null,null,null,null,null,null,null,null,null,null,null,null,null,null,null,null,null,null,null,null,null,null,null,null,null,null,{"$f":"Table1[[#This Row],[strike]]","v":0},0,0,0,0,0,0,0,0,0]
[null,null,null,null,null,null,null,null,null,null,null,null,null,null,null,null,null,null,null,null,null,null,null,null,null,null,null,null,null,null,null,null,null,null,null,null,null,null,null,{"$f":"Table1[[#This Row],[strike]]","v":0},0,0,0,0,0,0,0,0,0]
[null,null,null,null,null,null,null,null,null,null,null,null,null,null,null,null,null,null,null,null,null,null,null,null,null,null,null,null,null,null,null,null,null,null,null,null,null,null,null,{"$f":"Table1[[#This Row],[strike]]","v":0},0,0,0,0,0,0,0,0,0]
[null,null,null,null,null,null,null,null,null,null,null,null,null,null,null,null,null,null,null,null,null,null,null,null,null,null,null,null,null,null,null,null,null,null,null,null,null,null,null,{"$f":"Table1[[#This Row],[strike]]","v":0},0,0,0,0,0,0,0,0,0]
[null,null,null,null,null,null,null,null,null,null,null,null,null,null,null,null,null,null,null,null,null,null,null,null,null,null,null,null,null,null,null,null,null,null,null,null,null,null,null,{"$f":"Table1[[#This Row],[strike]]","v":0},0,0,0,0,0,0,0,0,0]
[null,null,null,null,null,null,null,null,null,null,null,null,null,null,null,null,null,null,null,null,null,null,null,null,null,null,null,null,null,null,null,null,null,null,null,null,null,null,null,{"$f":"Table1[[#This Row],[strike]]","v":0},0,0,0,0,0,0,0,0,0]
[null,null,null,null,null,null,null,null,null,null,null,null,null,null,null,null,null,null,null,null,null,null,null,null,null,null,null,null,null,null,null,null,null,null,null,null,null,null,null,{"$f":"Table1[[#This Row],[strike]]","v":0},0,0,0,0,0,0,0,0,0]
[null,null,null,null,null,null,null,null,null,null,null,null,null,null,null,null,null,null,null,null,null,null,null,null,null,null,null,null,null,null,null,null,null,null,null,null,null,null,null,{"$f":"Table1[[#This Row],[strike]]","v":0},0,0,0,0,0,0,0,0,0]
[null,null,null,null,null,null,null,null,null,null,null,null,null,null,null,null,null,null,null,null,null,null,null,null,null,null,null,null,null,null,null,null,null,null,null,null,null,null,null,{"$f":"Table1[[#This Row],[strike]]","v":0},0,0,0,0,0,0,0,0,0]
[null,null,null,null,null,null,null,null,null,null,null,null,null,null,null,null,null,null,null,null,null,null,null,null,null,null,null,null,null,null,null,null,null,null,null,null,null,null,null,{"$f":"Table1[[#This Row],[strike]]","v":0},0,0,0,0,0,0,0,0,0]
[null,null,null,null,null,null,null,null,null,null,null,null,null,null,null,null,null,null,null,null,null,null,null,null,null,null,null,null,null,null,null,null,null,null,null,null,null,null,null,{"$f":"Table1[[#This Row],[strike]]","v":0},0,0,0,0,0,0,0,0,0]
[null,null,null,null,null,null,null,null,null,null,null,null,null,null,null,null,null,null,null,null,null,null,null,null,null,null,null,null,null,null,null,null,null,null,null,null,null,null,null,{"$f":"Table1[[#This Row],[strike]]","v":0},0,0,0,0,0,0,0,0,0]
[null,null,null,null,null,null,null,null,null,null,null,null,null,null,null,null,null,null,null,null,null,null,null,null,null,null,null,null,null,null,null,null,null,null,null,null,null,null,null,{"$f":"Table1[[#This Row],[strike]]","v":0},0,0,0,0,0,0,0,0,0]
[null,null,null,null,null,null,null,null,null,null,null,null,null,null,null,null,null,null,null,null,null,null,null,null,null,null,null,null,null,null,null,null,null,null,null,null,null,null,null,{"$f":"Table1[[#This Row],[strike]]","v":0},0,0,0,0,0,0,0,0,0]
[null,null,null,null,null,null,null,null,null,null,null,null,null,null,null,null,null,null,null,null,null,null,null,null,null,null,null,null,null,null,null,null,null,null,null,null,null,null,null,{"$f":"Table1[[#This Row],[strike]]","v":0},0,0,0,0,0,0,0,0,0]
[null,null,null,null,null,null,null,null,null,null,null,null,null,null,null,null,null,null,null,null,null,null,null,null,null,null,null,null,null,null,null,null,null,null,null,null,null,null,null,{"$f":"Table1[[#This Row],[strike]]","v":0},0,0,0,0,0,0,0,0,0]
[null,null,null,null,null,null,null,null,null,null,null,null,null,null,null,null,null,null,null,null,null,null,null,null,null,null,null,null,null,null,null,null,null,null,null,null,null,null,null,{"$f":"Table1[[#This Row],[strike]]","v":0},0,0,0,0,0,0,0,0,0]
[null,null,null,null,null,null,null,null,null,null,null,null,null,null,null,null,null,null,null,null,null,null,null,null,null,null,null,null,null,null,null,null,null,null,null,null,null,null,null,{"$f":"Table1[[#This Row],[strike]]","v":0},0,0,0,0,0,0,0,0,0]
[null,null,null,null,null,null,null,null,null,null,null,null,null,null,null,null,null,null,null,null,null,null,null,null,null,null,null,null,null,null,null,null,null,null,null,null,null,null,null,{"$f":"Table1[[#This Row],[strike]]","v":0},0,0,0,0,0,0,0,0,0]
[null,null,null,null,null,null,null,null,null,null,null,null,null,null,null,null,null,null,null,null,null,null,null,null,null,null,null,null,null,null,null,null,null,null,null,null,null,null,null,{"$f":"Table1[[#This Row],[strike]]","v":0},0,0,0,0,0,0,0,0,0]
[null,null,null,null,null,null,null,null,null,null,null,null,null,null,null,null,null,null,null,null,null,null,null,null,null,null,null,null,null,null,null,null,null,null,null,null,null,null,null,{"$f":"Table1[[#This Row],[strike]]","v":0},0,0,0,0,0,0,0,0,0]
[null,null,null,null,null,null,null,null,null,null,null,null,null,null,null,null,null,null,null,null,null,null,null,null,null,null,null,null,null,null,null,null,null,null,null,null,null,null,null,{"$f":"Table1[[#This Row],[strike]]","v":0},0,0,0,0,0,0,0,0,0]
[null,null,null,null,null,null,null,null,null,null,null,null,null,null,null,null,null,null,null,null,null,null,null,null,null,null,null,null,null,null,null,null,null,null,null,null,null,null,null,{"$f":"Table1[[#This Row],[strike]]","v":0},0,0,0,0,0,0,0,0,0]
[null,null,null,null,null,null,null,null,null,null,null,null,null,null,null,null,null,null,null,null,null,null,null,null,null,null,null,null,null,null,null,null,null,null,null,null,null,null,null,{"$f":"Table1[[#This Row],[strike]]","v":0},0,0,0,0,0,0,0,0,0]
[null,null,null,null,null,null,null,null,null,null,null,null,null,null,null,null,null,null,null,null,null,null,null,null,null,null,null,null,null,null,null,null,null,null,null,null,null,null,null,{"$f":"Table1[[#This Row],[strike]]","v":0},0,0,0,0,0,0,0,0,0]
[null,null,null,null,null,null,null,null,null,null,null,null,null,null,null,null,null,null,null,null,null,null,null,null,null,null,null,null,null,null,null,null,null,null,null,null,null,null,null,{"$f":"Table1[[#This Row],[strike]]","v":0},0,0,0,0,0,0,0,0,0]
[null,null,null,null,null,null,null,null,null,null,null,null,null,null,null,null,null,null,null,null,null,null,null,null,null,null,null,null,null,null,null,null,null,null,null,null,null,null,null,{"$f":"Table1[[#This Row],[strike]]","v":0},0,0,0,0,0,0,0,0,0]
[null,null,null,null,null,null,null,null,null,null,null,null,null,null,null,null,null,null,null,null,null,null,null,null,null,null,null,null,null,null,null,null,null,null,null,null,null,null,null,{"$f":"Table1[[#This Row],[strike]]","v":0},{"$f":"IF(AO$20=\"n/a\",0,IF(AO$20=\"Buy\",AN2905*Q$11,AN2905*-Q$11))","v":0},0,0,0,0,0,0,0,{"$f":"AV2905+R$18","v":0}]
[null,null,null,null,null,null,null,null,null,null,null,null,null,null,null,null,null,null,null,null,null,null,null,null,null,null,null,null,null,null,null,null,null,null,null,null,null,null,null,{"$f":"Table1[[#This Row],[strike]]","v":0},0,0,0,0,0,0,0,0,0]
[null,null,null,null,null,null,null,null,null,null,null,null,null,null,null,null,null,null,null,null,null,null,null,null,null,null,null,null,null,null,null,null,null,null,null,null,null,null,null,{"$f":"Table1[[#This Row],[strike]]","v":0},0,0,0,0,{"$f":"IF(AS$20=\"n/a\",0,IF(AS$20=\"Buy\",MAX(0,$AN2918-AS$21),MIN(0,AS$21-$AN2918)))*AS$22","v":0},0,0,0,0]
[null,null,null,null,null,null,null,null,null,null,null,null,null,null,null,null,null,null,null,null,null,null,null,null,null,null,null,null,null,null,null,null,null,null,null,null,null,null,null,{"$f":"Table1[[#This Row],[strike]]","v":0},0,0,0,0,0,0,0,0,0]
[null,null,null,null,null,null,null,null,null,null,null,null,null,null,null,null,null,null,null,null,null,null,null,null,null,null,null,null,null,null,null,null,null,null,null,null,null,null,null,{"$f":"Table1[[#This Row],[strike]]","v":0},0,0,0,0,0,0,0,0,0]
[null,null,null,null,null,null,null,null,null,null,null,null,null,null,null,null,null,null,null,null,null,null,null,null,null,null,null,null,null,null,null,null,null,null,null,null,null,null,null,{"$f":"Table1[[#This Row],[strike]]","v":0},0,0,0,0,0,0,0,0,0]
[null,null,null,null,null,null,null,null,null,null,null,null,null,null,null,null,null,null,null,null,null,null,null,null,null,null,null,null,null,null,null,null,null,null,null,null,null,null,null,{"$f":"Table1[[#This Row],[strike]]","v":0},0,0,0,0,0,0,0,0,0]
[null,null,null,null,null,null,null,null,null,null,null,null,null,null,null,null,null,null,null,null,null,null,null,null,null,null,null,null,null,null,null,null,null,null,null,null,null,null,null,{"$f":"Table1[[#This Row],[strike]]","v":0},0,0,0,0,0,0,0,0,0]
[null,null,null,null,null,null,null,null,null,null,null,null,null,null,null,null,null,null,null,null,null,null,null,null,null,null,null,null,null,null,null,null,null,null,null,null,null,null,null,{"$f":"Table1[[#This Row],[strike]]","v":0},0,0,0,0,0,0,0,0,0]
[null,null,null,null,null,null,null,null,null,null,null,null,null,null,null,null,null,null,null,null,null,null,null,null,null,null,null,null,null,null,null,null,null,null,null,null,null,null,null,{"$f":"Table1[[#This Row],[strike]]","v":0},0,0,0,0,0,0,0,0,0]
[null,null,null,null,null,null,null,null,null,null,null,null,null,null,null,null,null,null,null,null,null,null,null,null,null,null,null,null,null,null,null,null,null,null,null,null,null,null,null,{"$f":"Table1[[#This Row],[strike]]","v":0},0,0,0,0,0,0,0,0,0]
[null,null,null,null,null,null,null,null,null,null,null,null,null,null,null,null,null,null,null,null,null,null,null,null,null,null,null,null,null,null,null,null,null,null,null,null,null,null,null,{"$f":"Table1[[#This Row],[strike]]","v":0},0,0,0,0,0,0,0,0,0]
[null,null,null,null,null,null,null,null,null,null,null,null,null,null,null,null,null,null,null,null,null,null,null,null,null,null,null,null,null,null,null,null,null,null,null,null,null,null,null,{"$f":"Table1[[#This Row],[strike]]","v":0},0,0,0,0,0,0,0,0,0]
[null,null,null,null,null,null,null,null,null,null,null,null,null,null,null,null,null,null,null,null,null,null,null,null,null,null,null,null,null,null,null,null,null,null,null,null,null,null,null,{"$f":"Table1[[#This Row],[strike]]","v":0},0,0,0,0,0,0,0,0,0]
[null,null,null,null,null,null,null,null,null,null,null,null,null,null,null,null,null,null,null,null,null,null,null,null,null,null,null,null,null,null,null,null,null,null,null,null,null,null,null,{"$f":"Table1[[#This Row],[strike]]","v":0},0,0,0,0,0,0,0,0,0]
[null,null,null,null,null,null,null,null,null,null,null,null,null,null,null,null,null,null,null,null,null,null,null,null,null,null,null,null,null,null,null,null,null,null,null,null,null,null,null,{"$f":"Table1[[#This Row],[strike]]","v":0},0,0,0,0,0,0,0,0,0]
[null,null,null,null,null,null,null,null,null,null,null,null,null,null,null,null,null,null,null,null,null,null,null,null,null,null,null,null,null,null,null,null,null,null,null,null,null,null,null,{"$f":"Table1[[#This Row],[strike]]","v":0},0,0,0,0,0,0,0,0,0]
[null,null,null,null,null,null,null,null,null,null,null,null,null,null,null,null,null,null,null,null,null,null,null,null,null,null,null,null,null,null,null,null,null,null,null,null,null,null,null,{"$f":"Table1[[#This Row],[strike]]","v":0},0,0,0,0,{"$f":"IF(AS$20=\"n/a\",0,IF(AS$20=\"Buy\",MAX(0,$AN3003-AS$21),MIN(0,AS$21-$AN3003)))*AS$22","v":0},0,0,0,0]
[null,null,null,null,null,null,null,null,null,null,null,null,null,null,null,null,null,null,null,null,null,null,null,null,null,null,null,null,null,null,null,null,null,null,null,null,null,null,null,{"$f":"Table1[[#This Row],[strike]]","v":0},0,0,0,0,0,0,0,0,0]
[null,null,null,null,null,null,null,null,null,null,null,null,null,null,null,null,null,null,null,null,null,null,null,null,null,null,null,null,null,null,null,null,null,null,null,null,null,null,null,{"$f":"Table1[[#This Row],[strike]]","v":0},0,0,0,0,0,0,0,0,0]
[null,null,null,null,null,null,null,null,null,null,null,null,null,null,null,null,null,null,null,null,null,null,null,null,null,null,null,null,null,null,null,null,null,null,null,null,null,null,null,{"$f":"Table1[[#This Row],[strike]]","v":0},0,0,0,0,0,0,0,0,0]
[null,null,null,null,null,null,null,null,null,null,null,null,null,null,null,null,null,null,null,null,null,null,null,null,null,null,null,null,null,null,null,null,null,null,null,null,null,null,null,{"$f":"Table1[[#This Row],[strike]]","v":0},0,0,0,0,0,0,0,0,0]
[null,null,null,null,null,null,null,null,null,null,null,null,null,null,null,null,null,null,null,null,null,null,null,null,null,null,null,null,null,null,null,null,null,null,null,null,null,null,null,{"$f":"Table1[[#This Row],[strike]]","v":0},0,0,0,0,0,0,0,0,0]
[null,null,null,null,null,null,null,null,null,null,null,null,null,null,null,null,null,null,null,null,null,null,null,null,null,null,null,null,null,null,null,null,null,null,null,null,null,null,null,{"$f":"Table1[[#This Row],[strike]]","v":0},0,0,0,0,0,0,0,0,0]
[null,null,null,null,null,null,null,null,null,null,null,null,null,null,null,null,null,null,null,null,null,null,null,null,null,null,null,null,null,null,null,null,null,null,null,null,null,null,null,{"$f":"Table1[[#This Row],[strike]]","v":0},0,{"$f":"IF(AP$20=\"n/a\",0,IF(AP$20=\"Buy\",MAX(0,$AN3046-AP$21),MIN(0,AP$21-$AN3046)))*AP$22","v":0},0,0,0,0,0,0,0]
[null,null,null,null,null,null,null,null,null,null,null,null,null,null,null,null,null,null,null,null,null,null,null,null,null,null,null,null,null,null,null,null,null,null,null,null,null,null,null,{"$f":"Table1[[#This Row],[strike]]","v":0},0,0,0,0,0,0,0,0,0]
[null,null,null,null,null,null,null,null,null,null,null,null,null,null,null,null,null,null,null,null,null,null,null,null,null,null,null,null,null,null,null,null,null,null,null,null,null,null,null,{"$f":"Table1[[#This Row],[strike]]","v":0},0,0,0,0,0,0,0,0,0]
[null,null,null,null,null,null,null,null,null,null,null,null,null,null,null,null,null,null,null,null,null,null,null,null,null,null,null,null,null,null,null,null,null,null,null,null,null,null,null,{"$f":"Table1[[#This Row],[strike]]","v":0},0,0,0,0,0,0,0,0,0]
[null,null,null,null,null,null,null,null,null,null,null,null,null,null,null,null,null,null,null,null,null,null,null,null,null,null,null,null,null,null,null,null,null,null,null,null,null,null,null,{"$f":"Table1[[#This Row],[strike]]","v":0},0,0,0,0,0,0,0,0,0]
[null,null,null,null,null,null,null,null,null,null,null,null,null,null,null,null,null,null,null,null,null,null,null,null,null,null,null,null,null,null,null,null,null,null,null,null,null,null,null,{"$f":"Table1[[#This Row],[strike]]","v":0},0,0,0,0,0,0,0,0,0]
[null,null,null,null,null,null,null,null,null,null,null,null,null,null,null,null,null,null,null,null,null,null,null,null,null,null,null,null,null,null,null,null,null,null,null,null,null,null,null,{"$f":"Table1[[#This Row],[strike]]","v":0},0,0,0,0,0,0,0,0,0]
[null,null,null,null,null,null,null,null,null,null,null,null,null,null,null,null,null,null,null,null,null,null,null,null,null,null,null,null,null,null,null,null,null,null,null,null,null,null,null,{"$f":"Table1[[#This Row],[strike]]","v":0},0,0,0,0,0,0,0,0,0]
[null,null,null,null,null,null,null,null,null,null,null,null,null,null,null,null,null,null,null,null,null,null,null,null,null,null,null,null,null,null,null,null,null,null,null,null,null,null,null,{"$f":"Table1[[#This Row],[strike]]","v":0},0,0,0,0,0,0,0,0,0]
[null,null,null,null,null,null,null,null,null,null,null,null,null,null,null,null,null,null,null,null,null,null,null,null,null,null,null,null,null,null,null,null,null,null,null,null,null,null,null,{"$f":"Table1[[#This Row],[strike]]","v":0},{"$f":"IF(AO$20=\"n/a\",0,IF(AO$20=\"Buy\",AN3097*Q$11,AN3097*-Q$11))","v":0},0,0,0,0,0,0,0,{"$f":"AV3097+R$18","v":0}]
[null,null,null,null,null,null,null,null,null,null,null,null,null,null,null,null,null,null,null,null,null,null,null,null,null,null,null,null,null,null,null,null,null,null,null,null,null,null,null,{"$f":"Table1[[#This Row],[strike]]","v":0},0,0,0,0,0,0,0,0,0]
[null,null,null,null,null,null,null,null,null,null,null,null,null,null,null,null,null,null,null,null,null,null,null,null,null,null,null,null,null,null,null,null,null,null,null,null,null,null,null,{"$f":"Table1[[#This Row],[strike]]","v":0},0,0,0,0,0,0,0,0,0]
[null,null,null,null,null,null,null,null,null,null,null,null,null,null,null,null,null,null,null,null,null,null,null,null,null,null,null,null,null,null,null,null,null,null,null,null,null,null,null,{"$f":"Table1[[#This Row],[strike]]","v":0},0,0,0,0,0,0,0,0,0]
[null,null,null,null,null,null,null,null,null,null,null,null,null,null,null,null,null,null,null,null,null,null,null,null,null,null,null,null,null,null,null,null,null,null,null,null,null,null,null,{"$f":"Table1[[#This Row],[strike]]","v":0},0,0,0,0,0,0,0,0,0]
[null,null,null,null,null,null,null,null,null,null,null,null,null,null,null,null,null,null,null,null,null,null,null,null,null,null,null,null,null,null,null,null,null,null,null,null,null,null,null,{"$f":"Table1[[#This Row],[strike]]","v":0},0,0,0,0,0,0,0,0,0]
[null,null,null,null,null,null,null,null,null,null,null,null,null,null,null,null,null,null,null,null,null,null,null,null,null,null,null,null,null,null,null,null,null,null,null,null,null,null,null,{"$f":"Table1[[#This Row],[strike]]","v":0},0,0,0,0,0,0,0,0,0]
[null,null,null,null,null,null,null,null,null,null,null,null,null,null,null,null,null,null,null,null,null,null,null,null,null,null,null,null,null,null,null,null,null,null,null,null,null,null,null,{"$f":"Table1[[#This Row],[strike]]","v":0},0,0,0,0,0,0,0,0,0]
[null,null,null,null,null,null,null,null,null,null,null,null,null,null,null,null,null,null,null,null,null,null,null,null,null,null,null,null,null,null,null,null,null,null,null,null,null,null,null,{"$f":"Table1[[#This Row],[strike]]","v":0},0,0,0,0,0,0,0,0,0]
[null,null,null,null,null,null,null,null,null,null,null,null,null,null,null,null,null,null,null,null,null,null,null,null,null,null,null,null,null,null,null,null,null,null,null,null,null,null,null,{"$f":"Table1[[#This Row],[strike]]","v":0},0,0,0,0,0,0,0,0,0]
[null,null,null,null,null,null,null,null,null,null,null,null,null,null,null,null,null,null,null,null,null,null,null,null,null,null,null,null,null,null,null,null,null,null,null,null,null,null,null,{"$f":"Table1[[#This Row],[strike]]","v":0},0,0,0,0,0,0,0,0,0]
[null,null,null,null,null,null,null,null,null,null,null,null,null,null,null,null,null,null,null,null,null,null,null,null,null,null,null,null,null,null,null,null,null,null,null,null,null,null,null,{"$f":"Table1[[#This Row],[strike]]","v":0},0,0,0,0,0,0,0,0,0]
[null,null,null,null,null,null,null,null,null,null,null,null,null,null,null,null,null,null,null,null,null,null,null,null,null,null,null,null,null,null,null,null,null,null,null,null,null,null,null,{"$f":"Table1[[#This Row],[strike]]","v":0},0,0,0,0,0,0,0,0,0]
[null,null,null,null,null,null,null,null,null,null,null,null,null,null,null,null,null,null,null,null,null,null,null,null,null,null,null,null,null,null,null,null,null,null,null,null,null,null,null,{"$f":"Table1[[#This Row],[strike]]","v":0},0,0,0,0,0,0,0,0,0]
[null,null,null,null,null,null,null,null,null,null,null,null,null,null,null,null,null,null,null,null,null,null,null,null,null,null,null,null,null,null,null,null,null,null,null,null,null,null,null,{"$f":"Table1[[#This Row],[strike]]","v":0},0,0,0,0,0,0,0,0,0]
[null,null,null,null,null,null,null,null,null,null,null,null,null,null,null,null,null,null,null,null,null,null,null,null,null,null,null,null,null,null,null,null,null,null,null,null,null,null,null,{"$f":"Table1[[#This Row],[strike]]","v":0},0,0,0,0,0,0,0,0,0]
[null,null,null,null,null,null,null,null,null,null,null,null,null,null,null,null,null,null,null,null,null,null,null,null,null,null,null,null,null,null,null,null,null,null,null,null,null,null,null,{"$f":"Table1[[#This Row],[strike]]","v":0},0,0,0,0,0,0,0,0,0]
[null,null,null,null,null,null,null,null,null,null,null,null,null,null,null,null,null,null,null,null,null,null,null,null,null,null,null,null,null,null,null,null,null,null,null,null,null,null,null,{"$f":"Table1[[#This Row],[strike]]","v":0},0,0,0,0,0,0,0,0,0]
[null,null,null,null,null,null,null,null,null,null,null,null,null,null,null,null,null,null,null,null,null,null,null,null,null,null,null,null,null,null,null,null,null,null,null,null,null,null,null,{"$f":"Table1[[#This Row],[strike]]","v":0},0,0,0,0,0,0,0,0,0]
[null,null,null,null,null,null,null,null,null,null,null,null,null,null,null,null,null,null,null,null,null,null,null,null,null,null,null,null,null,null,null,null,null,null,null,null,null,null,null,{"$f":"Table1[[#This Row],[strike]]","v":0},0,0,0,0,0,0,0,0,0]
[null,null,null,null,null,null,null,null,null,null,null,null,null,null,null,null,null,null,null,null,null,null,null,null,null,null,null,null,null,null,null,null,null,null,null,null,null,null,null,{"$f":"Table1[[#This Row],[strike]]","v":0},0,0,0,0,0,0,0,0,0]
[null,null,null,null,null,null,null,null,null,null,null,null,null,null,null,null,null,null,null,null,null,null,null,null,null,null,null,null,null,null,null,null,null,null,null,null,null,null,null,{"$f":"Table1[[#This Row],[strike]]","v":0},0,0,0,0,0,0,0,0,0]
[null,null,null,null,null,null,null,null,null,null,null,null,null,null,null,null,null,null,null,null,null,null,null,null,null,null,null,null,null,null,null,null,null,null,null,null,null,null,null,{"$f":"Table1[[#This Row],[strike]]","v":0},0,0,0,0,0,0,0,0,0]
[null,null,null,null,null,null,null,null,null,null,null,null,null,null,null,null,null,null,null,null,null,null,null,null,null,null,null,null,null,null,null,null,null,null,null,null,null,null,null,{"$f":"Table1[[#This Row],[strike]]","v":0},0,0,0,0,0,0,0,0,0]
[null,null,null,null,null,null,null,null,null,null,null,null,null,null,null,null,null,null,null,null,null,null,null,null,null,null,null,null,null,null,null,null,null,null,null,null,null,null,null,{"$f":"Table1[[#This Row],[strike]]","v":0},0,0,0,0,0,0,0,0,0]
[null,null,null,null,null,null,null,null,null,null,null,null,null,null,null,null,null,null,null,null,null,null,null,null,null,null,null,null,null,null,null,null,null,null,null,null,null,null,null,{"$f":"Table1[[#This Row],[strike]]","v":0},0,0,0,0,0,0,0,{"$f":"_xlfn.AGGREGATE(9,6,AO3239:AU3239)","v":0},0]
[null,null,null,null,null,null,null,null,null,null,null,null,null,null,null,null,null,null,null,null,null,null,null,null,null,null,null,null,null,null,null,null,null,null,null,null,null,null,null,{"$f":"Table1[[#This Row],[strike]]","v":0},0,0,0,0,0,0,0,0,0]
[null,null,null,null,null,null,null,null,null,null,null,null,null,null,null,null,null,null,null,null,null,null,null,null,null,null,null,null,null,null,null,null,null,null,null,null,null,null,null,{"$f":"Table1[[#This Row],[strike]]","v":0},0,0,0,0,0,0,0,0,0]
[null,null,null,null,null,null,null,null,null,null,null,null,null,null,null,null,null,null,null,null,null,null,null,null,null,null,null,null,null,null,null,null,null,null,null,null,null,null,null,{"$f":"Table1[[#This Row],[strike]]","v":0},0,0,0,0,0,0,0,0,0]
[null,null,null,null,null,null,null,null,null,null,null,null,null,null,null,null,null,null,null,null,null,null,null,null,null,null,null,null,null,null,null,null,null,null,null,null,null,null,null,{"$f":"Table1[[#This Row],[strike]]","v":0},0,0,0,0,0,0,0,0,0]
[null,null,null,null,null,null,null,null,null,null,null,null,null,null,null,null,null,null,null,null,null,null,null,null,null,null,null,null,null,null,null,null,null,null,null,null,null,null,null,{"$f":"Table1[[#This Row],[strike]]","v":0},0,0,0,0,0,0,0,0,0]
[null,null,null,null,null,null,null,null,null,null,null,null,null,null,null,null,null,null,null,null,null,null,null,null,null,null,null,null,null,null,null,null,null,null,null,null,null,null,null,{"$f":"Table1[[#This Row],[strike]]","v":0},0,0,0,0,0,0,0,0,0]
[null,null,null,null,null,null,null,null,null,null,null,null,null,null,null,null,null,null,null,null,null,null,null,null,null,null,null,null,null,null,null,null,null,null,null,null,null,null,null,{"$f":"Table1[[#This Row],[strike]]","v":0},0,0,0,0,0,0,0,0,0]
[null,null,null,null,null,null,null,null,null,null,null,null,null,null,null,null,null,null,null,null,null,null,null,null,null,null,null,null,null,null,null,null,null,null,null,null,null,null,null,{"$f":"Table1[[#This Row],[strike]]","v":0},0,0,0,0,0,0,0,0,0]
[null,null,null,null,null,null,null,null,null,null,null,null,null,null,null,null,null,null,null,null,null,null,null,null,null,null,null,null,null,null,null,null,null,null,null,null,null,null,null,{"$f":"Table1[[#This Row],[strike]]","v":0},0,0,0,0,0,0,0,0,0]
[null,null,null,null,null,null,null,null,null,null,null,null,null,null,null,null,null,null,null,null,null,null,null,null,null,null,null,null,null,null,null,null,null,null,null,null,null,null,null,{"$f":"Table1[[#This Row],[strike]]","v":0},0,0,0,0,0,0,0,0,0]
[null,null,null,null,null,null,null,null,null,null,null,null,null,null,null,null,null,null,null,null,null,null,null,null,null,null,null,null,null,null,null,null,null,null,null,null,null,null,null,{"$f":"Table1[[#This Row],[strike]]","v":0},0,{"$f":"IF(AP$20=\"n/a\",0,IF(AP$20=\"Buy\",MAX(0,$AN3301-AP$21),MIN(0,AP$21-$AN3301)))*AP$22","v":0},0,0,0,0,0,0,0]
[null,null,null,null,null,null,null,null,null,null,null,null,null,null,null,null,null,null,null,null,null,null,null,null,null,null,null,null,null,null,null,null,null,null,null,null,null,null,null,{"$f":"Table1[[#This Row],[strike]]","v":0},0,0,0,0,0,0,0,0,0]
[null,null,null,null,null,null,null,null,null,null,null,null,null,null,null,null,null,null,null,null,null,null,null,null,null,null,null,null,null,null,null,null,null,null,null,null,null,null,null,{"$f":"Table1[[#This Row],[strike]]","v":0},0,0,0,0,0,0,0,0,0]
[null,null,null,null,null,null,null,null,null,null,null,null,null,null,null,null,null,null,null,null,null,null,null,null,null,null,null,null,null,null,null,null,null,null,null,null,null,null,null,{"$f":"Table1[[#This Row],[strike]]","v":0},0,0,0,0,0,0,0,0,0]
[null,null,null,null,null,null,null,null,null,null,null,null,null,null,null,null,null,null,null,null,null,null,null,null,null,null,null,null,null,null,null,null,null,null,null,null,null,null,null,{"$f":"Table1[[#This Row],[strike]]","v":0},0,0,0,0,0,0,0,0,0]
[null,null,null,null,null,null,null,null,null,null,null,null,null,null,null,null,null,null,null,null,null,null,null,null,null,null,null,null,null,null,null,null,null,null,null,null,null,null,null,{"$f":"Table1[[#This Row],[strike]]","v":0},0,0,0,0,0,0,0,0,0]
[null,null,null,null,null,null,null,null,null,null,null,null,null,null,null,null,null,null,null,null,null,null,null,null,null,null,null,null,null,null,null,null,null,null,null,null,null,null,null,{"$f":"Table1[[#This Row],[strike]]","v":0},0,0,0,0,0,0,0,0,0]
[null,null,null,null,null,null,null,null,null,null,null,null,null,null,null,null,null,null,null,null,null,null,null,null,null,null,null,null,null,null,null,null,null,null,null,null,null,null,null,{"$f":"Table1[[#This Row],[strike]]","v":0},0,0,0,0,0,0,0,0,0]
[null,null,null,null,null,null,null,null,null,null,null,null,null,null,null,null,null,null,null,null,null,null,null,null,null,null,null,null,null,null,null,null,null,null,null,null,null,null,null,{"$f":"Table1[[#This Row],[strike]]","v":0},0,0,0,0,0,0,0,0,0]
[null,null,null,null,null,null,null,null,null,null,null,null,null,null,null,null,null,null,null,null,null,null,null,null,null,null,null,null,null,null,null,null,null,null,null,null,null,null,null,{"$f":"Table1[[#This Row],[strike]]","v":0},0,0,0,0,0,0,0,0,0]
[null,null,null,null,null,null,null,null,null,null,null,null,null,null,null,null,null,null,null,null,null,null,null,null,null,null,null,null,null,null,null,null,null,null,null,null,null,null,null,{"$f":"Table1[[#This Row],[strike]]","v":0},0,0,0,0,0,0,0,0,0]
[null,null,null,null,null,null,null,null,null,null,null,null,null,null,null,null,null,null,null,null,null,null,null,null,null,null,null,null,null,null,null,null,null,null,null,null,null,null,null,{"$f":"Table1[[#This Row],[strike]]","v":0},0,0,0,0,0,0,0,0,0]
[null,null,null,null,null,null,null,null,null,null,null,null,null,null,null,null,null,null,null,null,null,null,null,null,null,null,null,null,null,null,null,null,null,null,null,null,null,null,null,{"$f":"Table1[[#This Row],[strike]]","v":0},0,0,0,0,0,0,0,0,0]
[null,null,null,null,null,null,null,null,null,null,null,null,null,null,null,null,null,null,null,null,null,null,null,null,null,null,null,null,null,null,null,null,null,null,null,null,null,null,null,{"$f":"Table1[[#This Row],[strike]]","v":0},0,0,0,0,0,0,0,0,0]
[null,null,null,null,null,null,null,null,null,null,null,null,null,null,null,null,null,null,null,null,null,null,null,null,null,null,null,null,null,null,null,null,null,null,null,null,null,null,null,{"$f":"Table1[[#This Row],[strike]]","v":0},0,0,0,0,0,0,0,0,0]
[null,null,null,null,null,null,null,null,null,null,null,null,null,null,null,null,null,null,null,null,null,null,null,null,null,null,null,null,null,null,null,null,null,null,null,null,null,null,null,{"$f":"Table1[[#This Row],[strike]]","v":0},0,0,0,0,0,0,0,0,0]
[null,null,null,null,null,null,null,null,null,null,null,null,null,null,null,null,null,null,null,null,null,null,null,null,null,null,null,null,null,null,null,null,null,null,null,null,null,null,null,{"$f":"Table1[[#This Row],[strike]]","v":0},0,0,0,0,0,0,0,{"$f":"_xlfn.AGGREGATE(9,6,AO3367:AU3367)","v":0},0]
[null,null,null,null,null,null,null,null,null,null,null,null,null,null,null,null,null,null,null,null,null,null,null,null,null,null,null,null,null,null,null,null,null,null,null,null,null,null,null,{"$f":"Table1[[#This Row],[strike]]","v":0},0,0,0,0,0,0,0,0,0]
[null,null,null,null,null,null,null,null,null,null,null,null,null,null,null,null,null,null,null,null,null,null,null,null,null,null,null,null,null,null,null,null,null,null,null,null,null,null,null,{"$f":"Table1[[#This Row],[strike]]","v":0},0,0,0,0,0,0,0,0,0]
[null,null,null,null,null,null,null,null,null,null,null,null,null,null,null,null,null,null,null,null,null,null,null,null,null,null,null,null,null,null,null,null,null,null,null,null,null,null,null,{"$f":"Table1[[#This Row],[strike]]","v":0},0,0,0,0,0,0,0,0,0]
[null,null,null,null,null,null,null,null,null,null,null,null,null,null,null,null,null,null,null,null,null,null,null,null,null,null,null,null,null,null,null,null,null,null,null,null,null,null,null,{"$f":"Table1[[#This Row],[strike]]","v":0},0,0,0,0,0,0,0,0,0]
[null,null,null,null,null,null,null,null,null,null,null,null,null,null,null,null,null,null,null,null,null,null,null,null,null,null,null,null,null,null,null,null,null,null,null,null,null,null,null,{"$f":"Table1[[#This Row],[strike]]","v":0},0,0,0,0,0,0,0,0,0]
[null,null,null,null,null,null,null,null,null,null,null,null,null,null,null,null,null,null,null,null,null,null,null,null,null,null,null,null,null,null,null,null,null,null,null,null,null,null,null,{"$f":"Table1[[#This Row],[strike]]","v":0},0,0,0,0,0,0,0,0,0]
[null,null,null,null,null,null,null,null,null,null,null,null,null,null,null,null,null,null,null,null,null,null,null,null,null,null,null,null,null,null,null,null,null,null,null,null,null,null,null,{"$f":"Table1[[#This Row],[strike]]","v":0},0,0,0,0,0,0,0,0,0]
[null,null,null,null,null,null,null,null,null,null,null,null,null,null,null,null,null,null,null,null,null,null,null,null,null,null,null,null,null,null,null,null,null,null,null,null,null,null,null,{"$f":"Table1[[#This Row],[strike]]","v":0},0,0,0,0,0,0,0,0,0]
[null,null,null,null,null,null,null,null,null,null,null,null,null,null,null,null,null,null,null,null,null,null,null,null,null,null,null,null,null,null,null,null,null,null,null,null,null,null,null,{"$f":"Table1[[#This Row],[strike]]","v":0},0,0,0,0,0,0,0,0,0]
[null,null,null,null,null,null,null,null,null,null,null,null,null,null,null,null,null,null,null,null,null,null,null,null,null,null,null,null,null,null,null,null,null,null,null,null,null,null,null,{"$f":"Table1[[#This Row],[strike]]","v":0},0,0,0,0,0,0,0,0,0]
[null,null,null,null,null,null,null,null,null,null,null,null,null,null,null,null,null,null,null,null,null,null,null,null,null,null,null,null,null,null,null,null,null,null,null,null,null,null,null,{"$f":"Table1[[#This Row],[strike]]","v":0},0,0,0,0,0,0,0,0,0]
[null,null,null,null,null,null,null,null,null,null,null,null,null,null,null,null,null,null,null,null,null,null,null,null,null,null,null,null,null,null,null,null,null,null,null,null,null,null,null,{"$f":"Table1[[#This Row],[strike]]","v":0},0,0,0,0,0,0,0,0,0]
[null,null,null,null,null,null,null,null,null,null,null,null,null,null,null,null,null,null,null,null,null,null,null,null,null,null,null,null,null,null,null,null,null,null,null,null,null,null,null,{"$f":"Table1[[#This Row],[strike]]","v":0},0,0,0,0,0,0,0,0,0]
[null,null,null,null,null,null,null,null,null,null,null,null,null,null,null,null,null,null,null,null,null,null,null,null,null,null,null,null,null,null,null,null,null,null,null,null,null,null,null,{"$f":"Table1[[#This Row],[strike]]","v":0},0,0,0,0,0,0,0,0,0]
[null,null,null,null,null,null,null,null,null,null,null,null,null,null,null,null,null,null,null,null,null,null,null,null,null,null,null,null,null,null,null,null,null,null,null,null,null,null,null,{"$f":"Table1[[#This Row],[strike]]","v":0},0,0,0,0,0,0,0,0,0]
[null,null,null,null,null,null,null,null,null,null,null,null,null,null,null,null,null,null,null,null,null,null,null,null,null,null,null,null,null,null,null,null,null,null,null,null,null,null,null,{"$f":"Table1[[#This Row],[strike]]","v":0},0,0,0,0,0,0,0,0,0]
[null,null,null,null,null,null,null,null,null,null,null,null,null,null,null,null,null,null,null,null,null,null,null,null,null,null,null,null,null,null,null,null,null,null,null,null,null,null,null,{"$f":"Table1[[#This Row],[strike]]","v":0},0,0,0,0,0,0,0,0,0]
[null,null,null,null,null,null,null,null,null,null,null,null,null,null,null,null,null,null,null,null,null,null,null,null,null,null,null,null,null,null,null,null,null,null,null,null,null,null,null,{"$f":"Table1[[#This Row],[strike]]","v":0},0,0,0,0,0,0,0,0,0]
[null,null,null,null,null,null,null,null,null,null,null,null,null,null,null,null,null,null,null,null,null,null,null,null,null,null,null,null,null,null,null,null,null,null,null,null,null,null,null,{"$f":"Table1[[#This Row],[strike]]","v":0},0,{"$f":"IF(AP$20=\"n/a\",0,IF(AP$20=\"Buy\",MAX(0,$AN3386-AP$21),MIN(0,AP$21-$AN3386)))*AP$22","v":0},0,0,0,0,0,0,0]
[null,null,null,null,null,null,null,null,null,null,null,null,null,null,null,null,null,null,null,null,null,null,null,null,null,null,null,null,null,null,null,null,null,null,null,null,null,null,null,{"$f":"Table1[[#This Row],[strike]]","v":0},0,0,0,0,0,0,0,0,0]
[null,null,null,null,null,null,null,null,null,null,null,null,null,null,null,null,null,null,null,null,null,null,null,null,null,null,null,null,null,null,null,null,null,null,null,null,null,null,null,{"$f":"Table1[[#This Row],[strike]]","v":0},0,0,0,0,0,0,0,0,0]
[null,null,null,null,null,null,null,null,null,null,null,null,null,null,null,null,null,null,null,null,null,null,null,null,null,null,null,null,null,null,null,null,null,null,null,null,null,null,null,{"$f":"Table1[[#This Row],[strike]]","v":0},0,0,0,0,0,0,0,0,0]
[null,null,null,null,null,null,null,null,null,null,null,null,null,null,null,null,null,null,null,null,null,null,null,null,null,null,null,null,null,null,null,null,null,null,null,null,null,null,null,{"$f":"Table1[[#This Row],[strike]]","v":0},0,0,0,0,0,0,0,0,0]
[null,null,null,null,null,null,null,null,null,null,null,null,null,null,null,null,null,null,null,null,null,null,null,null,null,null,null,null,null,null,null,null,null,null,null,null,null,null,null,{"$f":"Table1[[#This Row],[strike]]","v":0},0,0,0,0,0,0,0,0,0]
[null,null,null,null,null,null,null,null,null,null,null,null,null,null,null,null,null,null,null,null,null,null,null,null,null,null,null,null,null,null,null,null,null,null,null,null,null,null,null,{"$f":"Table1[[#This Row],[strike]]","v":0},0,0,0,0,0,0,0,0,0]
[null,null,null,null,null,null,null,null,null,null,null,null,null,null,null,null,null,null,null,null,null,null,null,null,null,null,null,null,null,null,null,null,null,null,null,null,null,null,null,{"$f":"Table1[[#This Row],[strike]]","v":0},0,0,0,0,0,0,0,0,0]
[null,null,null,null,null,null,null,null,null,null,null,null,null,null,null,null,null,null,null,null,null,null,null,null,null,null,null,null,null,null,null,null,null,null,null,null,null,null,null,{"$f":"Table1[[#This Row],[strike]]","v":0},0,0,0,0,0,0,0,0,0]
[null,null,null,null,null,null,null,null,null,null,null,null,null,null,null,null,null,null,null,null,null,null,null,null,null,null,null,null,null,null,null,null,null,null,null,null,null,null,null,{"$f":"Table1[[#This Row],[strike]]","v":0},0,0,0,0,0,0,0,0,0]
[null,null,null,null,null,null,null,null,null,null,null,null,null,null,null,null,null,null,null,null,null,null,null,null,null,null,null,null,null,null,null,null,null,null,null,null,null,null,null,{"$f":"Table1[[#This Row],[strike]]","v":0},0,0,0,0,0,0,0,0,0]
[null,null,null,null,null,null,null,null,null,null,null,null,null,null,null,null,null,null,null,null,null,null,null,null,null,null,null,null,null,null,null,null,null,null,null,null,null,null,null,{"$f":"Table1[[#This Row],[strike]]","v":0},0,0,0,0,0,0,0,0,0]
[null,null,null,null,null,null,null,null,null,null,null,null,null,null,null,null,null,null,null,null,null,null,null,null,null,null,null,null,null,null,null,null,null,null,null,null,null,null,null,{"$f":"Table1[[#This Row],[strike]]","v":0},0,0,0,0,0,0,0,0,0]
[null,null,null,null,null,null,null,null,null,null,null,null,null,null,null,null,null,null,null,null,null,null,null,null,null,null,null,null,null,null,null,null,null,null,null,null,null,null,null,{"$f":"Table1[[#This Row],[strike]]","v":0},0,0,0,0,0,0,0,0,0]
[null,null,null,null,null,null,null,null,null,null,null,null,null,null,null,null,null,null,null,null,null,null,null,null,null,null,null,null,null,null,null,null,null,null,null,null,null,null,null,{"$f":"Table1[[#This Row],[strike]]","v":0},0,0,0,0,0,0,0,0,0]
[null,null,null,null,null,null,null,null,null,null,null,null,null,null,null,null,null,null,null,null,null,null,null,null,null,null,null,null,null,null,null,null,null,null,null,null,null,null,null,{"$f":"Table1[[#This Row],[strike]]","v":0},0,0,0,0,0,0,0,0,0]
[null,null,null,null,null,null,null,null,null,null,null,null,null,null,null,null,null,null,null,null,null,null,null,null,null,null,null,null,null,null,null,null,null,null,null,null,null,null,null,{"$f":"Table1[[#This Row],[strike]]","v":0},0,0,0,0,0,0,0,0,0]
[null,null,null,null,null,null,null,null,null,null,null,null,null,null,null,null,null,null,null,null,null,null,null,null,null,null,null,null,null,null,null,null,null,null,null,null,null,null,null,{"$f":"Table1[[#This Row],[strike]]","v":0},0,0,0,0,0,0,0,0,0]
[null,null,null,null,null,null,null,null,null,null,null,null,null,null,null,null,null,null,null,null,null,null,null,null,null,null,null,null,null,null,null,null,null,null,null,null,null,null,null,{"$f":"Table1[[#This Row],[strike]]","v":0},0,0,0,0,0,0,0,0,0]
[null,null,null,null,null,null,null,null,null,null,null,null,null,null,null,null,null,null,null,null,null,null,null,null,null,null,null,null,null,null,null,null,null,null,null,null,null,null,null,{"$f":"Table1[[#This Row],[strike]]","v":0},0,0,0,0,0,0,0,0,0]
[null,null,null,null,null,null,null,null,null,null,null,null,null,null,null,null,null,null,null,null,null,null,null,null,null,null,null,null,null,null,null,null,null,null,null,null,null,null,null,{"$f":"Table1[[#This Row],[strike]]","v":0},0,0,0,0,0,0,0,0,0]
[null,null,null,null,null,null,null,null,null,null,null,null,null,null,null,null,null,null,null,null,null,null,null,null,null,null,null,null,null,null,null,null,null,null,null,null,null,null,null,{"$f":"Table1[[#This Row],[strike]]","v":0},0,0,0,0,0,0,0,0,0]
[null,null,null,null,null,null,null,null,null,null,null,null,null,null,null,null,null,null,null,null,null,null,null,null,null,null,null,null,null,null,null,null,null,null,null,null,null,null,null,{"$f":"Table1[[#This Row],[strike]]","v":0},0,0,0,0,0,0,0,0,0]
[null,null,null,null,null,null,null,null,null,null,null,null,null,null,null,null,null,null,null,null,null,null,null,null,null,null,null,null,null,null,null,null,null,null,null,null,null,null,null,{"$f":"Table1[[#This Row],[strike]]","v":0},0,0,0,0,0,0,0,0,0]
[null,null,null,null,null,null,null,null,null,null,null,null,null,null,null,null,null,null,null,null,null,null,null,null,null,null,null,null,null,null,null,null,null,null,null,null,null,null,null,{"$f":"Table1[[#This Row],[strike]]","v":0},0,0,0,0,0,0,0,0,0]
[null,null,null,null,null,null,null,null,null,null,null,null,null,null,null,null,null,null,null,null,null,null,null,null,null,null,null,null,null,null,null,null,null,null,null,null,null,null,null,{"$f":"Table1[[#This Row],[strike]]","v":0},0,0,0,0,0,0,0,0,0]
[null,null,null,null,null,null,null,null,null,null,null,null,null,null,null,null,null,null,null,null,null,null,null,null,null,null,null,null,null,null,null,null,null,null,null,null,null,null,null,{"$f":"Table1[[#This Row],[strike]]","v":0},0,0,0,0,0,0,0,0,0]
[null,null,null,null,null,null,null,null,null,null,null,null,null,null,null,null,null,null,null,null,null,null,null,null,null,null,null,null,null,null,null,null,null,null,null,null,null,null,null,{"$f":"Table1[[#This Row],[strike]]","v":0},0,0,0,0,0,0,0,0,0]
[null,null,null,null,null,null,null,null,null,null,null,null,null,null,null,null,null,null,null,null,null,null,null,null,null,null,null,null,null,null,null,null,null,null,null,null,null,null,null,{"$f":"Table1[[#This Row],[strike]]","v":0},0,0,0,0,0,0,0,0,0]
[null,null,null,null,null,null,null,null,null,null,null,null,null,null,null,null,null,null,null,null,null,null,null,null,null,null,null,null,null,null,null,null,null,null,null,null,null,null,null,{"$f":"Table1[[#This Row],[strike]]","v":0},0,0,0,0,0,0,0,0,0]
[null,null,null,null,null,null,null,null,null,null,null,null,null,null,null,null,null,null,null,null,null,null,null,null,null,null,null,null,null,null,null,null,null,null,null,null,null,null,null,{"$f":"Table1[[#This Row],[strike]]","v":0},0,0,0,0,0,0,0,0,0]
[null,null,null,null,null,null,null,null,null,null,null,null,null,null,null,null,null,null,null,null,null,null,null,null,null,null,null,null,null,null,null,null,null,null,null,null,null,null,null,{"$f":"Table1[[#This Row],[strike]]","v":0},{"$f":"IF(AO$20=\"n/a\",0,IF(AO$20=\"Buy\",AN3417*Q$11,AN3417*-Q$11))","v":0},0,0,0,0,0,0,0,{"$f":"AV3417+R$18","v":0}]
[null,null,null,null,null,null,null,null,null,null,null,null,null,null,null,null,null,null,null,null,null,null,null,null,null,null,null,null,null,null,null,null,null,null,null,null,null,null,null,{"$f":"Table1[[#This Row],[strike]]","v":0},0,0,0,0,0,0,0,0,0]
[null,null,null,null,null,null,null,null,null,null,null,null,null,null,null,null,null,null,null,null,null,null,null,null,null,null,null,null,null,null,null,null,null,null,null,null,null,null,null,{"$f":"Table1[[#This Row],[strike]]","v":0},0,0,0,0,0,0,0,0,0]
[null,null,null,null,null,null,null,null,null,null,null,null,null,null,null,null,null,null,null,null,null,null,null,null,null,null,null,null,null,null,null,null,null,null,null,null,null,null,null,{"$f":"Table1[[#This Row],[strike]]","v":0},0,0,0,0,0,0,0,0,0]
[null,null,null,null,null,null,null,null,null,null,null,null,null,null,null,null,null,null,null,null,null,null,null,null,null,null,null,null,null,null,null,null,null,null,null,null,null,null,null,{"$f":"Table1[[#This Row],[strike]]","v":0},0,0,0,0,0,0,0,0,0]
[null,null,null,null,null,null,null,null,null,null,null,null,null,null,null,null,null,null,null,null,null,null,null,null,null,null,null,null,null,null,null,null,null,null,null,null,null,null,null,{"$f":"Table1[[#This Row],[strike]]","v":0},0,0,0,0,0,0,0,0,0]
[null,null,null,null,null,null,null,null,null,null,null,null,null,null,null,null,null,null,null,null,null,null,null,null,null,null,null,null,null,null,null,null,null,null,null,null,null,null,null,{"$f":"Table1[[#This Row],[strike]]","v":0},0,0,0,0,0,0,0,0,0]
[null,null,null,null,null,null,null,null,null,null,null,null,null,null,null,null,null,null,null,null,null,null,null,null,null,null,null,null,null,null,null,null,null,null,null,null,null,null,null,{"$f":"Table1[[#This Row],[strike]]","v":0},0,0,0,0,0,0,0,0,0]
[null,null,null,null,null,null,null,null,null,null,null,null,null,null,null,null,null,null,null,null,null,null,null,null,null,null,null,null,null,null,null,null,null,null,null,null,null,null,null,{"$f":"Table1[[#This Row],[strike]]","v":0},0,0,0,0,0,0,0,0,0]
[null,null,null,null,null,null,null,null,null,null,null,null,null,null,null,null,null,null,null,null,null,null,null,null,null,null,null,null,null,null,null,null,null,null,null,null,null,null,null,{"$f":"Table1[[#This Row],[strike]]","v":0},0,0,0,0,0,0,0,0,0]
[null,null,null,null,null,null,null,null,null,null,null,null,null,null,null,null,null,null,null,null,null,null,null,null,null,null,null,null,null,null,null,null,null,null,null,null,null,null,null,{"$f":"Table1[[#This Row],[strike]]","v":0},0,0,0,0,0,0,0,0,0]
[null,null,null,null,null,null,null,null,null,null,null,null,null,null,null,null,null,null,null,null,null,null,null,null,null,null,null,null,null,null,null,null,null,null,null,null,null,null,null,{"$f":"Table1[[#This Row],[strike]]","v":0},0,0,0,0,{"$f":"IF(AS$20=\"n/a\",0,IF(AS$20=\"Buy\",MAX(0,$AN3428-AS$21),MIN(0,AS$21-$AN3428)))*AS$22","v":0},0,0,0,0]
[null,null,null,null,null,null,null,null,null,null,null,null,null,null,null,null,null,null,null,null,null,null,null,null,null,null,null,null,null,null,null,null,null,null,null,null,null,null,null,{"$f":"Table1[[#This Row],[strike]]","v":0},0,0,0,0,0,0,0,0,0]
[null,null,null,null,null,null,null,null,null,null,null,null,null,null,null,null,null,null,null,null,null,null,null,null,null,null,null,null,null,null,null,null,null,null,null,null,null,null,null,{"$f":"Table1[[#This Row],[strike]]","v":0},0,0,0,0,0,0,0,0,0]
[null,null,null,null,null,null,null,null,null,null,null,null,null,null,null,null,null,null,null,null,null,null,null,null,null,null,null,null,null,null,null,null,null,null,null,null,null,null,null,{"$f":"Table1[[#This Row],[strike]]","v":0},0,0,0,0,0,0,0,{"$f":"_xlfn.AGGREGATE(9,6,AO3431:AU3431)","v":0},0]
[null,null,null,null,null,null,null,null,null,null,null,null,null,null,null,null,null,null,null,null,null,null,null,null,null,null,null,null,null,null,null,null,null,null,null,null,null,null,null,{"$f":"Table1[[#This Row],[strike]]","v":0},0,0,0,0,0,0,0,0,0]
[null,null,null,null,null,null,null,null,null,null,null,null,null,null,null,null,null,null,null,null,null,null,null,null,null,null,null,null,null,null,null,null,null,null,null,null,null,null,null,{"$f":"Table1[[#This Row],[strike]]","v":0},0,0,0,0,0,0,0,0,0]
[null,null,null,null,null,null,null,null,null,null,null,null,null,null,null,null,null,null,null,null,null,null,null,null,null,null,null,null,null,null,null,null,null,null,null,null,null,null,null,{"$f":"Table1[[#This Row],[strike]]","v":0},0,0,0,0,0,0,0,0,0]
[null,null,null,null,null,null,null,null,null,null,null,null,null,null,null,null,null,null,null,null,null,null,null,null,null,null,null,null,null,null,null,null,null,null,null,null,null,null,null,{"$f":"Table1[[#This Row],[strike]]","v":0},0,0,0,0,0,0,0,0,0]
[null,null,null,null,null,null,null,null,null,null,null,null,null,null,null,null,null,null,null,null,null,null,null,null,null,null,null,null,null,null,null,null,null,null,null,null,null,null,null,{"$f":"Table1[[#This Row],[strike]]","v":0},0,0,0,0,0,0,0,0,0]
[null,null,null,null,null,null,null,null,null,null,null,null,null,null,null,null,null,null,null,null,null,null,null,null,null,null,null,null,null,null,null,null,null,null,null,null,null,null,null,{"$f":"Table1[[#This Row],[strike]]","v":0},0,0,0,0,0,0,0,0,0]
[null,null,null,null,null,null,null,null,null,null,null,null,null,null,null,null,null,null,null,null,null,null,null,null,null,null,null,null,null,null,null,null,null,null,null,null,null,null,null,{"$f":"Table1[[#This Row],[strike]]","v":0},0,0,0,0,0,0,0,0,0]
[null,null,null,null,null,null,null,null,null,null,null,null,null,null,null,null,null,null,null,null,null,null,null,null,null,null,null,null,null,null,null,null,null,null,null,null,null,null,null,{"$f":"Table1[[#This Row],[strike]]","v":0},0,0,0,0,0,0,0,0,0]
[null,null,null,null,null,null,null,null,null,null,null,null,null,null,null,null,null,null,null,null,null,null,null,null,null,null,null,null,null,null,null,null,null,null,null,null,null,null,null,{"$f":"Table1[[#This Row],[strike]]","v":0},0,0,0,0,0,0,0,0,0]
[null,null,null,null,null,null,null,null,null,null,null,null,null,null,null,null,null,null,null,null,null,null,null,null,null,null,null,null,null,null,null,null,null,null,null,null,null,null,null,{"$f":"Table1[[#This Row],[strike]]","v":0},0,0,0,0,0,0,0,0,0]
[null,null,null,null,null,null,null,null,null,null,null,null,null,null,null,null,null,null,null,null,null,null,null,null,null,null,null,null,null,null,null,null,null,null,null,null,null,null,null,{"$f":"Table1[[#This Row],[strike]]","v":0},0,0,0,0,0,0,0,0,0]
[null,null,null,null,null,null,null,null,null,null,null,null,null,null,null,null,null,null,null,null,null,null,null,null,null,null,null,null,null,null,null,null,null,null,null,null,null,null,null,{"$f":"Table1[[#This Row],[strike]]","v":0},0,0,0,0,0,0,0,0,0]
[null,null,null,null,null,null,null,null,null,null,null,null,null,null,null,null,null,null,null,null,null,null,null,null,null,null,null,null,null,null,null,null,null,null,null,null,null,null,null,{"$f":"Table1[[#This Row],[strike]]","v":0},0,0,0,0,0,0,0,0,0]
[null,null,null,null,null,null,null,null,null,null,null,null,null,null,null,null,null,null,null,null,null,null,null,null,null,null,null,null,null,null,null,null,null,null,null,null,null,null,null,{"$f":"Table1[[#This Row],[strike]]","v":0},0,0,0,0,0,0,0,0,0]
[null,null,null,null,null,null,null,null,null,null,null,null,null,null,null,null,null,null,null,null,null,null,null,null,null,null,null,null,null,null,null,null,null,null,null,null,null,null,null,{"$f":"Table1[[#This Row],[strike]]","v":0},0,0,0,0,0,0,0,0,0]
[null,null,null,null,null,null,null,null,null,null,null,null,null,null,null,null,null,null,null,null,null,null,null,null,null,null,null,null,null,null,null,null,null,null,null,null,null,null,null,{"$f":"Table1[[#This Row],[strike]]","v":0},0,0,0,0,0,0,0,0,0]
[null,null,null,null,null,null,null,null,null,null,null,null,null,null,null,null,null,null,null,null,null,null,null,null,null,null,null,null,null,null,null,null,null,null,null,null,null,null,null,{"$f":"Table1[[#This Row],[strike]]","v":0},0,0,0,0,0,0,0,0,0]
[null,null,null,null,null,null,null,null,null,null,null,null,null,null,null,null,null,null,null,null,null,null,null,null,null,null,null,null,null,null,null,null,null,null,null,null,null,null,null,{"$f":"Table1[[#This Row],[strike]]","v":0},0,0,0,0,0,0,0,0,0]
[null,null,null,null,null,null,null,null,null,null,null,null,null,null,null,null,null,null,null,null,null,null,null,null,null,null,null,null,null,null,null,null,null,null,null,null,null,null,null,{"$f":"Table1[[#This Row],[strike]]","v":0},0,0,0,0,0,0,0,0,0]
[null,null,null,null,null,null,null,null,null,null,null,null,null,null,null,null,null,null,null,null,null,null,null,null,null,null,null,null,null,null,null,null,null,null,null,null,null,null,null,{"$f":"Table1[[#This Row],[strike]]","v":0},0,0,0,0,0,0,0,0,0]
[null,null,null,null,null,null,null,null,null,null,null,null,null,null,null,null,null,null,null,null,null,null,null,null,null,null,null,null,null,null,null,null,null,null,null,null,null,null,null,{"$f":"Table1[[#This Row],[strike]]","v":0},0,0,0,0,0,0,0,0,0]
[null,null,null,null,null,null,null,null,null,null,null,null,null,null,null,null,null,null,null,null,null,null,null,null,null,null,null,null,null,null,null,null,null,null,null,null,null,null,null,{"$f":"Table1[[#This Row],[strike]]","v":0},0,0,0,0,0,0,0,0,0]
[null,null,null,null,null,null,null,null,null,null,null,null,null,null,null,null,null,null,null,null,null,null,null,null,null,null,null,null,null,null,null,null,null,null,null,null,null,null,null,{"$f":"Table1[[#This Row],[strike]]","v":0},0,0,0,0,0,0,0,0,0]
[null,null,null,null,null,null,null,null,null,null,null,null,null,null,null,null,null,null,null,null,null,null,null,null,null,null,null,null,null,null,null,null,null,null,null,null,null,null,null,{"$f":"Table1[[#This Row],[strike]]","v":0},0,0,0,0,0,0,0,0,0]
[null,null,null,null,null,null,null,null,null,null,null,null,null,null,null,null,null,null,null,null,null,null,null,null,null,null,null,null,null,null,null,null,null,null,null,null,null,null,null,{"$f":"Table1[[#This Row],[strike]]","v":0},0,0,0,0,0,0,0,0,0]
[null,null,null,null,null,null,null,null,null,null,null,null,null,null,null,null,null,null,null,null,null,null,null,null,null,null,null,null,null,null,null,null,null,null,null,null,null,null,null,{"$f":"Table1[[#This Row],[strike]]","v":0},0,0,0,0,0,0,0,0,0]
[null,null,null,null,null,null,null,null,null,null,null,null,null,null,null,null,null,null,null,null,null,null,null,null,null,null,null,null,null,null,null,null,null,null,null,null,null,null,null,{"$f":"Table1[[#This Row],[strike]]","v":0},0,0,0,0,0,0,0,0,0]
[null,null,null,null,null,null,null,null,null,null,null,null,null,null,null,null,null,null,null,null,null,null,null,null,null,null,null,null,null,null,null,null,null,null,null,null,null,null,null,{"$f":"Table1[[#This Row],[strike]]","v":0},0,0,0,0,0,0,0,0,0]
[null,null,null,null,null,null,null,null,null,null,null,null,null,null,null,null,null,null,null,null,null,null,null,null,null,null,null,null,null,null,null,null,null,null,null,null,null,null,null,{"$f":"Table1[[#This Row],[strike]]","v":0},0,0,0,0,0,0,0,0,0]
[null,null,null,null,null,null,null,null,null,null,null,null,null,null,null,null,null,null,null,null,null,null,null,null,null,null,null,null,null,null,null,null,null,null,null,null,null,null,null,{"$f":"Table1[[#This Row],[strike]]","v":0},0,0,0,0,0,0,0,0,0]
[null,null,null,null,null,null,null,null,null,null,null,null,null,null,null,null,null,null,null,null,null,null,null,null,null,null,null,null,null,null,null,null,null,null,null,null,null,null,null,{"$f":"Table1[[#This Row],[strike]]","v":0},0,0,0,0,0,0,0,0,0]
[null,null,null,null,null,null,null,null,null,null,null,null,null,null,null,null,null,null,null,null,null,null,null,null,null,null,null,null,null,null,null,null,null,null,null,null,null,null,null,{"$f":"Table1[[#This Row],[strike]]","v":0},0,0,0,0,0,0,0,0,0]
[null,null,null,null,null,null,null,null,null,null,null,null,null,null,null,null,null,null,null,null,null,null,null,null,null,null,null,null,null,null,null,null,null,null,null,null,null,null,null,{"$f":"Table1[[#This Row],[strike]]","v":0},0,0,0,0,0,0,0,0,0]
[null,null,null,null,null,null,null,null,null,null,null,null,null,null,null,null,null,null,null,null,null,null,null,null,null,null,null,null,null,null,null,null,null,null,null,null,null,null,null,{"$f":"Table1[[#This Row],[strike]]","v":0},0,0,0,0,0,0,0,0,0]
[null,null,null,null,null,null,null,null,null,null,null,null,null,null,null,null,null,null,null,null,null,null,null,null,null,null,null,null,null,null,null,null,null,null,null,null,null,null,null,{"$f":"Table1[[#This Row],[strike]]","v":0},0,0,0,0,0,0,0,0,0]
[null,null,null,null,null,null,null,null,null,null,null,null,null,null,null,null,null,null,null,null,null,null,null,null,null,null,null,null,null,null,null,null,null,null,null,null,null,null,null,{"$f":"Table1[[#This Row],[strike]]","v":0},0,0,0,0,0,0,0,0,0]
[null,null,null,null,null,null,null,null,null,null,null,null,null,null,null,null,null,null,null,null,null,null,null,null,null,null,null,null,null,null,null,null,null,null,null,null,null,null,null,{"$f":"Table1[[#This Row],[strike]]","v":0},0,0,0,0,0,0,0,0,0]
[null,null,null,null,null,null,null,null,null,null,null,null,null,null,null,null,null,null,null,null,null,null,null,null,null,null,null,null,null,null,null,null,null,null,null,null,null,null,null,{"$f":"Table1[[#This Row],[strike]]","v":0},0,0,0,0,0,0,0,0,0]
[null,null,null,null,null,null,null,null,null,null,null,null,null,null,null,null,null,null,null,null,null,null,null,null,null,null,null,null,null,null,null,null,null,null,null,null,null,null,null,{"$f":"Table1[[#This Row],[strike]]","v":0},0,0,0,0,0,0,0,0,0]
[null,null,null,null,null,null,null,null,null,null,null,null,null,null,null,null,null,null,null,null,null,null,null,null,null,null,null,null,null,null,null,null,null,null,null,null,null,null,null,{"$f":"Table1[[#This Row],[strike]]","v":0},0,{"$f":"IF(AP$20=\"n/a\",0,IF(AP$20=\"Buy\",MAX(0,$AN3471-AP$21),MIN(0,AP$21-$AN3471)))*AP$22","v":0},0,0,0,0,0,0,0]
[null,null,null,null,null,null,null,null,null,null,null,null,null,null,null,null,null,null,null,null,null,null,null,null,null,null,null,null,null,null,null,null,null,null,null,null,null,null,null,{"$f":"Table1[[#This Row],[strike]]","v":0},0,0,0,0,0,0,0,0,0]
[null,null,null,null,null,null,null,null,null,null,null,null,null,null,null,null,null,null,null,null,null,null,null,null,null,null,null,null,null,null,null,null,null,null,null,null,null,null,null,{"$f":"Table1[[#This Row],[strike]]","v":0},0,0,0,0,0,0,0,0,0]
[null,null,null,null,null,null,null,null,null,null,null,null,null,null,null,null,null,null,null,null,null,null,null,null,null,null,null,null,null,null,null,null,null,null,null,null,null,null,null,{"$f":"Table1[[#This Row],[strike]]","v":0},0,0,0,0,0,0,0,0,0]
[null,null,null,null,null,null,null,null,null,null,null,null,null,null,null,null,null,null,null,null,null,null,null,null,null,null,null,null,null,null,null,null,null,null,null,null,null,null,null,{"$f":"Table1[[#This Row],[strike]]","v":0},0,0,0,0,0,0,0,0,0]
[null,null,null,null,null,null,null,null,null,null,null,null,null,null,null,null,null,null,null,null,null,null,null,null,null,null,null,null,null,null,null,null,null,null,null,null,null,null,null,{"$f":"Table1[[#This Row],[strike]]","v":0},0,0,0,0,0,0,0,0,0]
[null,null,null,null,null,null,null,null,null,null,null,null,null,null,null,null,null,null,null,null,null,null,null,null,null,null,null,null,null,null,null,null,null,null,null,null,null,null,null,{"$f":"Table1[[#This Row],[strike]]","v":0},0,0,0,0,0,0,0,0,0]
[null,null,null,null,null,null,null,null,null,null,null,null,null,null,null,null,null,null,null,null,null,null,null,null,null,null,null,null,null,null,null,null,null,null,null,null,null,null,null,{"$f":"Table1[[#This Row],[strike]]","v":0},0,0,0,0,0,0,0,0,0]
[null,null,null,null,null,null,null,null,null,null,null,null,null,null,null,null,null,null,null,null,null,null,null,null,null,null,null,null,null,null,null,null,null,null,null,null,null,null,null,{"$f":"Table1[[#This Row],[strike]]","v":0},0,0,0,0,0,0,0,0,0]
[null,null,null,null,null,null,null,null,null,null,null,null,null,null,null,null,null,null,null,null,null,null,null,null,null,null,null,null,null,null,null,null,null,null,null,null,null,null,null,{"$f":"Table1[[#This Row],[strike]]","v":0},0,0,0,0,0,0,0,0,0]
[null,null,null,null,null,null,null,null,null,null,null,null,null,null,null,null,null,null,null,null,null,null,null,null,null,null,null,null,null,null,null,null,null,null,null,null,null,null,null,{"$f":"Table1[[#This Row],[strike]]","v":0},{"$f":"IF(AO$20=\"n/a\",0,IF(AO$20=\"Buy\",AN3481*Q$11,AN3481*-Q$11))","v":0},0,0,0,0,0,0,0,{"$f":"AV3481+R$18","v":0}]
[null,null,null,null,null,null,null,null,null,null,null,null,null,null,null,null,null,null,null,null,null,null,null,null,null,null,null,null,null,null,null,null,null,null,null,null,null,null,null,{"$f":"Table1[[#This Row],[strike]]","v":0},0,0,0,0,0,0,0,0,0]
[]
[]
[null,null,null,null,null,null,null,null,null,null,null,null,null,null,null,null,null,null,null,null,null,null,null,null,null,null,null,null,null,null,null,null,null,null,null,null,null,null,null,{"$f":"K20","v":250},{"$f":"IF(AO$20=\"n/a\",0,IF(AO$20=\"Buy\",AN3485*Q$11,AN3485*-Q$11))","v":0},{"$f":"IF(AP$20=\"n/a\",0,IF(AP$20=\"Buy\",MAX(0,$AN3485-AP$21),MIN(0,AP$21-$AN3485)))*AP$22","v":0},0,0,0,0,0,{"$f":"_xlfn.AGGREGATE(9,6,AO3485:AU3485)","v":0},{"$f":"AV3485+R$18","v":0}]
[null,null,null,null,null,null,null,null,null,null,null,null,null,null,null,null,null,null,null,null,null,null,null,null,null,null,null,null,null,null,null,null,null,null,null,null,null,null,null,{"$f":"#REF!","v":{"$error":"#REF!"}},{"$f":"IF(AO$20=\"n/a\",0,IF(AO$20=\"Buy\",AN3486*Q$11,AN3486*-Q$11))","v":{"$error":"#REF!"}},{"$error":"#REF!"},{"$error":"#REF!"},0,0,0,0,{"$f":"_xlfn.AGGREGATE(9,6,AO3486:AU3486)","v":0},{"$f":"AV3486+R$18","v":0}]

{"sheet":"Lists","index":1,"n_rows":55,"n_cols":20,"rows_kept":55,"cut":false,"hidden":false,"merged":[]}
["Stratregy","Category",null,null,"Bullish","Bearish","Volatality",null,null,"Enter At",null,"Strikes"]
["Long Stock","The Basics",null,null,"Long Call","Long Put","Long Straddle",null,null,"Bid",null,1,null,"Buy",null,null,null,null,"Direction"]
["Short Stock","The Basics",null,null,"Short Put","Short Call","Long Stragle",null,null,"Ask",null,{"$f":"+L2+1","v":2},null,"Sell",null,"expirydate","strike","Profit","Call","Buy"]
["Long Call","The Basics",null,null,"Short + Covered Call","Long Put Spread","Long Iron Condor",null,null,"Mid",null,{"$f":"+L3+1","v":3},null,null,null,"2019-09-06",125,{"$f":"VLOOKUP(Q4,'Option Profit Calculator'!$AN$25:$AW$3482,10,)","v":0},"Put","Sell"]
["Short Call","The Basics",null,null,"Short + Married Put","Long Put Backspread","Long Call Butterfly",null,null,"Limit",null,4,null,null,null,"2019-09-13",126,{"$f":"VLOOKUP(Q5,'Option Profit Calculator'!$AN$25:$AW$3482,10,)","v":0}]
["Long Put","The Basics",null,null,"Short + Caller","Short Call Spread","Long Put Butterfy",null,null,null,null,5,null,null,null,"2019-09-20",127,{"$f":"VLOOKUP(Q6,'Option Profit Calculator'!$AN$25:$AW$3482,10,)","v":0},"CallBuy","Long"]
["Short Put","The Basics",null,null,"Long Call Spread","Short Call BackSpread","Short Straddle",null,null,null,null,6,null,null,null,"2019-09-27",128,{"$f":"VLOOKUP(Q7,'Option Profit Calculator'!$AN$25:$AW$3482,10,)","v":0},"CallSell","Short"]
["Covered Call","The Basics",null,null,"Long Call BackSpread",null,"Short Strangle",null,null,null,null,7,null,null,null,"2019-10-04",129,{"$f":"VLOOKUP(Q8,'Option Profit Calculator'!$AN$25:$AW$3482,10,)","v":0},"PutBuy","Short"]
["Protective Put","The Basics",null,null,"Short Put Spread",null,"Short Iron Condor",null,null,null,null,8,null,null,null,"2019-10-11",130,{"$f":"VLOOKUP(Q9,'Option Profit Calculator'!$AN$25:$AW$3482,10,)","v":0},"PutSell","Long"]
["Long Straddle","Straddles, Strangles, Guts",null,null,"Short Put BackSpread",null,"Short Call Butterfly",null,null,null,null,9,null,null,null,"2019-10-18",131,{"$f":"VLOOKUP(Q10,'Option Profit Calculator'!$AN$25:$AW$3482,10,)","v":0}]
["Long Strangle","Straddles, Strangles, Guts",null,null,null,null,"Short Put Butterfly",null,null,null,null,10,null,null,null,"2019-11-15",132,{"$f":"VLOOKUP(Q11,'Option Profit Calculator'!$AN$25:$AW$3482,10,)","v":0}]
["Long Guts","Straddles, Strangles, Guts",null,null,null,null,null,null,null,null,null,11,null,null,null,"2019-12-20",133,{"$f":"VLOOKUP(Q12,'Option Profit Calculator'!$AN$25:$AW$3482,10,)","v":0}]
["Short Straddle","Straddles, Strangles, Guts",null,null,null,null,null,null,null,null,null,12,null,null,null,"2020-01-17",134,{"$f":"VLOOKUP(Q13,'Option Profit Calculator'!$AN$25:$AW$3482,10,)","v":0}]
["Short Strangle","Straddles, Strangles, Guts",null,null,null,null,null,null,null,null,null,13,null,null,null,"2020-03-20",135,{"$f":"VLOOKUP(Q14,'Option Profit Calculator'!$AN$25:$AW$3482,10,)","v":0}]
["Short Guts","Straddles, Strangles, Guts",null,null,null,null,null,null,null,null,null,14,null,null,null,"2020-04-17",136,{"$f":"VLOOKUP(Q15,'Option Profit Calculator'!$AN$25:$AW$3482,10,)","v":0}]
["Long Call Butterfly","Long Call Butterfly",null,null,null,null,null,null,null,null,null,15,null,null,null,"2020-06-19",137,{"$f":"VLOOKUP(Q16,'Option Profit Calculator'!$AN$25:$AW$3482,10,)","v":0}]
["Long Put Butterfly","Long Put Butterfly",null,null,null,null,null,null,null,null,null,16,null,null,null,"2020-09-18",138,{"$f":"VLOOKUP(Q17,'Option Profit Calculator'!$AN$25:$AW$3482,10,)","v":0}]
["Long Iron Butterfly","Long Iron Butterfly",null,null,null,null,null,null,null,null,null,17,null,null,null,"2021-01-15",139,{"$f":"VLOOKUP(Q18,'Option Profit Calculator'!$AN$25:$AW$3482,10,)","v":0}]
["Long Call Condor","Long Call Condor",null,null,null,null,null,null,null,null,null,18,null,null,null,"2021-06-18",140,{"$f":"VLOOKUP(Q19,'Option Profit Calculator'!$AN$25:$AW$3482,10,)","v":0}]
["Long Put Condor","Long Put Condor",null,null,null,null,null,null,null,null,null,19,null,null,null,null,141,{"$f":"VLOOKUP(Q20,'Option Profit Calculator'!$AN$25:$AW$3482,10,)","v":0}]
["Long Iron Condor","Long Iron Condor",null,null,null,null,null,null,null,null,null,20,null,null,null,null,142,{"$f":"VLOOKUP(Q21,'Option Profit Calculator'!$AN$25:$AW$3482,10,)","v":0}]
["Short Call Butterfly","Short Call Butterfly",null,null,null,null,null,null,null,null,null,21,null,null,null,null,143,{"$f":"VLOOKUP(Q22,'Option Profit Calculator'!$AN$25:$AW$3482,10,)","v":0}]
["Short Put Butterfly","Short Put Butterfly",null,null,null,null,null,null,null,null,null,22,null,null,null,null,144,{"$f":"VLOOKUP(Q23,'Option Profit Calculator'!$AN$25:$AW$3482,10,)","v":0}]
["Short Iron Butterfly","Short Iron Butterfly",null,null,null,null,null,null,null,null,null,23,null,null,null,null,145,{"$f":"VLOOKUP(Q24,'Option Profit Calculator'!$AN$25:$AW$3482,10,)","v":0}]
["Short Call Condor","Short Call Condor",null,null,null,null,null,null,null,null,null,24,null,null,null,null,146,{"$f":"VLOOKUP(Q25,'Option Profit Calculator'!$AN$25:$AW$3482,10,)","v":0}]
["Short Put Condor","Short Put Condor",null,null,null,null,null,null,null,null,null,25,null,null,null,null,147,{"$f":"VLOOKUP(Q26,'Option Profit Calculator'!$AN$25:$AW$3482,10,)","v":0}]
["Short Iron Condor","Short Iron Condor",null,null,null,null,null,null,null,null,null,26,null,null,null,null,148,{"$f":"VLOOKUP(Q27,'Option Profit Calculator'!$AN$25:$AW$3482,10,)","v":0}]
["Bull Call Spread","Vertical Spreads, Ladders, Ratio Spreads",null,null,null,null,null,null,null,null,null,27,null,null,null,null,150,{"$f":"VLOOKUP(Q28,'Option Profit Calculator'!$AN$25:$AW$3482,10,)","v":0}]
["Bear Put Spread","Vertical Spreads, Ladders, Ratio Spreads",null,null,null,null,null,null,null,null,null,28,null,null,null,null,149,{"$f":"VLOOKUP(Q29,'Option Profit Calculator'!$AN$25:$AW$3482,10,)","v":0}]
["Bear Call Spread","Vertical Spreads, Ladders, Ratio Spreads",null,null,null,null,null,null,null,null,null,29,null,null,null,null,null,{"$f":"VLOOKUP(Q30,'Option Profit Calculator'!$AN$25:$AW$3482,10,)","v":0}]
["Bull Put Spread","Vertical Spreads, Ladders, Ratio Spreads",null,null,null,null,null,null,null,null,null,30,null,null,null,null,null,{"$f":"VLOOKUP(Q31,'Option Profit Calculator'!$AN$25:$AW$3482,10,)","v":0}]
["Bull Call Ladder","Vertical Spreads, Ladders, Ratio Spreads",null,null,null,null,null,null,null,null,null,31,null,null,null,null,null,{"$f":"VLOOKUP(Q32,'Option Profit Calculator'!$AN$25:$AW$3482,10,)","v":0}]
["Bull Put Ladder","Vertical Spreads, Ladders, Ratio Spreads",null,null,null,null,null,null,null,null,null,32,null,null,null,null,null,{"$f":"VLOOKUP(Q33,'Option Profit Calculator'!$AN$25:$AW$3482,10,)","v":0}]
["Bear Call Ladder","Vertical Spreads, Ladders, Ratio Spreads",null,null,null,null,null,null,null,null,null,33,null,null,null,null,null,{"$f":"VLOOKUP(Q34,'Option Profit Calculator'!$AN$25:$AW$3482,10,)","v":0}]
["Bear Put Ladder","Vertical Spreads, Ladders, Ratio Spreads",null,null,null,null,null,null,null,null,null,34,null,null,null,null,null,{"$f":"VLOOKUP(Q35,'Option Profit Calculator'!$AN$25:$AW$3482,10,)","v":0}]
["Strip","Vertical Spreads, Ladders, Ratio Spreads",null,null,null,null,null,null,null,null,null,35,null,null,null,null,null,{"$f":"VLOOKUP(Q36,'Option Profit Calculator'!$AN$25:$AW$3482,10,)","v":0}]
["Strap","Vertical Spreads, Ladders, Ratio Spreads",null,null,null,null,null,null,null,null,null,36,null,null,null,null,null,{"$f":"VLOOKUP(Q37,'Option Profit Calculator'!$AN$25:$AW$3482,10,)","v":0}]
["Covered Short Straddle","Vertical Spreads, Ladders, Ratio Spreads",null,null,null,null,null,null,null,null,null,37,null,null,null,null,null,{"$f":"VLOOKUP(Q38,'Option Profit Calculator'!$AN$25:$AW$3482,10,)","v":0}]
["Covered Short Strangle","Vertical Spreads, Ladders, Ratio Spreads",null,null,null,null,null,null,null,null,null,38,null,null,null,null,null,{"$f":"VLOOKUP(Q39,'Option Profit Calculator'!$AN$25:$AW$3482,10,)","v":0}]
["Ratio Call Backspread","Vertical Spreads, Ladders, Ratio Spreads",null,null,null,null,null,null,null,null,null,39,null,null,null,null,null,{"$f":"VLOOKUP(Q40,'Option Profit Calculator'!$AN$25:$AW$3482,10,)","v":0}]
["Ratio Put Backspread","Vertical Spreads, Ladders, Ratio Spreads",null,null,null,null,null,null,null,null,null,40,null,null,null,null,null,{"$f":"VLOOKUP(Q41,'Option Profit Calculator'!$AN$25:$AW$3482,10,)","v":0}]
["Ratio Call Spread","Vertical Spreads, Ladders, Ratio Spreads",null,null,null,null,null,null,null,null,null,41,null,null,null,null,null,{"$f":"VLOOKUP(Q42,'Option Profit Calculator'!$AN$25:$AW$3482,10,)","v":0}]
["Ratio Put Spread","Vertical Spreads, Ladders, Ratio Spreads",null,null,null,null,null,null,null,null,null,42,null,null,null,null,null,{"$f":"VLOOKUP(Q43,'Option Profit Calculator'!$AN$25:$AW$3482,10,)","v":0}]
["Collar","Vertical Spreads, Ladders, Ratio Spreads",null,null,null,null,null,null,null,null,null,43,null,null,null,null,null,{"$f":"VLOOKUP(Q44,'Option Profit Calculator'!$AN$25:$AW$3482,10,)","v":0}]
["Synthetic Call","Synthetics and Others",null,null,null,null,null,null,null,null,null,44,null,null,null,null,null,{"$f":"VLOOKUP(Q45,'Option Profit Calculator'!$AN$25:$AW$3482,10,)","v":0}]
["Synthetic Put","Synthetics and Others",null,null,null,null,null,null,null,null,null,45,null,null,null,null,null,{"$f":"VLOOKUP(Q46,'Option Profit Calculator'!$AN$25:$AW$3482,10,)","v":0}]
["Synthetic Long Stock","Synthetics and Others",null,null,null,null,null,null,null,null,null,46,null,null,null,null,null,{"$f":"VLOOKUP(Q47,'Option Profit Calculator'!$AN$25:$AW$3482,10,)","v":0}]
["Synthetic Short Stock","Synthetics and Others",null,null,null,null,null,null,null,null,null,47,null,null,null,null,null,{"$f":"VLOOKUP(Q48,'Option Profit Calculator'!$AN$25:$AW$3482,10,)","v":0}]
["Synthetic Long Straddle w Calls","Synthetics and Others",null,null,null,null,null,null,null,null,null,48,null,null,null,null,null,{"$f":"VLOOKUP(Q49,'Option Profit Calculator'!$AN$25:$AW$3482,10,)","v":0}]
["Synthetic Long Straddle w Puts","Synthetics and Others",null,null,null,null,null,null,null,null,null,49,null,null,null,null,null,{"$f":"VLOOKUP(Q50,'Option Profit Calculator'!$AN$25:$AW$3482,10,)","v":0}]
["Synthetic Short Straddle w Calls","Synthetics and Others",null,null,null,null,null,null,null,null,null,50,null,null,null,null,null,{"$f":"VLOOKUP(Q51,'Option Profit Calculator'!$AN$25:$AW$3482,10,)","v":0}]
["Synthetic Short Straddle w Puts","Synthetics and Others",null,null,null,null,null,null,null,null,null,null,null,null,null,null,null,{"$f":"VLOOKUP(Q52,'Option Profit Calculator'!$AN$25:$AW$3482,10,)","v":0}]
["Long Combo","Synthetics and Others",null,null,null,null,null,null,null,null,null,null,null,null,null,null,null,{"$f":"VLOOKUP(Q53,'Option Profit Calculator'!$AN$25:$AW$3482,10,)","v":0}]
["Short Combo","Synthetics and Others",null,null,null,null,null,null,null,null,null,null,null,null,null,null,null,{"$f":"VLOOKUP(Q54,'Option Profit Calculator'!$AN$25:$AW$3482,10,)","v":0}]
["Long Box","Synthetics and Others",null,null,null,null,null,null,null,null,null,null,null,null,null,null,null,{"$f":"VLOOKUP(Q55,'Option Profit Calculator'!$AN$25:$AW$3482,10,)","v":0}]